{"text_format":"1","workbook":"xlsx","n_sheets":11,"sheets":["Introdução","Conversor","Folha1","Economias","Pontos de Monitorização1","Pontos de Monitorização2","Pontos de Monitorização3","Pontos de Monitorização4","Pontos de Monitorização5","Pontos de Monitorização6","Pontos de Monitorização7"],"not_rendered":{"charts":1,"images":3,"macros":1,"external_links":0,"defined_names":9,"comments":0,"pivot_tables":0},"unopened":[],"bounds":{"document_bytes":16777216,"sheet_cells":100000,"rows_first":2000,"rows_last":500,"rows_between":2000,"halvings":0,"cell_chars":16384,"cell_head_chars":4096},"cells_cut":0,"cells_raw":0,"read":"whole","date_system":"1900"}

{"sheet":"Introdução","index":0,"n_rows":18,"n_cols":8,"rows_kept":18,"cut":false,"hidden":false,"merged":[[2,16,2,19],[34,2,34,3],[35,2,35,3],[7,2,10,18]]}
[]
[]
[]
[]
[]
[]
[]
[null,null,"SGCIE - Sistema de Gestão dos Consumos Intensivos de Energia\nFICHA DE COMPROVAÇÃO DE ECONOMIAS DA SOLUÇÃO PROPOSTA\nSistemas de Quantificação, Monitorização Contínua e Gestão de Energia"]
[]
[]
[]
[]
[]
[]
[]
[]
[]
[null,null,null,null,null,null,null,"(TEXTO)"]

{"sheet":"Conversor","index":1,"n_rows":49,"n_cols":8,"rows_kept":49,"cut":false,"hidden":true,"merged":[]}
["Combustível","Unidades","PCI (MJ/kg)","PCI\n(kWh/kg)","PCI (tep/t)","FE\n(kgCO2e/GJ)","FE\n(kgCO2e/tep)","PCI em número ou intervalo?"]
["Selecione",null,null,3600]
["Antracite","(t)",26.7,{"$f":"+C3*1000/$D$2","v":7.416666666666667},0.63800000000000001,98.2,4111.3999999999996,"Número"]
["Betume / Alcatrão","(t)",40.200000000000003,{"$f":"+C4*1000/$D$2","v":11.166666666666666},0.96,80.599999999999994,3374.6,"Número"]
["Biogasolina e Biodiesel","(t)",27,7.5,0.64500000000000002,0,0,"Número"]
["Briquetes de lignite","(t)",20,5.5555555555555554,0.47799999999999998,101.1,4232.8999999999996,"Número"]
["Briquetes de turfa","(t)","16 - 16,8","4,44-4,67","0,382 - 0,401",105.9,4433.8,"Intervalo"]
["Carvão betuminoso","(t)",25.8,7.166666666666667,0.61599999999999999,94.5,3956.5,"Número"]
["Carvão sub-betuminoso","(t)",18.899999999999999,5.25,0.45100000000000001,96,4019.3,"Número"]
["Carvão vegetal","(t)",29.5,8.1944444444444446,0.70499999999999996,0,0,"Número"]
["Combustível para motor (gasolina)","(t)","44 - 45","12,22-12,50","1,051 - 1,075",69.2,2897.3,"Intervalo"]
["Coque de Carvão","(t)",28.2,7.833333333333333,0.67400000000000004,94.5,3956.5,"Número"]
["Coque de forno / lignite ou gás","(t)","28,2 - 28,5","7,83-7,92","0,674 - 0,681",107,4479.8999999999996,"Intervalo"]
["Coque de Petróleo","(t)","31 - 32,5 ","8,67-9,03","0,740 - 0,776",97.5,4082.1,"Intervalo"]
["Energia elétrica","(kWh)",null,1,2.1499999999999999E-4,null,2186,"Número"]
["Etano","(t)",46.4,12.888888888888889,1.1080000000000001,61.6,2579.1,"Número"]
["Fuelóleo pesado","(t)","40 - 40,4 ","11,11-11,22","0,955 - 0,965",77.3,3236.4,"Intervalo"]
["Fuelóleo ","(t)",41.2,11.444444444444445,0.98399999999999999,77.3,3236.4,"Número"]
["Gás de Alto Forno","(t)",2.5,0.69444444444444442,0.06,259.39999999999998,10860.6,"Número"]
["Gás de coqueria e de fábricas de Gás","(t)",38.700000000000003,10.75,0.92400000000000004,44.7,1871.5,"Número"]
["Gás de forno de acearia a oxigénio","(t)",7.1,1.9722222222222223,0.17,171.8,7192.9,"Número"]
["Gás de petróleo liquefeito","(t)","46 - 47,3","12,78-13,14","1,099 - 1,130",63,2637.7,"Intervalo"]
["Gás de Refinaria","(t)",49.5,13.75,1.1819999999999999,51.3,2147.8000000000002,"Número"]
["Gás natural (superior a 93% de metano)","(t)","47,2 - 48","13,11-13,33","1,127 - 1,146",56.1,2348.8000000000002,"Intervalo"]
["Gás natural liquefeito","(t)","44,2 - 45,2","12,28-12,56","1,056 - 1,080",64.099999999999994,2683.7,"Intervalo"]
["Gás natural","(t)",45.1,12.527777777777779,1.077,64.099999999999994,2683.7,"Número"]
["Gases de aterro/ lamas de depuração e outros biogases","(t)",50.4,14,1.204,0,0,"Número"]
["Gasóleo / Diesel","(t)","42,3 - 43,3","11,75-12,03","1,010 - 1,034",74,3098.2,"Intervalo"]
["Hulha","(t)","17,2 - 30,7","4,78-8,53","0,411 - 0,733",97.5,4082.1,"Intervalo"]
["Lignite castanha","(t)","5,6 - 10,5","1,56-2,92","0,134 - 0,251",101.1,4232.8999999999996,"Intervalo"]
["Lignite negra","(t)","10-21","2,78-5,83","0,239 - 0,502",101.1,4232.8999999999996,"Intervalo"]
["Lubrificantes, ceras parafínicas e outros produtos Petrolíferos","(t)",40.200000000000003,11.166666666666666,0.96,73.3,3068.9,"Número"]
["Madeira / resíduos de Madeira","(t)","13,8 - 15,6","3,83-4,33","0,330 - 0,373",0,0,"Intervalo"]
["Matérias-primas para refinaria","(t)",43,11.944444444444445,1.0269999999999999,73.3,3068.9,"Número"]
["Metano","(t)",50,{"$f":"+C35*1000/$D$2","v":13.888888888888889},1.194,54.9,2298.6,"Número"]
["Monóxido de Carbono","(t)",10.1,2.8055555555555554,0.24099999999999999,155.19999999999999,6497.9,"Número"]
["Nafta química / Condensados de gasolina","(t)",44.5,12.361111111111111,1.0629999999999999,73.3,3068.9,"Número"]
["Óleo de xisto","(t)",38.1,10.583333333333334,0.91,73.3,3068.9,"Número"]
["Óleos usados","(t)",40.200000000000003,11.166666666666666,0.96,73.3,3068.9,"Número"]
["Orimulsão","(t)",27.5,7.6388888888888893,0.65700000000000003,76.900000000000006,3219.6,"Número"]
["Outra",null,null,null,null,null,null,"Número"]
["Outra biomassa primária sólida","(t)",11.6,3.2222222222222223,0.27700000000000002,0,0,"Número"]
["Outros biocombustíveis Líquidos","(t)",27.4,7.6111111111111107,0.65400000000000003,0,0,"Número"]
["Peletes / briquetes de madeira","(t)",16.8,4.666666666666667,0.40100000000000002,0,0,"Número"]
["Petróleo Bruto","(t)",42.3,11.75,1.01,73.3,3068.9,"Número"]
["Querosene","(t)",43.8,12.166666666666666,1.046,71.8,3006.1,"Número"]
["Resíduos Industriais","(t)","7,4 - 10,7","2,06-2,97","0,177 - 0,256",142.9,5982.9,"Intervalo"]
["Turfa","(t)","7,8 - 13,8","2,17-3,83","0,186 - 0,330",105.9,4433.8,"Intervalo"]
["Xisto betuminoso","(t)","8 - 9",12752.222222222223,"0,191 - 0,215",106.6,4463.1000000000004,"Intervalo"]

{"sheet":"Folha1","index":2,"n_rows":20,"n_cols":2,"rows_kept":20,"cut":false,"hidden":true,"merged":[]}
[]
[]
[]
[]
[]
[]
[]
[]
[]
[]
[]
[]
[null,"Selecione"]
[null,1]
[null,2]
[null,3]
[null,4]
[null,5]
[null,6]
[null,7]

{"sheet":"Economias","index":3,"n_rows":125,"n_cols":14,"rows_kept":125,"cut":false,"hidden":false,"merged":[[109,7,112,7],[114,2,116,2],[118,2,119,2],[118,5,118,6],[0,1,1,13],[104,3,104,4],[105,1,119,1],[105,2,107,2],[109,2,112,2],[109,5,112,6],[90,1,103,1],[90,2,96,2],[97,2,100,2],[97,5,100,6],[97,7,100,7],[101,2,103,2],[76,1,89,1],[76,2,82,2],[83,2,86,2],[83,5,86,6],[83,7,86,7],[87,2,89,2],[62,1,75,1],[62,2,68,2],[69,2,72,2],[69,5,72,6],[69,7,72,7],[73,2,75,2],[48,1,61,1],[48,2,54,2],[55,2,58,2],[55,5,58,6],[55,7,58,7],[59,2,61,2],[34,1,47,1],[34,2,40,2],[41,2,44,2],[41,5,44,6],[41,7,44,7],[45,2,47,2],[20,1,33,1],[20,2,26,2],[27,2,30,2],[27,5,30,6],[27,7,30,7],[31,2,33,2],[6,11,7,11],[6,12,7,13],[8,13,10,13],[13,2,16,2],[13,5,16,6],[13,7,16,7],[4,1,4,3],[6,1,19,1],[6,2,12,2],[6,7,7,9],[6,10,7,10],[17,2,19,2]]}
[null,"SISTEMAS DE QUANTIFICAÇÃO, MONITORIZAÇÃO CONTÍNUA E GESTÃO DE ENERGIA"]
[]
[]
[]
[null,"Quantidade de formas de energia a serem  influenciadas por esta ação",null,null,"Selecione"]
[]
[null,"# 1","SITUAÇÃO ATUAL","Forma de energia usada",null,null,null,"FORMAÇÃO E SENSIBILIZAÇÃO",null,null,"SITUAÇÃO ATUAL","SITUAÇÃO FUTURA","ECONOMIAS"]
[null,null,null,{"$f":"IF(E7=\"Energia elétrica\",\"Utilização anual de \"&$E$7&\" (kWh/ano)\",\"Utilização anual de \"&$E$7&\" (t/ano)\")","v":"Utilização anual de  (t/ano)"}]
[null,null,null,{"$f":"\"Custo anual de \"&$E$7&\" (€/ano)\"","v":"Custo anual de  (€/ano)"},null,"Fatores de conversão",null,"Energia primária anual (tep/ano)",null,null,{"$f":"+E107","v":0},{"$f":"+E111","v":0},{"$f":"IFERROR((K9-L9),\"\")","v":0},{"$f":"IFERROR((M9/K9),\"\")","v":""}]
[null,null,null,{"$f":"+IF(E7=\"Energia Elétrica\",\"Fator de conversão para tep (tep/kWh)\",\"Fator de conversão para tep (tep/t)\")","v":"Fator de conversão para tep (tep/t)"},null,{"$f":"IF(G10=\"Intervalo\",\"Escolher o fator entre: \"&VLOOKUP($E$7,Conversor!$A$3:$E$49,5,FALSE)&\"\",VLOOKUP($E$7,Conversor!$A$3:$E$49,5,FALSE))","v":{"$error":"#N/A"}},{"$f":"+VLOOKUP($E7,Conversor!$A$3:$H$49,8)","v":{"$error":"#N/A"}},"Emissão de CO2e anual (t CO2e/ano)",null,null,{"$f":"+E108","v":0},{"$f":"+E113","v":0},{"$f":"IFERROR(K10-L10,\"\")","v":0}]
[null,null,null,"Fator de conversão para CO2e (kg CO2e/tep)",null,{"$f":"VLOOKUP($E$7,Conversor!$A$3:$G$49,7,FALSE)","v":{"$error":"#N/A"}},null,"Custo energético anual (€/ano)",null,null,{"$f":"+E106","v":0},{"$f":"+E112","v":0},0]
[null,null,null,{"$f":"\"Utilização anual de \"&$E$7&\" (tep/ano)\"","v":"Utilização anual de  (tep/ano)"},{"$f":"+E8*E10","v":0}]
[null,null,null,"Emissão anual de CO2e (t CO2e/ano)",{"$f":"(E11*E12)/1000","v":0}]
[null,null,"SITUAÇÃO\nFUTURA","Economia anual de energia (%)",null,{"$f":"IF(E14>2,\"São aceitáveis economias de energia até 2%.\",\"\")","v":""},null,{"$f":"+IF(E14>2,\"⚠\",\"\")","v":""}]
[null,null,null,"Utilização anual de energia primária (tep/ano)",{"$f":"+E12*((100-E14)/100)","v":0}]
[null,null,null,"Custo anual de energia (€/ano)",{"$f":"+E9*((100-E14)/100)","v":0}]
[null,null,null,"Emissão anual de CO2e (t CO2e/ano)",{"$f":"+E13*((100-E14)/100)","v":0}]
[null,null,"ECONOMIAS","Economia anual de energia primária (tep/ano)",{"$f":"+E12-E15","v":0}]
[null,null,null,"Economia anual de custo (€/ano)",{"$f":"+E9-E16","v":0}]
[null,null,null,"Emissão anual de CO2e (t CO2e/ano)",{"$f":"+E13-E17","v":0}]
[null,"# 2","SITUAÇÃO ATUAL","Forma de energia usada"]
[null,null,null,{"$f":"IF(E21=\"Energia elétrica\",\"Utilização anual de \"&$E$21&\" (kWh/ano)\",\"Utilização anual de \"&$E$21&\" (t/ano)\")","v":"Utilização anual de  (t/ano)"}]
[null,null,null,{"$f":"\"Custo anual de \"&$E$21&\" (€/ano)\"","v":"Custo anual de  (€/ano)"},null,"Fatores de conversão"]
[null,null,null,{"$f":"+IF(E21=\"Energia Elétrica\",\"Fator de conversão para tep (tep/kWh)\",\"Fator de conversão para tep (tep/t)\")","v":"Fator de conversão para tep (tep/t)"},null,{"$f":"IF(G24=\"Intervalo\",\"Escolher o fator entre: \"&VLOOKUP($E$21,Conversor!$A$3:$E$49,5,FALSE)&\"\",VLOOKUP($E$21,Conversor!$A$3:$E$49,5,FALSE))","v":{"$error":"#N/A"}},{"$f":"+VLOOKUP($E21,Conversor!$A$3:$H$49,8)","v":{"$error":"#N/A"}}]
[null,null,null,"Fator de conversão para CO2e (kg CO2e/tep)",null,{"$f":"VLOOKUP($E$21,Conversor!$A$3:$G$49,7,FALSE)","v":{"$error":"#N/A"}}]
[null,null,null,{"$f":"\"Utilização anual de \"&$E$21&\" (tep/ano)\"","v":"Utilização anual de  (tep/ano)"},{"$f":"+E22*E24","v":0}]
[null,null,null,"Emissão anual de CO2e (t CO2e/ano)",{"$f":"(E25*E26)/1000","v":0}]
[null,null,"SITUAÇÃO\nFUTURA","Economia anual de energia (%)",null,{"$f":"IF(E28>2,\"São aceitáveis economias de energia até 2%.\",\"\")","v":""},null,{"$f":"+IF(E28>2,\"⚠\",\"\")","v":""}]
[null,null,null,"Utilização anual de energia primária (tep/ano)",{"$f":"+E26*((100-E28)/100)","v":0}]
[null,null,null,"Custo anual de energia (€/ano)",{"$f":"+E23*((100-E28)/100)","v":0}]
[null,null,null,"Emissão anual de CO2e (t CO2e/ano)",{"$f":"+E27*((100-E28)/100)","v":0}]
[null,null,"ECONOMIAS","Economia anual de energia primária (tep/ano)",{"$f":"+E26-E29","v":0}]
[null,null,null,"Economia anual de custo (€/ano)",{"$f":"+E23-E30","v":0}]
[null,null,null,"Emissão anual de CO2e (t CO2e/ano)",{"$f":"+E27-E31","v":0}]
[null,"# 3","SITUAÇÃO ATUAL","Forma de energia usada"]
[null,null,null,{"$f":"IF(E35=\"Energia elétrica\",\"Utilização anual de \"&$E$35&\" (kWh/ano)\",\"Utilização anual de \"&$E$35&\" (t/ano)\")","v":"Utilização anual de  (t/ano)"}]
[null,null,null,{"$f":"\"Custo anual de \"&$E$35&\" (€/ano)\"","v":"Custo anual de  (€/ano)"},null,"Fatores de conversão"]
[null,null,null,{"$f":"+IF(E35=\"Energia Elétrica\",\"Fator de conversão para tep (tep/kWh)\",\"Fator de conversão para tep (tep/t)\")","v":"Fator de conversão para tep (tep/t)"},null,{"$f":"IF(G38=\"Intervalo\",\"Escolher o fator entre: \"&VLOOKUP($E$35,Conversor!$A$3:$E$49,5,FALSE)&\"\",VLOOKUP($E$35,Conversor!$A$3:$E$49,5,FALSE))","v":{"$error":"#N/A"}},{"$f":"+VLOOKUP($E35,Conversor!$A$3:$H$49,8)","v":{"$error":"#N/A"}}]
[null,null,null,"Fator de conversão para CO2e (kg CO2e/tep)",null,{"$f":"VLOOKUP($E$35,Conversor!$A$3:$G$49,7,FALSE)","v":{"$error":"#N/A"}}]
[null,null,null,{"$f":"\"Utilização anual de \"&$E$35&\" (tep/ano)\"","v":"Utilização anual de  (tep/ano)"},{"$f":"+E36*E38","v":0}]
[null,null,null,"Emissão anual de CO2e (t CO2e/ano)",{"$f":"(E39*E40)/1000","v":0}]
[null,null,"SITUAÇÃO\nFUTURA","Economia anual de energia (%)",null,{"$f":"IF(E42>2,\"São aceitáveis economias de energia até 2%.\",\"\")","v":""},null,{"$f":"+IF(E42>2,\"⚠\",\"\")","v":""}]
[null,null,null,"Utilização anual de energia primária (tep/ano)",{"$f":"+E40*((100-E42)/100)","v":0}]
[null,null,null,"Custo anual de energia (€/ano)",{"$f":"+E37*((100-E42)/100)","v":0}]
[null,null,null,"Emissão anual de CO2e (t CO2e/ano)",{"$f":"+E41*((100-E42)/100)","v":0}]
[null,null,"ECONOMIAS","Economia anual de energia primária (tep/ano)",{"$f":"+E40-E43","v":0}]
[null,null,null,"Economia anual de custo (€/ano)",{"$f":"+E37-E44","v":0}]
[null,null,null,"Emissão anual de CO2e (t CO2e/ano)",{"$f":"+E41-E45","v":0}]
[null,"# 4","SITUAÇÃO ATUAL","Forma de energia usada"]
[null,null,null,{"$f":"IF(E49=\"Energia elétrica\",\"Utilização anual de \"&$E$49&\" (kWh/ano)\",\"Utilização anual de \"&$E$49&\" (t/ano)\")","v":"Utilização anual de  (t/ano)"}]
[null,null,null,{"$f":"\"Custo anual de \"&$E$49&\" (€/ano)\"","v":"Custo anual de  (€/ano)"},null,"Fatores de conversão"]
[null,null,null,{"$f":"+IF(E49=\"Energia Elétrica\",\"Fator de conversão para tep (tep/kWh)\",\"Fator de conversão para tep (tep/t)\")","v":"Fator de conversão para tep (tep/t)"},null,{"$f":"IF(G52=\"Intervalo\",\"Escolher o fator entre: \"&VLOOKUP($E$49,Conversor!$A$3:$E$49,5,FALSE)&\"\",VLOOKUP($E$49,Conversor!$A$3:$E$49,5,FALSE))","v":{"$error":"#N/A"}},{"$f":"+VLOOKUP($E49,Conversor!$A$3:$H$49,8)","v":{"$error":"#N/A"}}]
[null,null,null,"Fator de conversão para CO2e (kg CO2e/tep)",null,{"$f":"VLOOKUP($E$49,Conversor!$A$3:$G$49,7,FALSE)","v":{"$error":"#N/A"}}]
[null,null,null,{"$f":"\"Utilização anual de \"&$E$49&\" (tep/ano)\"","v":"Utilização anual de  (tep/ano)"},{"$f":"+E50*E52","v":0}]
[null,null,null,"Emissão anual de CO2e (t CO2e/ano)",{"$f":"(E53*E54)/1000","v":0}]
[null,null,"SITUAÇÃO\nFUTURA","Economia anual de energia (%)",null,{"$f":"IF(E56>2,\"São aceitáveis economias de energia até 2%.\",\"\")","v":""},null,{"$f":"+IF(E56>2,\"⚠\",\"\")","v":""}]
[null,null,null,"Utilização anual de energia primária (tep/ano)",{"$f":"+E54*((100-E56)/100)","v":0}]
[null,null,null,"Custo anual de energia (€/ano)",{"$f":"+E51*((100-E56)/100)","v":0}]
[null,null,null,"Emissão anual de CO2e (t CO2e/ano)",{"$f":"+E55*((100-E56)/100)","v":0}]
[null,null,"ECONOMIAS","Economia anual de energia primária (tep/ano)",{"$f":"+E54-E57","v":0}]
[null,null,null,"Economia anual de custo (€/ano)",{"$f":"+E51-E58","v":0}]
[null,null,null,"Emissão anual de CO2e (t CO2e/ano)",{"$f":"+E55-E59","v":0}]
[null,"# 5","SITUAÇÃO ATUAL","Forma de energia usada"]
[null,null,null,{"$f":"IF(E63=\"Energia elétrica\",\"Utilização anual de \"&$E$63&\" (kWh/ano)\",\"Utilização anual de \"&$E$63&\" (t/ano)\")","v":"Utilização anual de  (t/ano)"}]
[null,null,null,{"$f":"\"Custo anual de \"&$E$63&\" (€/ano)\"","v":"Custo anual de  (€/ano)"},null,"Fatores de conversão"]
[null,null,null,{"$f":"+IF(E63=\"Energia Elétrica\",\"Fator de conversão para tep (tep/kWh)\",\"Fator de conversão para tep (tep/t)\")","v":"Fator de conversão para tep (tep/t)"},null,{"$f":"IF(G66=\"Intervalo\",\"Escolher o fator entre: \"&VLOOKUP($E$63,Conversor!$A$3:$E$49,5,FALSE)&\"\",VLOOKUP($E$63,Conversor!$A$3:$E$49,5,FALSE))","v":{"$error":"#N/A"}},{"$f":"+VLOOKUP($E63,Conversor!$A$3:$H$49,8)","v":{"$error":"#N/A"}}]
[null,null,null,"Fator de conversão para CO2e (kg CO2e/tep)",null,{"$f":"+VLOOKUP($E$63,Conversor!$A$3:$G$49,7,FALSE)","v":{"$error":"#N/A"}}]
[null,null,null,{"$f":"\"Utilização anual de \"&$E$63&\" (tep/ano)\"","v":"Utilização anual de  (tep/ano)"},{"$f":"+E64*E66","v":0}]
[null,null,null,"Emissão anual de CO2e (t CO2e/ano)",{"$f":"(E67*E68)/1000","v":0}]
[null,null,"SITUAÇÃO\nFUTURA","Economia anual de energia (%)",null,{"$f":"IF(E70>2,\"São aceitáveis economias de energia até 2%.\",\"\")","v":""},null,{"$f":"+IF(E70>2,\"⚠\",\"\")","v":""}]
[null,null,null,"Utilização anual de energia primária (tep/ano)",{"$f":"+E68*((100-E70)/100)","v":0}]
[null,null,null,"Custo anual de energia (€/ano)",{"$f":"+E65*((100-E70)/100)","v":0}]
[null,null,null,"Emissão anual de CO2e (t CO2e/ano)",{"$f":"+E69*((100-E70)/100)","v":0}]
[null,null,"ECONOMIAS","Economia anual de energia primária (tep/ano)",{"$f":"+E68-E71","v":0}]
[null,null,null,"Economia anual de custo (€/ano)",{"$f":"+E65-E72","v":0}]
[null,null,null,"Emissão anual de CO2e (t CO2e/ano)",{"$f":"+E69-E73","v":0}]
[null,"# 6","SITUAÇÃO ATUAL","Forma de energia usada"]
[null,null,null,{"$f":"IF(E77=\"Energia elétrica\",\"Utilização anual de \"&$E$77&\" (kWh/ano)\",\"Utilização anual de \"&$E$77&\" (t/ano)\")","v":"Utilização anual de  (t/ano)"}]
[null,null,null,{"$f":"\"Custo anual de \"&$E$77&\" (€/ano)\"","v":"Custo anual de  (€/ano)"},null,"Fatores de conversão"]
[null,null,null,{"$f":"+IF(E77=\"Energia Elétrica\",\"Fator de conversão para tep (tep/kWh)\",\"Fator de conversão para tep (tep/t)\")","v":"Fator de conversão para tep (tep/t)"},null,{"$f":"IF(G80=\"Intervalo\",\"Escolher o fator entre: \"&VLOOKUP($E$77,Conversor!$A$3:$E$49,5,FALSE)&\"\",VLOOKUP($E$77,Conversor!$A$3:$E$49,5,FALSE))","v":{"$error":"#N/A"}},{"$f":"+VLOOKUP($E77,Conversor!$A$3:$H$49,8)","v":{"$error":"#N/A"}}]
[null,null,null,"Fator de conversão para CO2e (kg CO2e/tep)",null,{"$f":"+VLOOKUP($E$77,Conversor!$A$3:$G$49,7,FALSE)","v":{"$error":"#N/A"}}]
[null,null,null,{"$f":"\"Utilização anual de \"&$E$77&\" (tep/ano)\"","v":"Utilização anual de  (tep/ano)"},{"$f":"+E78*E80","v":0}]
[null,null,null,"Emissão anual de CO2e (t CO2e/ano)",{"$f":"(E81*E82)/1000","v":0}]
[null,null,"SITUAÇÃO\nFUTURA","Economia anual de energia (%)",null,{"$f":"IF(E84>2,\"São aceitáveis economias de energia até 2%.\",\"\")","v":""},null,{"$f":"+IF(E84>2,\"⚠\",\"\")","v":""}]
[null,null,null,"Utilização anual de energia primária (tep/ano)",{"$f":"+E82*((100-E84)/100)","v":0}]
[null,null,null,"Custo anual de energia (€/ano)",{"$f":"+E79*((100-E84)/100)","v":0}]
[null,null,null,"Emissão anual de CO2e (t CO2e/ano)",{"$f":"+E83*((100-E84)/100)","v":0}]
[null,null,"ECONOMIAS","Economia anual de energia primária (tep/ano)",{"$f":"+E82-E85","v":0}]
[null,null,null,"Economia anual de custo (€/ano)",{"$f":"+E79-E86","v":0}]
[null,null,null,"Emissão anual de CO2e (t CO2e/ano)",{"$f":"+E83-E87","v":0}]
[null,"# 7","SITUAÇÃO ATUAL","Forma de energia usada"]
[null,null,null,{"$f":"IF(E91=\"Energia elétrica\",\"Utilização anual de \"&$E$91&\" (kWh/ano)\",\"Utilização anual de \"&$E$91&\" (t/ano)\")","v":"Utilização anual de  (t/ano)"}]
[null,null,null,{"$f":"\"Custo anual de \"&$E$91&\" (€/ano)\"","v":"Custo anual de  (€/ano)"},null,"Fatores de conversão"]
[null,null,null,{"$f":"+IF(E91=\"Energia Elétrica\",\"Fator de conversão para tep (tep/kWh)\",\"Fator de conversão para tep (tep/t)\")","v":"Fator de conversão para tep (tep/t)"},null,{"$f":"IF(G94=\"Intervalo\",\"Escolher o fator entre: \"&VLOOKUP($E$91,Conversor!$A$3:$E$49,5,FALSE)&\"\",VLOOKUP($E$91,Conversor!$A$3:$E$49,5,FALSE))","v":{"$error":"#N/A"}},{"$f":"+VLOOKUP($E91,Conversor!$A$3:$H$49,8)","v":{"$error":"#N/A"}}]
[null,null,null,"Fator de conversão para CO2e (kg CO2e/tep)",null,{"$f":"+VLOOKUP($E$91,Conversor!$A$3:$G$49,7,FALSE)","v":{"$error":"#N/A"}}]
[null,null,null,{"$f":"\"Utilização anual de \"&$E$91&\" (tep/ano)\"","v":"Utilização anual de  (tep/ano)"},{"$f":"+E92*E94","v":0}]
[null,null,null,"Emissão anual de CO2e (t CO2e/ano)",{"$f":"(E95*E96)/1000","v":0}]
[null,null,"SITUAÇÃO\nFUTURA","Economia anual de energia (%)",null,{"$f":"IF(E98>2,\"São aceitáveis economias de energia até 2%.\",\"\")","v":""},null,{"$f":"+IF(E98>2,\"⚠\",\"\")","v":""}]
[null,null,null,"Utilização anual de energia primária (tep/ano)",{"$f":"+E96*((100-E98)/100)","v":0}]
[null,null,null,"Custo anual de energia (€/ano)",{"$f":"+E93*((100-E98)/100)","v":0}]
[null,null,null,"Emissão anual de CO2e (t CO2e/ano)",{"$f":"+E97*((100-E98)/100)","v":0}]
[null,null,"ECONOMIAS","Economia anual de energia primária (tep/ano)",{"$f":"+E96-E99","v":0}]
[null,null,null,"Economia anual de custo (€/ano)",{"$f":"+E93-E100","v":0}]
[null,null,null,"Emissão anual de CO2e (t CO2e/ano)",{"$f":"+E97-E101","v":0}]
[]
[null,"GLOBAL","SITUAÇÃO ATUAL","Custo anual (€/ano)",{"$f":"IF($E$5=1,E9,IF($E$5=2,(E23+E9),IF($E$5=3,E37+E23+E9,IF($E$5=4,E51+E37+E23+E9,IF($E$5=5,E65+E51+E37+E23+E9,IF($E$5=6,E79+E65+E51+E37+E23+E9,E93+E79+E65+E51+E37+E23+E9))))))","v":0}]
[null,null,null,"Utilização anual de energia (tep/ano)",{"$f":"IF($E$5=1,E12,IF($E$5=2,(E26+E12),IF($E$5=3,E40+E26+E12,IF($E$5=4,E54+E40+E26+E12,IF($E$5=5,E68+E54+E40+E26+E12,IF($E$5=6,E82+E68+E54+E40+E26+E12,E96+E82+E68+E54+E40+E26+E12))))))","v":0}]
[null,null,null,"Emissão anual de CO2e (t CO2e/ano)",{"$f":"IF($E$5=1,E13,IF($E$5=2,(E27+E13),IF($E$5=3,E41+E27+E13,IF($E$5=4,E55+E41+E27+E13,IF($E$5=5,E69+E55+E41+E27+E13,IF($E$5=6,E83+E69+E55+E41+E27+E13,E97+E83+E69+E55+E41+E27+E13))))))","v":0}]
[]
[null,null,"SITUAÇÃO\nFUTURA","Economia anual de energia (%)",{"$f":"IFERROR((E115/E107)*100,\"\")","v":""},{"$f":"IF(E110>2,\"São aceitáveis economias de energia até 2%.\",\"\")","v":"São aceitáveis economias de energia até 2%."},null,{"$f":"+IF(E110>2,\"⚠\",\"\")","v":"⚠"}]
[null,null,null,"Utilização anual de energia primária (tep/ano)",{"$f":"IF($E$5=1,E15,IF($E$5=2,(E29+E15),IF($E$5=3,E43+E29+E15,IF($E$5=4,E57+E43+E29+E15,IF($E$5=5,E71+E57+E43+E29+E15,IF($E$5=6,E85+E71+E57+E43+E29+E15,E99+E85+E71+E57+E43+E29+E15))))))","v":0}]
[null,null,null,"Custo anual de energia (€/ano)",{"$f":"IF($E$5=1,E16,IF($E$5=2,(E30+E16),IF($E$5=3,E44+E30+E16,IF($E$5=4,E58+E44+E30+E16,IF($E$5=5,E72+E58+E44+E30+E16,IF($E$5=6,E86+E72+E58+E44+E30+E16,E100+E86+E72+E58+E44+E30+E16))))))","v":0}]
[null,null,null,"Emissão anual de CO2e (t CO2e/ano)",{"$f":"IF($E$5=1,E17,IF($E$5=2,(E31+E17),IF($E$5=3,E45+E31+E17,IF($E$5=4,E59+E45+E31+E17,IF($E$5=5,E73+E59+E45+E31+E17,IF($E$5=6,E87+E73+E59+E45+E31+E17,E101+E87+E73+E59+E45+E31+E17))))))","v":0}]
[]
[null,null,"ECONOMIAS","Economia anual de energia primária (tep/ano)",{"$f":"+E107-E111","v":0}]
[null,null,null,"Economia anual de custo (€/ano)",{"$f":"+E106-E112","v":0}]
[null,null,null,"Emissão anual de CO2e (t CO2e/ano)",{"$f":"+E108-E113","v":0}]
[]
[null,null,"AVALIAÇÃO\nECONÓMICA","Investimento (€)"]
[null,null,null,"Período de retorno do investimento (ano)",{"$f":"IFERROR(+E119/E116,0)","v":0}]
[]
[]
[null,null,"Situação atual",{"$f":"+E107","v":0},1]
[null,null,"Situação futura",{"$f":"+E111","v":0},{"$f":"IFERROR(D124/D123,0)","v":0}]
[null,null,"Economia",{"$f":"+D123-D124","v":0},{"$f":"IFERROR(D125/D123,0)","v":0}]

{"sheet":"Pontos de Monitorização1","index":4,"n_rows":1011,"n_cols":5,"rows_kept":1011,"cut":false,"hidden":true,"merged":[[1,1,2,4],[4,1,4,2],[5,1,5,2],[7,1,7,2]]}
[]
[null,"SISTEMAS DE QUANTIFICAÇÃO, MONITORIZAÇÃO CONTÍNUA E GESTÃO DE ENERGIA"]
[]
[]
[null,"Identifique a fonte de energia:",null,{"$f":"+Economias!E7","v":0},"(t)"]
[null,"Fator de conversão:",null,{"$f":"+Economias!E10","v":0},{"$f":"\"tep/\"&$E$5&\"\"","v":"tep/(t)"}]
[]
[null,"Indique o número total de pontos a monitorizar:"]
[]
[]
[null,"número do ponto de monitorização","Identificação do ponto de monitorização",{"$f":"IF(D5=\"Energia elétrica\",\"Utilização anual de \"&$D$5&\" (kWh/ano)\",\"Utilização anual de \"&$D$5&\" (t/ano)\")","v":"Utilização anual de 0 (t/ano)"},"Consumo energético referente ao ano de referência (tep/ano)"]
[null,1,null,null,{"$f":"IF(ISNUMBER($D$6),D12*$D$6,#REF!*D12)","v":0}]
[null,{"$f":"+B12+1","v":2},null,null,{"$f":"IF(ISNUMBER($D$6),D13*$D$6,#REF!*D13)","v":0}]
[null,{"$f":"+B13+1","v":3},null,null,{"$f":"IF(ISNUMBER($D$6),D14*$D$6,#REF!*D14)","v":0}]
[null,4,null,null,{"$f":"IF(ISNUMBER($D$6),D15*$D$6,#REF!*D15)","v":0}]
[null,5,null,null,{"$f":"IF(ISNUMBER($D$6),D16*$D$6,#REF!*D16)","v":0}]
[null,6,null,null,{"$f":"IF(ISNUMBER($D$6),D17*$D$6,#REF!*D17)","v":0}]
[null,7,null,null,{"$f":"IF(ISNUMBER($D$6),D18*$D$6,#REF!*D18)","v":0}]
[null,8,null,null,{"$f":"IF(ISNUMBER($D$6),D19*$D$6,#REF!*D19)","v":0}]
[null,9,null,null,{"$f":"IF(ISNUMBER($D$6),D20*$D$6,#REF!*D20)","v":0}]
[null,10,null,null,{"$f":"IF(ISNUMBER($D$6),D21*$D$6,#REF!*D21)","v":0}]
[null,11,null,null,{"$f":"IF(ISNUMBER($D$6),D22*$D$6,#REF!*D22)","v":0}]
[null,12,null,null,{"$f":"IF(ISNUMBER($D$6),D23*$D$6,#REF!*D23)","v":0}]
[null,13,null,null,{"$f":"IF(ISNUMBER($D$6),D24*$D$6,#REF!*D24)","v":0}]
[null,14,null,null,{"$f":"IF(ISNUMBER($D$6),D25*$D$6,#REF!*D25)","v":0}]
[null,15,null,null,{"$f":"IF(ISNUMBER($D$6),D26*$D$6,#REF!*D26)","v":0}]
[null,16,null,null,{"$f":"IF(ISNUMBER($D$6),D27*$D$6,#REF!*D27)","v":0}]
[null,17,null,null,{"$f":"IF(ISNUMBER($D$6),D28*$D$6,#REF!*D28)","v":0}]
[null,18,null,null,{"$f":"IF(ISNUMBER($D$6),D29*$D$6,#REF!*D29)","v":0}]
[null,19,null,null,{"$f":"IF(ISNUMBER($D$6),D30*$D$6,#REF!*D30)","v":0}]
[null,20,null,null,{"$f":"IF(ISNUMBER($D$6),D31*$D$6,#REF!*D31)","v":0}]
[null,21,null,null,{"$f":"IF(ISNUMBER($D$6),D32*$D$6,#REF!*D32)","v":0}]
[null,22,null,null,{"$f":"IF(ISNUMBER($D$6),D33*$D$6,#REF!*D33)","v":0}]
[null,23,null,null,{"$f":"IF(ISNUMBER($D$6),D34*$D$6,#REF!*D34)","v":0}]
[null,24,null,null,{"$f":"IF(ISNUMBER($D$6),D35*$D$6,#REF!*D35)","v":0}]
[null,25,null,null,{"$f":"IF(ISNUMBER($D$6),D36*$D$6,#REF!*D36)","v":0}]
[null,26,null,null,{"$f":"IF(ISNUMBER($D$6),D37*$D$6,#REF!*D37)","v":0}]
[null,27,null,null,{"$f":"IF(ISNUMBER($D$6),D38*$D$6,#REF!*D38)","v":0}]
[null,28,null,null,{"$f":"IF(ISNUMBER($D$6),D39*$D$6,#REF!*D39)","v":0}]
[null,29,null,null,{"$f":"IF(ISNUMBER($D$6),D40*$D$6,#REF!*D40)","v":0}]
[null,30,null,null,{"$f":"IF(ISNUMBER($D$6),D41*$D$6,#REF!*D41)","v":0}]
[null,31,null,null,{"$f":"IF(ISNUMBER($D$6),D42*$D$6,#REF!*D42)","v":0}]
[null,32,null,null,{"$f":"IF(ISNUMBER($D$6),D43*$D$6,#REF!*D43)","v":0}]
[null,33,null,null,{"$f":"IF(ISNUMBER($D$6),D44*$D$6,#REF!*D44)","v":0}]
[null,34,null,null,{"$f":"IF(ISNUMBER($D$6),D45*$D$6,#REF!*D45)","v":0}]
[null,35,null,null,{"$f":"IF(ISNUMBER($D$6),D46*$D$6,#REF!*D46)","v":0}]
[null,36,null,null,{"$f":"IF(ISNUMBER($D$6),D47*$D$6,#REF!*D47)","v":0}]
[null,37,null,null,{"$f":"IF(ISNUMBER($D$6),D48*$D$6,#REF!*D48)","v":0}]
[null,38,null,null,{"$f":"IF(ISNUMBER($D$6),D49*$D$6,#REF!*D49)","v":0}]
[null,39,null,null,{"$f":"IF(ISNUMBER($D$6),D50*$D$6,#REF!*D50)","v":0}]
[null,40,null,null,{"$f":"IF(ISNUMBER($D$6),D51*$D$6,#REF!*D51)","v":0}]
[null,41,null,null,{"$f":"IF(ISNUMBER($D$6),D52*$D$6,#REF!*D52)","v":0}]
[null,42,null,null,{"$f":"IF(ISNUMBER($D$6),D53*$D$6,#REF!*D53)","v":0}]
[null,43,null,null,{"$f":"IF(ISNUMBER($D$6),D54*$D$6,#REF!*D54)","v":0}]
[null,44,null,null,{"$f":"IF(ISNUMBER($D$6),D55*$D$6,#REF!*D55)","v":0}]
[null,45,null,null,{"$f":"IF(ISNUMBER($D$6),D56*$D$6,#REF!*D56)","v":0}]
[null,46,null,null,{"$f":"IF(ISNUMBER($D$6),D57*$D$6,#REF!*D57)","v":0}]
[null,47,null,null,{"$f":"IF(ISNUMBER($D$6),D58*$D$6,#REF!*D58)","v":0}]
[null,48,null,null,{"$f":"IF(ISNUMBER($D$6),D59*$D$6,#REF!*D59)","v":0}]
[null,49,null,null,{"$f":"IF(ISNUMBER($D$6),D60*$D$6,#REF!*D60)","v":0}]
[null,50,null,null,{"$f":"IF(ISNUMBER($D$6),D61*$D$6,#REF!*D61)","v":0}]
[null,51,null,null,{"$f":"IF(ISNUMBER($D$6),D62*$D$6,#REF!*D62)","v":0}]
[null,52,null,null,{"$f":"IF(ISNUMBER($D$6),D63*$D$6,#REF!*D63)","v":0}]
[null,53,null,null,{"$f":"IF(ISNUMBER($D$6),D64*$D$6,#REF!*D64)","v":0}]
[null,54,null,null,{"$f":"IF(ISNUMBER($D$6),D65*$D$6,#REF!*D65)","v":0}]
[null,55,null,null,{"$f":"IF(ISNUMBER($D$6),D66*$D$6,#REF!*D66)","v":0}]
[null,56,null,null,{"$f":"IF(ISNUMBER($D$6),D67*$D$6,#REF!*D67)","v":0}]
[null,57,null,null,{"$f":"IF(ISNUMBER($D$6),D68*$D$6,#REF!*D68)","v":0}]
[null,58,null,null,{"$f":"IF(ISNUMBER($D$6),D69*$D$6,#REF!*D69)","v":0}]
[null,59,null,null,{"$f":"IF(ISNUMBER($D$6),D70*$D$6,#REF!*D70)","v":0}]
[null,60,null,null,{"$f":"IF(ISNUMBER($D$6),D71*$D$6,#REF!*D71)","v":0}]
[null,61,null,null,{"$f":"IF(ISNUMBER($D$6),D72*$D$6,#REF!*D72)","v":0}]
[null,62,null,null,{"$f":"IF(ISNUMBER($D$6),D73*$D$6,#REF!*D73)","v":0}]
[null,63,null,null,{"$f":"IF(ISNUMBER($D$6),D74*$D$6,#REF!*D74)","v":0}]
[null,64,null,null,{"$f":"IF(ISNUMBER($D$6),D75*$D$6,#REF!*D75)","v":0}]
[null,65,null,null,{"$f":"IF(ISNUMBER($D$6),D76*$D$6,#REF!*D76)","v":0}]
[null,66,null,null,{"$f":"IF(ISNUMBER($D$6),D77*$D$6,#REF!*D77)","v":0}]
[null,{"$f":"+B77+1","v":67},null,null,{"$f":"IF(ISNUMBER($D$6),D78*$D$6,#REF!*D78)","v":0}]
[null,68,null,null,{"$f":"IF(ISNUMBER($D$6),D79*$D$6,#REF!*D79)","v":0}]
[null,69,null,null,{"$f":"IF(ISNUMBER($D$6),D80*$D$6,#REF!*D80)","v":0}]
[null,70,null,null,{"$f":"IF(ISNUMBER($D$6),D81*$D$6,#REF!*D81)","v":0}]
[null,71,null,null,{"$f":"IF(ISNUMBER($D$6),D82*$D$6,#REF!*D82)","v":0}]
[null,72,null,null,{"$f":"IF(ISNUMBER($D$6),D83*$D$6,#REF!*D83)","v":0}]
[null,73,null,null,{"$f":"IF(ISNUMBER($D$6),D84*$D$6,#REF!*D84)","v":0}]
[null,74,null,null,{"$f":"IF(ISNUMBER($D$6),D85*$D$6,#REF!*D85)","v":0}]
[null,75,null,null,{"$f":"IF(ISNUMBER($D$6),D86*$D$6,#REF!*D86)","v":0}]
[null,76,null,null,{"$f":"IF(ISNUMBER($D$6),D87*$D$6,#REF!*D87)","v":0}]
[null,77,null,null,{"$f":"IF(ISNUMBER($D$6),D88*$D$6,#REF!*D88)","v":0}]
[null,78,null,null,{"$f":"IF(ISNUMBER($D$6),D89*$D$6,#REF!*D89)","v":0}]
[null,79,null,null,{"$f":"IF(ISNUMBER($D$6),D90*$D$6,#REF!*D90)","v":0}]
[null,80,null,null,{"$f":"IF(ISNUMBER($D$6),D91*$D$6,#REF!*D91)","v":0}]
[null,81,null,null,{"$f":"IF(ISNUMBER($D$6),D92*$D$6,#REF!*D92)","v":0}]
[null,82,null,null,{"$f":"IF(ISNUMBER($D$6),D93*$D$6,#REF!*D93)","v":0}]
[null,83,null,null,{"$f":"IF(ISNUMBER($D$6),D94*$D$6,#REF!*D94)","v":0}]
[null,84,null,null,{"$f":"IF(ISNUMBER($D$6),D95*$D$6,#REF!*D95)","v":0}]
[null,85,null,null,{"$f":"IF(ISNUMBER($D$6),D96*$D$6,#REF!*D96)","v":0}]
[null,86,null,null,{"$f":"IF(ISNUMBER($D$6),D97*$D$6,#REF!*D97)","v":0}]
[null,87,null,null,{"$f":"IF(ISNUMBER($D$6),D98*$D$6,#REF!*D98)","v":0}]
[null,88,null,null,{"$f":"IF(ISNUMBER($D$6),D99*$D$6,#REF!*D99)","v":0}]
[null,89,null,null,{"$f":"IF(ISNUMBER($D$6),D100*$D$6,#REF!*D100)","v":0}]
[null,90,null,null,{"$f":"IF(ISNUMBER($D$6),D101*$D$6,#REF!*D101)","v":0}]
[null,91,null,null,{"$f":"IF(ISNUMBER($D$6),D102*$D$6,#REF!*D102)","v":0}]
[null,92,null,null,{"$f":"IF(ISNUMBER($D$6),D103*$D$6,#REF!*D103)","v":0}]
[null,93,null,null,{"$f":"IF(ISNUMBER($D$6),D104*$D$6,#REF!*D104)","v":0}]
[null,94,null,null,{"$f":"IF(ISNUMBER($D$6),D105*$D$6,#REF!*D105)","v":0}]
[null,95,null,null,{"$f":"IF(ISNUMBER($D$6),D106*$D$6,#REF!*D106)","v":0}]
[null,96,null,null,{"$f":"IF(ISNUMBER($D$6),D107*$D$6,#REF!*D107)","v":0}]
[null,97,null,null,{"$f":"IF(ISNUMBER($D$6),D108*$D$6,#REF!*D108)","v":0}]
[null,98,null,null,{"$f":"IF(ISNUMBER($D$6),D109*$D$6,#REF!*D109)","v":0}]
[null,99,null,null,{"$f":"IF(ISNUMBER($D$6),D110*$D$6,#REF!*D110)","v":0}]
[null,100,null,null,{"$f":"IF(ISNUMBER($D$6),D111*$D$6,#REF!*D111)","v":0}]
[null,101,null,null,{"$f":"IF(ISNUMBER($D$6),D112*$D$6,#REF!*D112)","v":0}]
[null,102,null,null,{"$f":"IF(ISNUMBER($D$6),D113*$D$6,#REF!*D113)","v":0}]
[null,103,null,null,{"$f":"IF(ISNUMBER($D$6),D114*$D$6,#REF!*D114)","v":0}]
[null,104,null,null,{"$f":"IF(ISNUMBER($D$6),D115*$D$6,#REF!*D115)","v":0}]
[null,105,null,null,{"$f":"IF(ISNUMBER($D$6),D116*$D$6,#REF!*D116)","v":0}]
[null,106,null,null,{"$f":"IF(ISNUMBER($D$6),D117*$D$6,#REF!*D117)","v":0}]
[null,107,null,null,{"$f":"IF(ISNUMBER($D$6),D118*$D$6,#REF!*D118)","v":0}]
[null,108,null,null,{"$f":"IF(ISNUMBER($D$6),D119*$D$6,#REF!*D119)","v":0}]
[null,109,null,null,{"$f":"IF(ISNUMBER($D$6),D120*$D$6,#REF!*D120)","v":0}]
[null,110,null,null,{"$f":"IF(ISNUMBER($D$6),D121*$D$6,#REF!*D121)","v":0}]
[null,111,null,null,{"$f":"IF(ISNUMBER($D$6),D122*$D$6,#REF!*D122)","v":0}]
[null,112,null,null,{"$f":"IF(ISNUMBER($D$6),D123*$D$6,#REF!*D123)","v":0}]
[null,113,null,null,{"$f":"IF(ISNUMBER($D$6),D124*$D$6,#REF!*D124)","v":0}]
[null,114,null,null,{"$f":"IF(ISNUMBER($D$6),D125*$D$6,#REF!*D125)","v":0}]
[null,115,null,null,{"$f":"IF(ISNUMBER($D$6),D126*$D$6,#REF!*D126)","v":0}]
[null,116,null,null,{"$f":"IF(ISNUMBER($D$6),D127*$D$6,#REF!*D127)","v":0}]
[null,117,null,null,{"$f":"IF(ISNUMBER($D$6),D128*$D$6,#REF!*D128)","v":0}]
[null,118,null,null,{"$f":"IF(ISNUMBER($D$6),D129*$D$6,#REF!*D129)","v":0}]
[null,119,null,null,{"$f":"IF(ISNUMBER($D$6),D130*$D$6,#REF!*D130)","v":0}]
[null,120,null,null,{"$f":"IF(ISNUMBER($D$6),D131*$D$6,#REF!*D131)","v":0}]
[null,121,null,null,{"$f":"IF(ISNUMBER($D$6),D132*$D$6,#REF!*D132)","v":0}]
[null,122,null,null,{"$f":"IF(ISNUMBER($D$6),D133*$D$6,#REF!*D133)","v":0}]
[null,123,null,null,{"$f":"IF(ISNUMBER($D$6),D134*$D$6,#REF!*D134)","v":0}]
[null,124,null,null,{"$f":"IF(ISNUMBER($D$6),D135*$D$6,#REF!*D135)","v":0}]
[null,125,null,null,{"$f":"IF(ISNUMBER($D$6),D136*$D$6,#REF!*D136)","v":0}]
[null,126,null,null,{"$f":"IF(ISNUMBER($D$6),D137*$D$6,#REF!*D137)","v":0}]
[null,127,null,null,{"$f":"IF(ISNUMBER($D$6),D138*$D$6,#REF!*D138)","v":0}]
[null,128,null,null,{"$f":"IF(ISNUMBER($D$6),D139*$D$6,#REF!*D139)","v":0}]
[null,129,null,null,{"$f":"IF(ISNUMBER($D$6),D140*$D$6,#REF!*D140)","v":0}]
[null,130,null,null,{"$f":"IF(ISNUMBER($D$6),D141*$D$6,#REF!*D141)","v":0}]
[null,{"$f":"+B141+1","v":131},null,null,{"$f":"IF(ISNUMBER($D$6),D142*$D$6,#REF!*D142)","v":0}]
[null,132,null,null,{"$f":"IF(ISNUMBER($D$6),D143*$D$6,#REF!*D143)","v":0}]
[null,133,null,null,{"$f":"IF(ISNUMBER($D$6),D144*$D$6,#REF!*D144)","v":0}]
[null,134,null,null,{"$f":"IF(ISNUMBER($D$6),D145*$D$6,#REF!*D145)","v":0}]
[null,135,null,null,{"$f":"IF(ISNUMBER($D$6),D146*$D$6,#REF!*D146)","v":0}]
[null,136,null,null,{"$f":"IF(ISNUMBER($D$6),D147*$D$6,#REF!*D147)","v":0}]
[null,137,null,null,{"$f":"IF(ISNUMBER($D$6),D148*$D$6,#REF!*D148)","v":0}]
[null,138,null,null,{"$f":"IF(ISNUMBER($D$6),D149*$D$6,#REF!*D149)","v":0}]
[null,139,null,null,{"$f":"IF(ISNUMBER($D$6),D150*$D$6,#REF!*D150)","v":0}]
[null,140,null,null,{"$f":"IF(ISNUMBER($D$6),D151*$D$6,#REF!*D151)","v":0}]
[null,141,null,null,{"$f":"IF(ISNUMBER($D$6),D152*$D$6,#REF!*D152)","v":0}]
[null,142,null,null,{"$f":"IF(ISNUMBER($D$6),D153*$D$6,#REF!*D153)","v":0}]
[null,143,null,null,{"$f":"IF(ISNUMBER($D$6),D154*$D$6,#REF!*D154)","v":0}]
[null,144,null,null,{"$f":"IF(ISNUMBER($D$6),D155*$D$6,#REF!*D155)","v":0}]
[null,145,null,null,{"$f":"IF(ISNUMBER($D$6),D156*$D$6,#REF!*D156)","v":0}]
[null,146,null,null,{"$f":"IF(ISNUMBER($D$6),D157*$D$6,#REF!*D157)","v":0}]
[null,147,null,null,{"$f":"IF(ISNUMBER($D$6),D158*$D$6,#REF!*D158)","v":0}]
[null,148,null,null,{"$f":"IF(ISNUMBER($D$6),D159*$D$6,#REF!*D159)","v":0}]
[null,149,null,null,{"$f":"IF(ISNUMBER($D$6),D160*$D$6,#REF!*D160)","v":0}]
[null,150,null,null,{"$f":"IF(ISNUMBER($D$6),D161*$D$6,#REF!*D161)","v":0}]
[null,151,null,null,{"$f":"IF(ISNUMBER($D$6),D162*$D$6,#REF!*D162)","v":0}]
[null,152,null,null,{"$f":"IF(ISNUMBER($D$6),D163*$D$6,#REF!*D163)","v":0}]
[null,153,null,null,{"$f":"IF(ISNUMBER($D$6),D164*$D$6,#REF!*D164)","v":0}]
[null,154,null,null,{"$f":"IF(ISNUMBER($D$6),D165*$D$6,#REF!*D165)","v":0}]
[null,155,null,null,{"$f":"IF(ISNUMBER($D$6),D166*$D$6,#REF!*D166)","v":0}]
[null,156,null,null,{"$f":"IF(ISNUMBER($D$6),D167*$D$6,#REF!*D167)","v":0}]
[null,157,null,null,{"$f":"IF(ISNUMBER($D$6),D168*$D$6,#REF!*D168)","v":0}]
[null,158,null,null,{"$f":"IF(ISNUMBER($D$6),D169*$D$6,#REF!*D169)","v":0}]
[null,159,null,null,{"$f":"IF(ISNUMBER($D$6),D170*$D$6,#REF!*D170)","v":0}]
[null,160,null,null,{"$f":"IF(ISNUMBER($D$6),D171*$D$6,#REF!*D171)","v":0}]
[null,161,null,null,{"$f":"IF(ISNUMBER($D$6),D172*$D$6,#REF!*D172)","v":0}]
[null,162,null,null,{"$f":"IF(ISNUMBER($D$6),D173*$D$6,#REF!*D173)","v":0}]
[null,163,null,null,{"$f":"IF(ISNUMBER($D$6),D174*$D$6,#REF!*D174)","v":0}]
[null,164,null,null,{"$f":"IF(ISNUMBER($D$6),D175*$D$6,#REF!*D175)","v":0}]
[null,165,null,null,{"$f":"IF(ISNUMBER($D$6),D176*$D$6,#REF!*D176)","v":0}]
[null,166,null,null,{"$f":"IF(ISNUMBER($D$6),D177*$D$6,#REF!*D177)","v":0}]
[null,167,null,null,{"$f":"IF(ISNUMBER($D$6),D178*$D$6,#REF!*D178)","v":0}]
[null,168,null,null,{"$f":"IF(ISNUMBER($D$6),D179*$D$6,#REF!*D179)","v":0}]
[null,169,null,null,{"$f":"IF(ISNUMBER($D$6),D180*$D$6,#REF!*D180)","v":0}]
[null,170,null,null,{"$f":"IF(ISNUMBER($D$6),D181*$D$6,#REF!*D181)","v":0}]
[null,171,null,null,{"$f":"IF(ISNUMBER($D$6),D182*$D$6,#REF!*D182)","v":0}]
[null,172,null,null,{"$f":"IF(ISNUMBER($D$6),D183*$D$6,#REF!*D183)","v":0}]
[null,173,null,null,{"$f":"IF(ISNUMBER($D$6),D184*$D$6,#REF!*D184)","v":0}]
[null,174,null,null,{"$f":"IF(ISNUMBER($D$6),D185*$D$6,#REF!*D185)","v":0}]
[null,175,null,null,{"$f":"IF(ISNUMBER($D$6),D186*$D$6,#REF!*D186)","v":0}]
[null,176,null,null,{"$f":"IF(ISNUMBER($D$6),D187*$D$6,#REF!*D187)","v":0}]
[null,177,null,null,{"$f":"IF(ISNUMBER($D$6),D188*$D$6,#REF!*D188)","v":0}]
[null,178,null,null,{"$f":"IF(ISNUMBER($D$6),D189*$D$6,#REF!*D189)","v":0}]
[null,179,null,null,{"$f":"IF(ISNUMBER($D$6),D190*$D$6,#REF!*D190)","v":0}]
[null,180,null,null,{"$f":"IF(ISNUMBER($D$6),D191*$D$6,#REF!*D191)","v":0}]
[null,181,null,null,{"$f":"IF(ISNUMBER($D$6),D192*$D$6,#REF!*D192)","v":0}]
[null,182,null,null,{"$f":"IF(ISNUMBER($D$6),D193*$D$6,#REF!*D193)","v":0}]
[null,183,null,null,{"$f":"IF(ISNUMBER($D$6),D194*$D$6,#REF!*D194)","v":0}]
[null,184,null,null,{"$f":"IF(ISNUMBER($D$6),D195*$D$6,#REF!*D195)","v":0}]
[null,185,null,null,{"$f":"IF(ISNUMBER($D$6),D196*$D$6,#REF!*D196)","v":0}]
[null,186,null,null,{"$f":"IF(ISNUMBER($D$6),D197*$D$6,#REF!*D197)","v":0}]
[null,187,null,null,{"$f":"IF(ISNUMBER($D$6),D198*$D$6,#REF!*D198)","v":0}]
[null,188,null,null,{"$f":"IF(ISNUMBER($D$6),D199*$D$6,#REF!*D199)","v":0}]
[null,189,null,null,{"$f":"IF(ISNUMBER($D$6),D200*$D$6,#REF!*D200)","v":0}]
[null,190,null,null,{"$f":"IF(ISNUMBER($D$6),D201*$D$6,#REF!*D201)","v":0}]
[null,191,null,null,{"$f":"IF(ISNUMBER($D$6),D202*$D$6,#REF!*D202)","v":0}]
[null,192,null,null,{"$f":"IF(ISNUMBER($D$6),D203*$D$6,#REF!*D203)","v":0}]
[null,193,null,null,{"$f":"IF(ISNUMBER($D$6),D204*$D$6,#REF!*D204)","v":0}]
[null,194,null,null,{"$f":"IF(ISNUMBER($D$6),D205*$D$6,#REF!*D205)","v":0}]
[null,{"$f":"+B205+1","v":195},null,null,{"$f":"IF(ISNUMBER($D$6),D206*$D$6,#REF!*D206)","v":0}]
[null,196,null,null,{"$f":"IF(ISNUMBER($D$6),D207*$D$6,#REF!*D207)","v":0}]
[null,197,null,null,{"$f":"IF(ISNUMBER($D$6),D208*$D$6,#REF!*D208)","v":0}]
[null,198,null,null,{"$f":"IF(ISNUMBER($D$6),D209*$D$6,#REF!*D209)","v":0}]
[null,199,null,null,{"$f":"IF(ISNUMBER($D$6),D210*$D$6,#REF!*D210)","v":0}]
[null,200,null,null,{"$f":"IF(ISNUMBER($D$6),D211*$D$6,#REF!*D211)","v":0}]
[null,201,null,null,{"$f":"IF(ISNUMBER($D$6),D212*$D$6,#REF!*D212)","v":0}]
[null,202,null,null,{"$f":"IF(ISNUMBER($D$6),D213*$D$6,#REF!*D213)","v":0}]
[null,203,null,null,{"$f":"IF(ISNUMBER($D$6),D214*$D$6,#REF!*D214)","v":0}]
[null,204,null,null,{"$f":"IF(ISNUMBER($D$6),D215*$D$6,#REF!*D215)","v":0}]
[null,205,null,null,{"$f":"IF(ISNUMBER($D$6),D216*$D$6,#REF!*D216)","v":0}]
[null,206,null,null,{"$f":"IF(ISNUMBER($D$6),D217*$D$6,#REF!*D217)","v":0}]
[null,207,null,null,{"$f":"IF(ISNUMBER($D$6),D218*$D$6,#REF!*D218)","v":0}]
[null,208,null,null,{"$f":"IF(ISNUMBER($D$6),D219*$D$6,#REF!*D219)","v":0}]
[null,209,null,null,{"$f":"IF(ISNUMBER($D$6),D220*$D$6,#REF!*D220)","v":0}]
[null,210,null,null,{"$f":"IF(ISNUMBER($D$6),D221*$D$6,#REF!*D221)","v":0}]
[null,211,null,null,{"$f":"IF(ISNUMBER($D$6),D222*$D$6,#REF!*D222)","v":0}]
[null,212,null,null,{"$f":"IF(ISNUMBER($D$6),D223*$D$6,#REF!*D223)","v":0}]
[null,213,null,null,{"$f":"IF(ISNUMBER($D$6),D224*$D$6,#REF!*D224)","v":0}]
[null,214,null,null,{"$f":"IF(ISNUMBER($D$6),D225*$D$6,#REF!*D225)","v":0}]
[null,215,null,null,{"$f":"IF(ISNUMBER($D$6),D226*$D$6,#REF!*D226)","v":0}]
[null,216,null,null,{"$f":"IF(ISNUMBER($D$6),D227*$D$6,#REF!*D227)","v":0}]
[null,217,null,null,{"$f":"IF(ISNUMBER($D$6),D228*$D$6,#REF!*D228)","v":0}]
[null,218,null,null,{"$f":"IF(ISNUMBER($D$6),D229*$D$6,#REF!*D229)","v":0}]
[null,219,null,null,{"$f":"IF(ISNUMBER($D$6),D230*$D$6,#REF!*D230)","v":0}]
[null,220,null,null,{"$f":"IF(ISNUMBER($D$6),D231*$D$6,#REF!*D231)","v":0}]
[null,221,null,null,{"$f":"IF(ISNUMBER($D$6),D232*$D$6,#REF!*D232)","v":0}]
[null,222,null,null,{"$f":"IF(ISNUMBER($D$6),D233*$D$6,#REF!*D233)","v":0}]
[null,223,null,null,{"$f":"IF(ISNUMBER($D$6),D234*$D$6,#REF!*D234)","v":0}]
[null,224,null,null,{"$f":"IF(ISNUMBER($D$6),D235*$D$6,#REF!*D235)","v":0}]
[null,225,null,null,{"$f":"IF(ISNUMBER($D$6),D236*$D$6,#REF!*D236)","v":0}]
[null,226,null,null,{"$f":"IF(ISNUMBER($D$6),D237*$D$6,#REF!*D237)","v":0}]
[null,227,null,null,{"$f":"IF(ISNUMBER($D$6),D238*$D$6,#REF!*D238)","v":0}]
[null,228,null,null,{"$f":"IF(ISNUMBER($D$6),D239*$D$6,#REF!*D239)","v":0}]
[null,229,null,null,{"$f":"IF(ISNUMBER($D$6),D240*$D$6,#REF!*D240)","v":0}]
[null,230,null,null,{"$f":"IF(ISNUMBER($D$6),D241*$D$6,#REF!*D241)","v":0}]
[null,231,null,null,{"$f":"IF(ISNUMBER($D$6),D242*$D$6,#REF!*D242)","v":0}]
[null,232,null,null,{"$f":"IF(ISNUMBER($D$6),D243*$D$6,#REF!*D243)","v":0}]
[null,233,null,null,{"$f":"IF(ISNUMBER($D$6),D244*$D$6,#REF!*D244)","v":0}]
[null,234,null,null,{"$f":"IF(ISNUMBER($D$6),D245*$D$6,#REF!*D245)","v":0}]
[null,235,null,null,{"$f":"IF(ISNUMBER($D$6),D246*$D$6,#REF!*D246)","v":0}]
[null,236,null,null,{"$f":"IF(ISNUMBER($D$6),D247*$D$6,#REF!*D247)","v":0}]
[null,237,null,null,{"$f":"IF(ISNUMBER($D$6),D248*$D$6,#REF!*D248)","v":0}]
[null,238,null,null,{"$f":"IF(ISNUMBER($D$6),D249*$D$6,#REF!*D249)","v":0}]
[null,239,null,null,{"$f":"IF(ISNUMBER($D$6),D250*$D$6,#REF!*D250)","v":0}]
[null,240,null,null,{"$f":"IF(ISNUMBER($D$6),D251*$D$6,#REF!*D251)","v":0}]
[null,241,null,null,{"$f":"IF(ISNUMBER($D$6),D252*$D$6,#REF!*D252)","v":0}]
[null,242,null,null,{"$f":"IF(ISNUMBER($D$6),D253*$D$6,#REF!*D253)","v":0}]
[null,243,null,null,{"$f":"IF(ISNUMBER($D$6),D254*$D$6,#REF!*D254)","v":0}]
[null,244,null,null,{"$f":"IF(ISNUMBER($D$6),D255*$D$6,#REF!*D255)","v":0}]
[null,245,null,null,{"$f":"IF(ISNUMBER($D$6),D256*$D$6,#REF!*D256)","v":0}]
[null,246,null,null,{"$f":"IF(ISNUMBER($D$6),D257*$D$6,#REF!*D257)","v":0}]
[null,247,null,null,{"$f":"IF(ISNUMBER($D$6),D258*$D$6,#REF!*D258)","v":0}]
[null,248,null,null,{"$f":"IF(ISNUMBER($D$6),D259*$D$6,#REF!*D259)","v":0}]
[null,249,null,null,{"$f":"IF(ISNUMBER($D$6),D260*$D$6,#REF!*D260)","v":0}]
[null,250,null,null,{"$f":"IF(ISNUMBER($D$6),D261*$D$6,#REF!*D261)","v":0}]
[null,251,null,null,{"$f":"IF(ISNUMBER($D$6),D262*$D$6,#REF!*D262)","v":0}]
[null,252,null,null,{"$f":"IF(ISNUMBER($D$6),D263*$D$6,#REF!*D263)","v":0}]
[null,253,null,null,{"$f":"IF(ISNUMBER($D$6),D264*$D$6,#REF!*D264)","v":0}]
[null,254,null,null,{"$f":"IF(ISNUMBER($D$6),D265*$D$6,#REF!*D265)","v":0}]
[null,255,null,null,{"$f":"IF(ISNUMBER($D$6),D266*$D$6,#REF!*D266)","v":0}]
[null,256,null,null,{"$f":"IF(ISNUMBER($D$6),D267*$D$6,#REF!*D267)","v":0}]
[null,257,null,null,{"$f":"IF(ISNUMBER($D$6),D268*$D$6,#REF!*D268)","v":0}]
[null,258,null,null,{"$f":"IF(ISNUMBER($D$6),D269*$D$6,#REF!*D269)","v":0}]
[null,{"$f":"+B269+1","v":259},null,null,{"$f":"IF(ISNUMBER($D$6),D270*$D$6,#REF!*D270)","v":0}]
[null,260,null,null,{"$f":"IF(ISNUMBER($D$6),D271*$D$6,#REF!*D271)","v":0}]
[null,261,null,null,{"$f":"IF(ISNUMBER($D$6),D272*$D$6,#REF!*D272)","v":0}]
[null,262,null,null,{"$f":"IF(ISNUMBER($D$6),D273*$D$6,#REF!*D273)","v":0}]
[null,263,null,null,{"$f":"IF(ISNUMBER($D$6),D274*$D$6,#REF!*D274)","v":0}]
[null,264,null,null,{"$f":"IF(ISNUMBER($D$6),D275*$D$6,#REF!*D275)","v":0}]
[null,265,null,null,{"$f":"IF(ISNUMBER($D$6),D276*$D$6,#REF!*D276)","v":0}]
[null,266,null,null,{"$f":"IF(ISNUMBER($D$6),D277*$D$6,#REF!*D277)","v":0}]
[null,267,null,null,{"$f":"IF(ISNUMBER($D$6),D278*$D$6,#REF!*D278)","v":0}]
[null,268,null,null,{"$f":"IF(ISNUMBER($D$6),D279*$D$6,#REF!*D279)","v":0}]
[null,269,null,null,{"$f":"IF(ISNUMBER($D$6),D280*$D$6,#REF!*D280)","v":0}]
[null,270,null,null,{"$f":"IF(ISNUMBER($D$6),D281*$D$6,#REF!*D281)","v":0}]
[null,271,null,null,{"$f":"IF(ISNUMBER($D$6),D282*$D$6,#REF!*D282)","v":0}]
[null,272,null,null,{"$f":"IF(ISNUMBER($D$6),D283*$D$6,#REF!*D283)","v":0}]
[null,273,null,null,{"$f":"IF(ISNUMBER($D$6),D284*$D$6,#REF!*D284)","v":0}]
[null,274,null,null,{"$f":"IF(ISNUMBER($D$6),D285*$D$6,#REF!*D285)","v":0}]
[null,275,null,null,{"$f":"IF(ISNUMBER($D$6),D286*$D$6,#REF!*D286)","v":0}]
[null,276,null,null,{"$f":"IF(ISNUMBER($D$6),D287*$D$6,#REF!*D287)","v":0}]
[null,277,null,null,{"$f":"IF(ISNUMBER($D$6),D288*$D$6,#REF!*D288)","v":0}]
[null,278,null,null,{"$f":"IF(ISNUMBER($D$6),D289*$D$6,#REF!*D289)","v":0}]
[null,279,null,null,{"$f":"IF(ISNUMBER($D$6),D290*$D$6,#REF!*D290)","v":0}]
[null,280,null,null,{"$f":"IF(ISNUMBER($D$6),D291*$D$6,#REF!*D291)","v":0}]
[null,281,null,null,{"$f":"IF(ISNUMBER($D$6),D292*$D$6,#REF!*D292)","v":0}]
[null,282,null,null,{"$f":"IF(ISNUMBER($D$6),D293*$D$6,#REF!*D293)","v":0}]
[null,283,null,null,{"$f":"IF(ISNUMBER($D$6),D294*$D$6,#REF!*D294)","v":0}]
[null,284,null,null,{"$f":"IF(ISNUMBER($D$6),D295*$D$6,#REF!*D295)","v":0}]
[null,285,null,null,{"$f":"IF(ISNUMBER($D$6),D296*$D$6,#REF!*D296)","v":0}]
[null,286,null,null,{"$f":"IF(ISNUMBER($D$6),D297*$D$6,#REF!*D297)","v":0}]
[null,287,null,null,{"$f":"IF(ISNUMBER($D$6),D298*$D$6,#REF!*D298)","v":0}]
[null,288,null,null,{"$f":"IF(ISNUMBER($D$6),D299*$D$6,#REF!*D299)","v":0}]
[null,289,null,null,{"$f":"IF(ISNUMBER($D$6),D300*$D$6,#REF!*D300)","v":0}]
[null,290,null,null,{"$f":"IF(ISNUMBER($D$6),D301*$D$6,#REF!*D301)","v":0}]
[null,291,null,null,{"$f":"IF(ISNUMBER($D$6),D302*$D$6,#REF!*D302)","v":0}]
[null,292,null,null,{"$f":"IF(ISNUMBER($D$6),D303*$D$6,#REF!*D303)","v":0}]
[null,293,null,null,{"$f":"IF(ISNUMBER($D$6),D304*$D$6,#REF!*D304)","v":0}]
[null,294,null,null,{"$f":"IF(ISNUMBER($D$6),D305*$D$6,#REF!*D305)","v":0}]
[null,295,null,null,{"$f":"IF(ISNUMBER($D$6),D306*$D$6,#REF!*D306)","v":0}]
[null,296,null,null,{"$f":"IF(ISNUMBER($D$6),D307*$D$6,#REF!*D307)","v":0}]
[null,297,null,null,{"$f":"IF(ISNUMBER($D$6),D308*$D$6,#REF!*D308)","v":0}]
[null,298,null,null,{"$f":"IF(ISNUMBER($D$6),D309*$D$6,#REF!*D309)","v":0}]
[null,299,null,null,{"$f":"IF(ISNUMBER($D$6),D310*$D$6,#REF!*D310)","v":0}]
[null,300,null,null,{"$f":"IF(ISNUMBER($D$6),D311*$D$6,#REF!*D311)","v":0}]
[null,301,null,null,{"$f":"IF(ISNUMBER($D$6),D312*$D$6,#REF!*D312)","v":0}]
[null,302,null,null,{"$f":"IF(ISNUMBER($D$6),D313*$D$6,#REF!*D313)","v":0}]
[null,303,null,null,{"$f":"IF(ISNUMBER($D$6),D314*$D$6,#REF!*D314)","v":0}]
[null,304,null,null,{"$f":"IF(ISNUMBER($D$6),D315*$D$6,#REF!*D315)","v":0}]
[null,305,null,null,{"$f":"IF(ISNUMBER($D$6),D316*$D$6,#REF!*D316)","v":0}]
[null,306,null,null,{"$f":"IF(ISNUMBER($D$6),D317*$D$6,#REF!*D317)","v":0}]
[null,307,null,null,{"$f":"IF(ISNUMBER($D$6),D318*$D$6,#REF!*D318)","v":0}]
[null,308,null,null,{"$f":"IF(ISNUMBER($D$6),D319*$D$6,#REF!*D319)","v":0}]
[null,309,null,null,{"$f":"IF(ISNUMBER($D$6),D320*$D$6,#REF!*D320)","v":0}]
[null,310,null,null,{"$f":"IF(ISNUMBER($D$6),D321*$D$6,#REF!*D321)","v":0}]
[null,311,null,null,{"$f":"IF(ISNUMBER($D$6),D322*$D$6,#REF!*D322)","v":0}]
[null,312,null,null,{"$f":"IF(ISNUMBER($D$6),D323*$D$6,#REF!*D323)","v":0}]
[null,313,null,null,{"$f":"IF(ISNUMBER($D$6),D324*$D$6,#REF!*D324)","v":0}]
[null,314,null,null,{"$f":"IF(ISNUMBER($D$6),D325*$D$6,#REF!*D325)","v":0}]
[null,315,null,null,{"$f":"IF(ISNUMBER($D$6),D326*$D$6,#REF!*D326)","v":0}]
[null,316,null,null,{"$f":"IF(ISNUMBER($D$6),D327*$D$6,#REF!*D327)","v":0}]
[null,317,null,null,{"$f":"IF(ISNUMBER($D$6),D328*$D$6,#REF!*D328)","v":0}]
[null,318,null,null,{"$f":"IF(ISNUMBER($D$6),D329*$D$6,#REF!*D329)","v":0}]
[null,319,null,null,{"$f":"IF(ISNUMBER($D$6),D330*$D$6,#REF!*D330)","v":0}]
[null,320,null,null,{"$f":"IF(ISNUMBER($D$6),D331*$D$6,#REF!*D331)","v":0}]
[null,321,null,null,{"$f":"IF(ISNUMBER($D$6),D332*$D$6,#REF!*D332)","v":0}]
[null,322,null,null,{"$f":"IF(ISNUMBER($D$6),D333*$D$6,#REF!*D333)","v":0}]
[null,{"$f":"+B333+1","v":323},null,null,{"$f":"IF(ISNUMBER($D$6),D334*$D$6,#REF!*D334)","v":0}]
[null,324,null,null,{"$f":"IF(ISNUMBER($D$6),D335*$D$6,#REF!*D335)","v":0}]
[null,325,null,null,{"$f":"IF(ISNUMBER($D$6),D336*$D$6,#REF!*D336)","v":0}]
[null,326,null,null,{"$f":"IF(ISNUMBER($D$6),D337*$D$6,#REF!*D337)","v":0}]
[null,327,null,null,{"$f":"IF(ISNUMBER($D$6),D338*$D$6,#REF!*D338)","v":0}]
[null,328,null,null,{"$f":"IF(ISNUMBER($D$6),D339*$D$6,#REF!*D339)","v":0}]
[null,329,null,null,{"$f":"IF(ISNUMBER($D$6),D340*$D$6,#REF!*D340)","v":0}]
[null,330,null,null,{"$f":"IF(ISNUMBER($D$6),D341*$D$6,#REF!*D341)","v":0}]
[null,331,null,null,{"$f":"IF(ISNUMBER($D$6),D342*$D$6,#REF!*D342)","v":0}]
[null,332,null,null,{"$f":"IF(ISNUMBER($D$6),D343*$D$6,#REF!*D343)","v":0}]
[null,333,null,null,{"$f":"IF(ISNUMBER($D$6),D344*$D$6,#REF!*D344)","v":0}]
[null,334,null,null,{"$f":"IF(ISNUMBER($D$6),D345*$D$6,#REF!*D345)","v":0}]
[null,335,null,null,{"$f":"IF(ISNUMBER($D$6),D346*$D$6,#REF!*D346)","v":0}]
[null,336,null,null,{"$f":"IF(ISNUMBER($D$6),D347*$D$6,#REF!*D347)","v":0}]
[null,337,null,null,{"$f":"IF(ISNUMBER($D$6),D348*$D$6,#REF!*D348)","v":0}]
[null,338,null,null,{"$f":"IF(ISNUMBER($D$6),D349*$D$6,#REF!*D349)","v":0}]
[null,339,null,null,{"$f":"IF(ISNUMBER($D$6),D350*$D$6,#REF!*D350)","v":0}]
[null,340,null,null,{"$f":"IF(ISNUMBER($D$6),D351*$D$6,#REF!*D351)","v":0}]
[null,341,null,null,{"$f":"IF(ISNUMBER($D$6),D352*$D$6,#REF!*D352)","v":0}]
[null,342,null,null,{"$f":"IF(ISNUMBER($D$6),D353*$D$6,#REF!*D353)","v":0}]
[null,343,null,null,{"$f":"IF(ISNUMBER($D$6),D354*$D$6,#REF!*D354)","v":0}]
[null,344,null,null,{"$f":"IF(ISNUMBER($D$6),D355*$D$6,#REF!*D355)","v":0}]
[null,345,null,null,{"$f":"IF(ISNUMBER($D$6),D356*$D$6,#REF!*D356)","v":0}]
[null,346,null,null,{"$f":"IF(ISNUMBER($D$6),D357*$D$6,#REF!*D357)","v":0}]
[null,347,null,null,{"$f":"IF(ISNUMBER($D$6),D358*$D$6,#REF!*D358)","v":0}]
[null,348,null,null,{"$f":"IF(ISNUMBER($D$6),D359*$D$6,#REF!*D359)","v":0}]
[null,349,null,null,{"$f":"IF(ISNUMBER($D$6),D360*$D$6,#REF!*D360)","v":0}]
[null,350,null,null,{"$f":"IF(ISNUMBER($D$6),D361*$D$6,#REF!*D361)","v":0}]
[null,351,null,null,{"$f":"IF(ISNUMBER($D$6),D362*$D$6,#REF!*D362)","v":0}]
[null,352,null,null,{"$f":"IF(ISNUMBER($D$6),D363*$D$6,#REF!*D363)","v":0}]
[null,353,null,null,{"$f":"IF(ISNUMBER($D$6),D364*$D$6,#REF!*D364)","v":0}]
[null,354,null,null,{"$f":"IF(ISNUMBER($D$6),D365*$D$6,#REF!*D365)","v":0}]
[null,355,null,null,{"$f":"IF(ISNUMBER($D$6),D366*$D$6,#REF!*D366)","v":0}]
[null,356,null,null,{"$f":"IF(ISNUMBER($D$6),D367*$D$6,#REF!*D367)","v":0}]
[null,357,null,null,{"$f":"IF(ISNUMBER($D$6),D368*$D$6,#REF!*D368)","v":0}]
[null,358,null,null,{"$f":"IF(ISNUMBER($D$6),D369*$D$6,#REF!*D369)","v":0}]
[null,359,null,null,{"$f":"IF(ISNUMBER($D$6),D370*$D$6,#REF!*D370)","v":0}]
[null,360,null,null,{"$f":"IF(ISNUMBER($D$6),D371*$D$6,#REF!*D371)","v":0}]
[null,361,null,null,{"$f":"IF(ISNUMBER($D$6),D372*$D$6,#REF!*D372)","v":0}]
[null,362,null,null,{"$f":"IF(ISNUMBER($D$6),D373*$D$6,#REF!*D373)","v":0}]
[null,363,null,null,{"$f":"IF(ISNUMBER($D$6),D374*$D$6,#REF!*D374)","v":0}]
[null,364,null,null,{"$f":"IF(ISNUMBER($D$6),D375*$D$6,#REF!*D375)","v":0}]
[null,365,null,null,{"$f":"IF(ISNUMBER($D$6),D376*$D$6,#REF!*D376)","v":0}]
[null,366,null,null,{"$f":"IF(ISNUMBER($D$6),D377*$D$6,#REF!*D377)","v":0}]
[null,367,null,null,{"$f":"IF(ISNUMBER($D$6),D378*$D$6,#REF!*D378)","v":0}]
[null,368,null,null,{"$f":"IF(ISNUMBER($D$6),D379*$D$6,#REF!*D379)","v":0}]
[null,369,null,null,{"$f":"IF(ISNUMBER($D$6),D380*$D$6,#REF!*D380)","v":0}]
[null,370,null,null,{"$f":"IF(ISNUMBER($D$6),D381*$D$6,#REF!*D381)","v":0}]
[null,371,null,null,{"$f":"IF(ISNUMBER($D$6),D382*$D$6,#REF!*D382)","v":0}]
[null,372,null,null,{"$f":"IF(ISNUMBER($D$6),D383*$D$6,#REF!*D383)","v":0}]
[null,373,null,null,{"$f":"IF(ISNUMBER($D$6),D384*$D$6,#REF!*D384)","v":0}]
[null,374,null,null,{"$f":"IF(ISNUMBER($D$6),D385*$D$6,#REF!*D385)","v":0}]
[null,375,null,null,{"$f":"IF(ISNUMBER($D$6),D386*$D$6,#REF!*D386)","v":0}]
[null,376,null,null,{"$f":"IF(ISNUMBER($D$6),D387*$D$6,#REF!*D387)","v":0}]
[null,377,null,null,{"$f":"IF(ISNUMBER($D$6),D388*$D$6,#REF!*D388)","v":0}]
[null,378,null,null,{"$f":"IF(ISNUMBER($D$6),D389*$D$6,#REF!*D389)","v":0}]
[null,379,null,null,{"$f":"IF(ISNUMBER($D$6),D390*$D$6,#REF!*D390)","v":0}]
[null,380,null,null,{"$f":"IF(ISNUMBER($D$6),D391*$D$6,#REF!*D391)","v":0}]
[null,381,null,null,{"$f":"IF(ISNUMBER($D$6),D392*$D$6,#REF!*D392)","v":0}]
[null,382,null,null,{"$f":"IF(ISNUMBER($D$6),D393*$D$6,#REF!*D393)","v":0}]
[null,383,null,null,{"$f":"IF(ISNUMBER($D$6),D394*$D$6,#REF!*D394)","v":0}]
[null,384,null,null,{"$f":"IF(ISNUMBER($D$6),D395*$D$6,#REF!*D395)","v":0}]
[null,385,null,null,{"$f":"IF(ISNUMBER($D$6),D396*$D$6,#REF!*D396)","v":0}]
[null,386,null,null,{"$f":"IF(ISNUMBER($D$6),D397*$D$6,#REF!*D397)","v":0}]
[null,{"$f":"+B397+1","v":387},null,null,{"$f":"IF(ISNUMBER($D$6),D398*$D$6,#REF!*D398)","v":0}]
[null,388,null,null,{"$f":"IF(ISNUMBER($D$6),D399*$D$6,#REF!*D399)","v":0}]
[null,389,null,null,{"$f":"IF(ISNUMBER($D$6),D400*$D$6,#REF!*D400)","v":0}]
[null,390,null,null,{"$f":"IF(ISNUMBER($D$6),D401*$D$6,#REF!*D401)","v":0}]
[null,391,null,null,{"$f":"IF(ISNUMBER($D$6),D402*$D$6,#REF!*D402)","v":0}]
[null,392,null,null,{"$f":"IF(ISNUMBER($D$6),D403*$D$6,#REF!*D403)","v":0}]
[null,393,null,null,{"$f":"IF(ISNUMBER($D$6),D404*$D$6,#REF!*D404)","v":0}]
[null,394,null,null,{"$f":"IF(ISNUMBER($D$6),D405*$D$6,#REF!*D405)","v":0}]
[null,395,null,null,{"$f":"IF(ISNUMBER($D$6),D406*$D$6,#REF!*D406)","v":0}]
[null,396,null,null,{"$f":"IF(ISNUMBER($D$6),D407*$D$6,#REF!*D407)","v":0}]
[null,397,null,null,{"$f":"IF(ISNUMBER($D$6),D408*$D$6,#REF!*D408)","v":0}]
[null,398,null,null,{"$f":"IF(ISNUMBER($D$6),D409*$D$6,#REF!*D409)","v":0}]
[null,399,null,null,{"$f":"IF(ISNUMBER($D$6),D410*$D$6,#REF!*D410)","v":0}]
[null,400,null,null,{"$f":"IF(ISNUMBER($D$6),D411*$D$6,#REF!*D411)","v":0}]
[null,401,null,null,{"$f":"IF(ISNUMBER($D$6),D412*$D$6,#REF!*D412)","v":0}]
[null,402,null,null,{"$f":"IF(ISNUMBER($D$6),D413*$D$6,#REF!*D413)","v":0}]
[null,403,null,null,{"$f":"IF(ISNUMBER($D$6),D414*$D$6,#REF!*D414)","v":0}]
[null,404,null,null,{"$f":"IF(ISNUMBER($D$6),D415*$D$6,#REF!*D415)","v":0}]
[null,405,null,null,{"$f":"IF(ISNUMBER($D$6),D416*$D$6,#REF!*D416)","v":0}]
[null,406,null,null,{"$f":"IF(ISNUMBER($D$6),D417*$D$6,#REF!*D417)","v":0}]
[null,407,null,null,{"$f":"IF(ISNUMBER($D$6),D418*$D$6,#REF!*D418)","v":0}]
[null,408,null,null,{"$f":"IF(ISNUMBER($D$6),D419*$D$6,#REF!*D419)","v":0}]
[null,409,null,null,{"$f":"IF(ISNUMBER($D$6),D420*$D$6,#REF!*D420)","v":0}]
[null,410,null,null,{"$f":"IF(ISNUMBER($D$6),D421*$D$6,#REF!*D421)","v":0}]
[null,411,null,null,{"$f":"IF(ISNUMBER($D$6),D422*$D$6,#REF!*D422)","v":0}]
[null,412,null,null,{"$f":"IF(ISNUMBER($D$6),D423*$D$6,#REF!*D423)","v":0}]
[null,413,null,null,{"$f":"IF(ISNUMBER($D$6),D424*$D$6,#REF!*D424)","v":0}]
[null,414,null,null,{"$f":"IF(ISNUMBER($D$6),D425*$D$6,#REF!*D425)","v":0}]
[null,415,null,null,{"$f":"IF(ISNUMBER($D$6),D426*$D$6,#REF!*D426)","v":0}]
[null,416,null,null,{"$f":"IF(ISNUMBER($D$6),D427*$D$6,#REF!*D427)","v":0}]
[null,417,null,null,{"$f":"IF(ISNUMBER($D$6),D428*$D$6,#REF!*D428)","v":0}]
[null,418,null,null,{"$f":"IF(ISNUMBER($D$6),D429*$D$6,#REF!*D429)","v":0}]
[null,419,null,null,{"$f":"IF(ISNUMBER($D$6),D430*$D$6,#REF!*D430)","v":0}]
[null,420,null,null,{"$f":"IF(ISNUMBER($D$6),D431*$D$6,#REF!*D431)","v":0}]
[null,421,null,null,{"$f":"IF(ISNUMBER($D$6),D432*$D$6,#REF!*D432)","v":0}]
[null,422,null,null,{"$f":"IF(ISNUMBER($D$6),D433*$D$6,#REF!*D433)","v":0}]
[null,423,null,null,{"$f":"IF(ISNUMBER($D$6),D434*$D$6,#REF!*D434)","v":0}]
[null,424,null,null,{"$f":"IF(ISNUMBER($D$6),D435*$D$6,#REF!*D435)","v":0}]
[null,425,null,null,{"$f":"IF(ISNUMBER($D$6),D436*$D$6,#REF!*D436)","v":0}]
[null,426,null,null,{"$f":"IF(ISNUMBER($D$6),D437*$D$6,#REF!*D437)","v":0}]
[null,427,null,null,{"$f":"IF(ISNUMBER($D$6),D438*$D$6,#REF!*D438)","v":0}]
[null,428,null,null,{"$f":"IF(ISNUMBER($D$6),D439*$D$6,#REF!*D439)","v":0}]
[null,429,null,null,{"$f":"IF(ISNUMBER($D$6),D440*$D$6,#REF!*D440)","v":0}]
[null,430,null,null,{"$f":"IF(ISNUMBER($D$6),D441*$D$6,#REF!*D441)","v":0}]
[null,431,null,null,{"$f":"IF(ISNUMBER($D$6),D442*$D$6,#REF!*D442)","v":0}]
[null,432,null,null,{"$f":"IF(ISNUMBER($D$6),D443*$D$6,#REF!*D443)","v":0}]
[null,433,null,null,{"$f":"IF(ISNUMBER($D$6),D444*$D$6,#REF!*D444)","v":0}]
[null,434,null,null,{"$f":"IF(ISNUMBER($D$6),D445*$D$6,#REF!*D445)","v":0}]
[null,435,null,null,{"$f":"IF(ISNUMBER($D$6),D446*$D$6,#REF!*D446)","v":0}]
[null,436,null,null,{"$f":"IF(ISNUMBER($D$6),D447*$D$6,#REF!*D447)","v":0}]
[null,437,null,null,{"$f":"IF(ISNUMBER($D$6),D448*$D$6,#REF!*D448)","v":0}]
[null,438,null,null,{"$f":"IF(ISNUMBER($D$6),D449*$D$6,#REF!*D449)","v":0}]
[null,439,null,null,{"$f":"IF(ISNUMBER($D$6),D450*$D$6,#REF!*D450)","v":0}]
[null,440,null,null,{"$f":"IF(ISNUMBER($D$6),D451*$D$6,#REF!*D451)","v":0}]
[null,441,null,null,{"$f":"IF(ISNUMBER($D$6),D452*$D$6,#REF!*D452)","v":0}]
[null,442,null,null,{"$f":"IF(ISNUMBER($D$6),D453*$D$6,#REF!*D453)","v":0}]
[null,443,null,null,{"$f":"IF(ISNUMBER($D$6),D454*$D$6,#REF!*D454)","v":0}]
[null,444,null,null,{"$f":"IF(ISNUMBER($D$6),D455*$D$6,#REF!*D455)","v":0}]
[null,445,null,null,{"$f":"IF(ISNUMBER($D$6),D456*$D$6,#REF!*D456)","v":0}]
[null,446,null,null,{"$f":"IF(ISNUMBER($D$6),D457*$D$6,#REF!*D457)","v":0}]
[null,447,null,null,{"$f":"IF(ISNUMBER($D$6),D458*$D$6,#REF!*D458)","v":0}]
[null,448,null,null,{"$f":"IF(ISNUMBER($D$6),D459*$D$6,#REF!*D459)","v":0}]
[null,449,null,null,{"$f":"IF(ISNUMBER($D$6),D460*$D$6,#REF!*D460)","v":0}]
[null,450,null,null,{"$f":"IF(ISNUMBER($D$6),D461*$D$6,#REF!*D461)","v":0}]
[null,{"$f":"+B461+1","v":451},null,null,{"$f":"IF(ISNUMBER($D$6),D462*$D$6,#REF!*D462)","v":0}]
[null,452,null,null,{"$f":"IF(ISNUMBER($D$6),D463*$D$6,#REF!*D463)","v":0}]
[null,453,null,null,{"$f":"IF(ISNUMBER($D$6),D464*$D$6,#REF!*D464)","v":0}]
[null,454,null,null,{"$f":"IF(ISNUMBER($D$6),D465*$D$6,#REF!*D465)","v":0}]
[null,455,null,null,{"$f":"IF(ISNUMBER($D$6),D466*$D$6,#REF!*D466)","v":0}]
[null,456,null,null,{"$f":"IF(ISNUMBER($D$6),D467*$D$6,#REF!*D467)","v":0}]
[null,457,null,null,{"$f":"IF(ISNUMBER($D$6),D468*$D$6,#REF!*D468)","v":0}]
[null,458,null,null,{"$f":"IF(ISNUMBER($D$6),D469*$D$6,#REF!*D469)","v":0}]
[null,459,null,null,{"$f":"IF(ISNUMBER($D$6),D470*$D$6,#REF!*D470)","v":0}]
[null,460,null,null,{"$f":"IF(ISNUMBER($D$6),D471*$D$6,#REF!*D471)","v":0}]
[null,461,null,null,{"$f":"IF(ISNUMBER($D$6),D472*$D$6,#REF!*D472)","v":0}]
[null,462,null,null,{"$f":"IF(ISNUMBER($D$6),D473*$D$6,#REF!*D473)","v":0}]
[null,463,null,null,{"$f":"IF(ISNUMBER($D$6),D474*$D$6,#REF!*D474)","v":0}]
[null,464,null,null,{"$f":"IF(ISNUMBER($D$6),D475*$D$6,#REF!*D475)","v":0}]
[null,465,null,null,{"$f":"IF(ISNUMBER($D$6),D476*$D$6,#REF!*D476)","v":0}]
[null,466,null,null,{"$f":"IF(ISNUMBER($D$6),D477*$D$6,#REF!*D477)","v":0}]
[null,467,null,null,{"$f":"IF(ISNUMBER($D$6),D478*$D$6,#REF!*D478)","v":0}]
[null,468,null,null,{"$f":"IF(ISNUMBER($D$6),D479*$D$6,#REF!*D479)","v":0}]
[null,469,null,null,{"$f":"IF(ISNUMBER($D$6),D480*$D$6,#REF!*D480)","v":0}]
[null,470,null,null,{"$f":"IF(ISNUMBER($D$6),D481*$D$6,#REF!*D481)","v":0}]
[null,471,null,null,{"$f":"IF(ISNUMBER($D$6),D482*$D$6,#REF!*D482)","v":0}]
[null,472,null,null,{"$f":"IF(ISNUMBER($D$6),D483*$D$6,#REF!*D483)","v":0}]
[null,473,null,null,{"$f":"IF(ISNUMBER($D$6),D484*$D$6,#REF!*D484)","v":0}]
[null,474,null,null,{"$f":"IF(ISNUMBER($D$6),D485*$D$6,#REF!*D485)","v":0}]
[null,475,null,null,{"$f":"IF(ISNUMBER($D$6),D486*$D$6,#REF!*D486)","v":0}]
[null,476,null,null,{"$f":"IF(ISNUMBER($D$6),D487*$D$6,#REF!*D487)","v":0}]
[null,477,null,null,{"$f":"IF(ISNUMBER($D$6),D488*$D$6,#REF!*D488)","v":0}]
[null,478,null,null,{"$f":"IF(ISNUMBER($D$6),D489*$D$6,#REF!*D489)","v":0}]
[null,479,null,null,{"$f":"IF(ISNUMBER($D$6),D490*$D$6,#REF!*D490)","v":0}]
[null,480,null,null,{"$f":"IF(ISNUMBER($D$6),D491*$D$6,#REF!*D491)","v":0}]
[null,481,null,null,{"$f":"IF(ISNUMBER($D$6),D492*$D$6,#REF!*D492)","v":0}]
[null,482,null,null,{"$f":"IF(ISNUMBER($D$6),D493*$D$6,#REF!*D493)","v":0}]
[null,483,null,null,{"$f":"IF(ISNUMBER($D$6),D494*$D$6,#REF!*D494)","v":0}]
[null,484,null,null,{"$f":"IF(ISNUMBER($D$6),D495*$D$6,#REF!*D495)","v":0}]
[null,485,null,null,{"$f":"IF(ISNUMBER($D$6),D496*$D$6,#REF!*D496)","v":0}]
[null,486,null,null,{"$f":"IF(ISNUMBER($D$6),D497*$D$6,#REF!*D497)","v":0}]
[null,487,null,null,{"$f":"IF(ISNUMBER($D$6),D498*$D$6,#REF!*D498)","v":0}]
[null,488,null,null,{"$f":"IF(ISNUMBER($D$6),D499*$D$6,#REF!*D499)","v":0}]
[null,489,null,null,{"$f":"IF(ISNUMBER($D$6),D500*$D$6,#REF!*D500)","v":0}]
[null,490,null,null,{"$f":"IF(ISNUMBER($D$6),D501*$D$6,#REF!*D501)","v":0}]
[null,491,null,null,{"$f":"IF(ISNUMBER($D$6),D502*$D$6,#REF!*D502)","v":0}]
[null,492,null,null,{"$f":"IF(ISNUMBER($D$6),D503*$D$6,#REF!*D503)","v":0}]
[null,493,null,null,{"$f":"IF(ISNUMBER($D$6),D504*$D$6,#REF!*D504)","v":0}]
[null,494,null,null,{"$f":"IF(ISNUMBER($D$6),D505*$D$6,#REF!*D505)","v":0}]
[null,495,null,null,{"$f":"IF(ISNUMBER($D$6),D506*$D$6,#REF!*D506)","v":0}]
[null,496,null,null,{"$f":"IF(ISNUMBER($D$6),D507*$D$6,#REF!*D507)","v":0}]
[null,497,null,null,{"$f":"IF(ISNUMBER($D$6),D508*$D$6,#REF!*D508)","v":0}]
[null,498,null,null,{"$f":"IF(ISNUMBER($D$6),D509*$D$6,#REF!*D509)","v":0}]
[null,499,null,null,{"$f":"IF(ISNUMBER($D$6),D510*$D$6,#REF!*D510)","v":0}]
[null,500,null,null,{"$f":"IF(ISNUMBER($D$6),D511*$D$6,#REF!*D511)","v":0}]
[null,501,null,null,{"$f":"IF(ISNUMBER($D$6),D512*$D$6,#REF!*D512)","v":0}]
[null,502,null,null,{"$f":"IF(ISNUMBER($D$6),D513*$D$6,#REF!*D513)","v":0}]
[null,503,null,null,{"$f":"IF(ISNUMBER($D$6),D514*$D$6,#REF!*D514)","v":0}]
[null,504,null,null,{"$f":"IF(ISNUMBER($D$6),D515*$D$6,#REF!*D515)","v":0}]
[null,505,null,null,{"$f":"IF(ISNUMBER($D$6),D516*$D$6,#REF!*D516)","v":0}]
[null,506,null,null,{"$f":"IF(ISNUMBER($D$6),D517*$D$6,#REF!*D517)","v":0}]
[null,507,null,null,{"$f":"IF(ISNUMBER($D$6),D518*$D$6,#REF!*D518)","v":0}]
[null,508,null,null,{"$f":"IF(ISNUMBER($D$6),D519*$D$6,#REF!*D519)","v":0}]
[null,509,null,null,{"$f":"IF(ISNUMBER($D$6),D520*$D$6,#REF!*D520)","v":0}]
[null,510,null,null,{"$f":"IF(ISNUMBER($D$6),D521*$D$6,#REF!*D521)","v":0}]
[null,511,null,null,{"$f":"IF(ISNUMBER($D$6),D522*$D$6,#REF!*D522)","v":0}]
[null,512,null,null,{"$f":"IF(ISNUMBER($D$6),D523*$D$6,#REF!*D523)","v":0}]
[null,513,null,null,{"$f":"IF(ISNUMBER($D$6),D524*$D$6,#REF!*D524)","v":0}]
[null,514,null,null,{"$f":"IF(ISNUMBER($D$6),D525*$D$6,#REF!*D525)","v":0}]
[null,{"$f":"+B525+1","v":515},null,null,{"$f":"IF(ISNUMBER($D$6),D526*$D$6,#REF!*D526)","v":0}]
[null,516,null,null,{"$f":"IF(ISNUMBER($D$6),D527*$D$6,#REF!*D527)","v":0}]
[null,517,null,null,{"$f":"IF(ISNUMBER($D$6),D528*$D$6,#REF!*D528)","v":0}]
[null,518,null,null,{"$f":"IF(ISNUMBER($D$6),D529*$D$6,#REF!*D529)","v":0}]
[null,519,null,null,{"$f":"IF(ISNUMBER($D$6),D530*$D$6,#REF!*D530)","v":0}]
[null,520,null,null,{"$f":"IF(ISNUMBER($D$6),D531*$D$6,#REF!*D531)","v":0}]
[null,521,null,null,{"$f":"IF(ISNUMBER($D$6),D532*$D$6,#REF!*D532)","v":0}]
[null,522,null,null,{"$f":"IF(ISNUMBER($D$6),D533*$D$6,#REF!*D533)","v":0}]
[null,523,null,null,{"$f":"IF(ISNUMBER($D$6),D534*$D$6,#REF!*D534)","v":0}]
[null,524,null,null,{"$f":"IF(ISNUMBER($D$6),D535*$D$6,#REF!*D535)","v":0}]
[null,525,null,null,{"$f":"IF(ISNUMBER($D$6),D536*$D$6,#REF!*D536)","v":0}]
[null,526,null,null,{"$f":"IF(ISNUMBER($D$6),D537*$D$6,#REF!*D537)","v":0}]
[null,527,null,null,{"$f":"IF(ISNUMBER($D$6),D538*$D$6,#REF!*D538)","v":0}]
[null,528,null,null,{"$f":"IF(ISNUMBER($D$6),D539*$D$6,#REF!*D539)","v":0}]
[null,529,null,null,{"$f":"IF(ISNUMBER($D$6),D540*$D$6,#REF!*D540)","v":0}]
[null,530,null,null,{"$f":"IF(ISNUMBER($D$6),D541*$D$6,#REF!*D541)","v":0}]
[null,531,null,null,{"$f":"IF(ISNUMBER($D$6),D542*$D$6,#REF!*D542)","v":0}]
[null,532,null,null,{"$f":"IF(ISNUMBER($D$6),D543*$D$6,#REF!*D543)","v":0}]
[null,533,null,null,{"$f":"IF(ISNUMBER($D$6),D544*$D$6,#REF!*D544)","v":0}]
[null,534,null,null,{"$f":"IF(ISNUMBER($D$6),D545*$D$6,#REF!*D545)","v":0}]
[null,535,null,null,{"$f":"IF(ISNUMBER($D$6),D546*$D$6,#REF!*D546)","v":0}]
[null,536,null,null,{"$f":"IF(ISNUMBER($D$6),D547*$D$6,#REF!*D547)","v":0}]
[null,537,null,null,{"$f":"IF(ISNUMBER($D$6),D548*$D$6,#REF!*D548)","v":0}]
[null,538,null,null,{"$f":"IF(ISNUMBER($D$6),D549*$D$6,#REF!*D549)","v":0}]
[null,539,null,null,{"$f":"IF(ISNUMBER($D$6),D550*$D$6,#REF!*D550)","v":0}]
[null,540,null,null,{"$f":"IF(ISNUMBER($D$6),D551*$D$6,#REF!*D551)","v":0}]
[null,541,null,null,{"$f":"IF(ISNUMBER($D$6),D552*$D$6,#REF!*D552)","v":0}]
[null,542,null,null,{"$f":"IF(ISNUMBER($D$6),D553*$D$6,#REF!*D553)","v":0}]
[null,543,null,null,{"$f":"IF(ISNUMBER($D$6),D554*$D$6,#REF!*D554)","v":0}]
[null,544,null,null,{"$f":"IF(ISNUMBER($D$6),D555*$D$6,#REF!*D555)","v":0}]
[null,545,null,null,{"$f":"IF(ISNUMBER($D$6),D556*$D$6,#REF!*D556)","v":0}]
[null,546,null,null,{"$f":"IF(ISNUMBER($D$6),D557*$D$6,#REF!*D557)","v":0}]
[null,547,null,null,{"$f":"IF(ISNUMBER($D$6),D558*$D$6,#REF!*D558)","v":0}]
[null,548,null,null,{"$f":"IF(ISNUMBER($D$6),D559*$D$6,#REF!*D559)","v":0}]
[null,549,null,null,{"$f":"IF(ISNUMBER($D$6),D560*$D$6,#REF!*D560)","v":0}]
[null,550,null,null,{"$f":"IF(ISNUMBER($D$6),D561*$D$6,#REF!*D561)","v":0}]
[null,551,null,null,{"$f":"IF(ISNUMBER($D$6),D562*$D$6,#REF!*D562)","v":0}]
[null,552,null,null,{"$f":"IF(ISNUMBER($D$6),D563*$D$6,#REF!*D563)","v":0}]
[null,553,null,null,{"$f":"IF(ISNUMBER($D$6),D564*$D$6,#REF!*D564)","v":0}]
[null,554,null,null,{"$f":"IF(ISNUMBER($D$6),D565*$D$6,#REF!*D565)","v":0}]
[null,555,null,null,{"$f":"IF(ISNUMBER($D$6),D566*$D$6,#REF!*D566)","v":0}]
[null,556,null,null,{"$f":"IF(ISNUMBER($D$6),D567*$D$6,#REF!*D567)","v":0}]
[null,557,null,null,{"$f":"IF(ISNUMBER($D$6),D568*$D$6,#REF!*D568)","v":0}]
[null,558,null,null,{"$f":"IF(ISNUMBER($D$6),D569*$D$6,#REF!*D569)","v":0}]
[null,559,null,null,{"$f":"IF(ISNUMBER($D$6),D570*$D$6,#REF!*D570)","v":0}]
[null,560,null,null,{"$f":"IF(ISNUMBER($D$6),D571*$D$6,#REF!*D571)","v":0}]
[null,561,null,null,{"$f":"IF(ISNUMBER($D$6),D572*$D$6,#REF!*D572)","v":0}]
[null,562,null,null,{"$f":"IF(ISNUMBER($D$6),D573*$D$6,#REF!*D573)","v":0}]
[null,563,null,null,{"$f":"IF(ISNUMBER($D$6),D574*$D$6,#REF!*D574)","v":0}]
[null,564,null,null,{"$f":"IF(ISNUMBER($D$6),D575*$D$6,#REF!*D575)","v":0}]
[null,565,null,null,{"$f":"IF(ISNUMBER($D$6),D576*$D$6,#REF!*D576)","v":0}]
[null,566,null,null,{"$f":"IF(ISNUMBER($D$6),D577*$D$6,#REF!*D577)","v":0}]
[null,567,null,null,{"$f":"IF(ISNUMBER($D$6),D578*$D$6,#REF!*D578)","v":0}]
[null,568,null,null,{"$f":"IF(ISNUMBER($D$6),D579*$D$6,#REF!*D579)","v":0}]
[null,569,null,null,{"$f":"IF(ISNUMBER($D$6),D580*$D$6,#REF!*D580)","v":0}]
[null,570,null,null,{"$f":"IF(ISNUMBER($D$6),D581*$D$6,#REF!*D581)","v":0}]
[null,571,null,null,{"$f":"IF(ISNUMBER($D$6),D582*$D$6,#REF!*D582)","v":0}]
[null,572,null,null,{"$f":"IF(ISNUMBER($D$6),D583*$D$6,#REF!*D583)","v":0}]
[null,573,null,null,{"$f":"IF(ISNUMBER($D$6),D584*$D$6,#REF!*D584)","v":0}]
[null,574,null,null,{"$f":"IF(ISNUMBER($D$6),D585*$D$6,#REF!*D585)","v":0}]
[null,575,null,null,{"$f":"IF(ISNUMBER($D$6),D586*$D$6,#REF!*D586)","v":0}]
[null,576,null,null,{"$f":"IF(ISNUMBER($D$6),D587*$D$6,#REF!*D587)","v":0}]
[null,577,null,null,{"$f":"IF(ISNUMBER($D$6),D588*$D$6,#REF!*D588)","v":0}]
[null,578,null,null,{"$f":"IF(ISNUMBER($D$6),D589*$D$6,#REF!*D589)","v":0}]
[null,{"$f":"+B589+1","v":579},null,null,{"$f":"IF(ISNUMBER($D$6),D590*$D$6,#REF!*D590)","v":0}]
[null,580,null,null,{"$f":"IF(ISNUMBER($D$6),D591*$D$6,#REF!*D591)","v":0}]
[null,581,null,null,{"$f":"IF(ISNUMBER($D$6),D592*$D$6,#REF!*D592)","v":0}]
[null,582,null,null,{"$f":"IF(ISNUMBER($D$6),D593*$D$6,#REF!*D593)","v":0}]
[null,583,null,null,{"$f":"IF(ISNUMBER($D$6),D594*$D$6,#REF!*D594)","v":0}]
[null,584,null,null,{"$f":"IF(ISNUMBER($D$6),D595*$D$6,#REF!*D595)","v":0}]
[null,585,null,null,{"$f":"IF(ISNUMBER($D$6),D596*$D$6,#REF!*D596)","v":0}]
[null,586,null,null,{"$f":"IF(ISNUMBER($D$6),D597*$D$6,#REF!*D597)","v":0}]
[null,587,null,null,{"$f":"IF(ISNUMBER($D$6),D598*$D$6,#REF!*D598)","v":0}]
[null,588,null,null,{"$f":"IF(ISNUMBER($D$6),D599*$D$6,#REF!*D599)","v":0}]
[null,589,null,null,{"$f":"IF(ISNUMBER($D$6),D600*$D$6,#REF!*D600)","v":0}]
[null,590,null,null,{"$f":"IF(ISNUMBER($D$6),D601*$D$6,#REF!*D601)","v":0}]
[null,591,null,null,{"$f":"IF(ISNUMBER($D$6),D602*$D$6,#REF!*D602)","v":0}]
[null,592,null,null,{"$f":"IF(ISNUMBER($D$6),D603*$D$6,#REF!*D603)","v":0}]
[null,593,null,null,{"$f":"IF(ISNUMBER($D$6),D604*$D$6,#REF!*D604)","v":0}]
[null,594,null,null,{"$f":"IF(ISNUMBER($D$6),D605*$D$6,#REF!*D605)","v":0}]
[null,595,null,null,{"$f":"IF(ISNUMBER($D$6),D606*$D$6,#REF!*D606)","v":0}]
[null,596,null,null,{"$f":"IF(ISNUMBER($D$6),D607*$D$6,#REF!*D607)","v":0}]
[null,597,null,null,{"$f":"IF(ISNUMBER($D$6),D608*$D$6,#REF!*D608)","v":0}]
[null,598,null,null,{"$f":"IF(ISNUMBER($D$6),D609*$D$6,#REF!*D609)","v":0}]
[null,599,null,null,{"$f":"IF(ISNUMBER($D$6),D610*$D$6,#REF!*D610)","v":0}]
[null,600,null,null,{"$f":"IF(ISNUMBER($D$6),D611*$D$6,#REF!*D611)","v":0}]
[null,601,null,null,{"$f":"IF(ISNUMBER($D$6),D612*$D$6,#REF!*D612)","v":0}]
[null,602,null,null,{"$f":"IF(ISNUMBER($D$6),D613*$D$6,#REF!*D613)","v":0}]
[null,603,null,null,{"$f":"IF(ISNUMBER($D$6),D614*$D$6,#REF!*D614)","v":0}]
[null,604,null,null,{"$f":"IF(ISNUMBER($D$6),D615*$D$6,#REF!*D615)","v":0}]
[null,605,null,null,{"$f":"IF(ISNUMBER($D$6),D616*$D$6,#REF!*D616)","v":0}]
[null,606,null,null,{"$f":"IF(ISNUMBER($D$6),D617*$D$6,#REF!*D617)","v":0}]
[null,607,null,null,{"$f":"IF(ISNUMBER($D$6),D618*$D$6,#REF!*D618)","v":0}]
[null,608,null,null,{"$f":"IF(ISNUMBER($D$6),D619*$D$6,#REF!*D619)","v":0}]
[null,609,null,null,{"$f":"IF(ISNUMBER($D$6),D620*$D$6,#REF!*D620)","v":0}]
[null,610,null,null,{"$f":"IF(ISNUMBER($D$6),D621*$D$6,#REF!*D621)","v":0}]
[null,611,null,null,{"$f":"IF(ISNUMBER($D$6),D622*$D$6,#REF!*D622)","v":0}]
[null,612,null,null,{"$f":"IF(ISNUMBER($D$6),D623*$D$6,#REF!*D623)","v":0}]
[null,613,null,null,{"$f":"IF(ISNUMBER($D$6),D624*$D$6,#REF!*D624)","v":0}]
[null,614,null,null,{"$f":"IF(ISNUMBER($D$6),D625*$D$6,#REF!*D625)","v":0}]
[null,615,null,null,{"$f":"IF(ISNUMBER($D$6),D626*$D$6,#REF!*D626)","v":0}]
[null,616,null,null,{"$f":"IF(ISNUMBER($D$6),D627*$D$6,#REF!*D627)","v":0}]
[null,617,null,null,{"$f":"IF(ISNUMBER($D$6),D628*$D$6,#REF!*D628)","v":0}]
[null,618,null,null,{"$f":"IF(ISNUMBER($D$6),D629*$D$6,#REF!*D629)","v":0}]
[null,619,null,null,{"$f":"IF(ISNUMBER($D$6),D630*$D$6,#REF!*D630)","v":0}]
[null,620,null,null,{"$f":"IF(ISNUMBER($D$6),D631*$D$6,#REF!*D631)","v":0}]
[null,621,null,null,{"$f":"IF(ISNUMBER($D$6),D632*$D$6,#REF!*D632)","v":0}]
[null,622,null,null,{"$f":"IF(ISNUMBER($D$6),D633*$D$6,#REF!*D633)","v":0}]
[null,623,null,null,{"$f":"IF(ISNUMBER($D$6),D634*$D$6,#REF!*D634)","v":0}]
[null,624,null,null,{"$f":"IF(ISNUMBER($D$6),D635*$D$6,#REF!*D635)","v":0}]
[null,625,null,null,{"$f":"IF(ISNUMBER($D$6),D636*$D$6,#REF!*D636)","v":0}]
[null,626,null,null,{"$f":"IF(ISNUMBER($D$6),D637*$D$6,#REF!*D637)","v":0}]
[null,627,null,null,{"$f":"IF(ISNUMBER($D$6),D638*$D$6,#REF!*D638)","v":0}]
[null,628,null,null,{"$f":"IF(ISNUMBER($D$6),D639*$D$6,#REF!*D639)","v":0}]
[null,629,null,null,{"$f":"IF(ISNUMBER($D$6),D640*$D$6,#REF!*D640)","v":0}]
[null,630,null,null,{"$f":"IF(ISNUMBER($D$6),D641*$D$6,#REF!*D641)","v":0}]
[null,631,null,null,{"$f":"IF(ISNUMBER($D$6),D642*$D$6,#REF!*D642)","v":0}]
[null,632,null,null,{"$f":"IF(ISNUMBER($D$6),D643*$D$6,#REF!*D643)","v":0}]
[null,633,null,null,{"$f":"IF(ISNUMBER($D$6),D644*$D$6,#REF!*D644)","v":0}]
[null,634,null,null,{"$f":"IF(ISNUMBER($D$6),D645*$D$6,#REF!*D645)","v":0}]
[null,635,null,null,{"$f":"IF(ISNUMBER($D$6),D646*$D$6,#REF!*D646)","v":0}]
[null,636,null,null,{"$f":"IF(ISNUMBER($D$6),D647*$D$6,#REF!*D647)","v":0}]
[null,637,null,null,{"$f":"IF(ISNUMBER($D$6),D648*$D$6,#REF!*D648)","v":0}]
[null,638,null,null,{"$f":"IF(ISNUMBER($D$6),D649*$D$6,#REF!*D649)","v":0}]
[null,639,null,null,{"$f":"IF(ISNUMBER($D$6),D650*$D$6,#REF!*D650)","v":0}]
[null,640,null,null,{"$f":"IF(ISNUMBER($D$6),D651*$D$6,#REF!*D651)","v":0}]
[null,641,null,null,{"$f":"IF(ISNUMBER($D$6),D652*$D$6,#REF!*D652)","v":0}]
[null,642,null,null,{"$f":"IF(ISNUMBER($D$6),D653*$D$6,#REF!*D653)","v":0}]
[null,{"$f":"+B653+1","v":643},null,null,{"$f":"IF(ISNUMBER($D$6),D654*$D$6,#REF!*D654)","v":0}]
[null,644,null,null,{"$f":"IF(ISNUMBER($D$6),D655*$D$6,#REF!*D655)","v":0}]
[null,645,null,null,{"$f":"IF(ISNUMBER($D$6),D656*$D$6,#REF!*D656)","v":0}]
[null,646,null,null,{"$f":"IF(ISNUMBER($D$6),D657*$D$6,#REF!*D657)","v":0}]
[null,647,null,null,{"$f":"IF(ISNUMBER($D$6),D658*$D$6,#REF!*D658)","v":0}]
[null,648,null,null,{"$f":"IF(ISNUMBER($D$6),D659*$D$6,#REF!*D659)","v":0}]
[null,649,null,null,{"$f":"IF(ISNUMBER($D$6),D660*$D$6,#REF!*D660)","v":0}]
[null,650,null,null,{"$f":"IF(ISNUMBER($D$6),D661*$D$6,#REF!*D661)","v":0}]
[null,651,null,null,{"$f":"IF(ISNUMBER($D$6),D662*$D$6,#REF!*D662)","v":0}]
[null,652,null,null,{"$f":"IF(ISNUMBER($D$6),D663*$D$6,#REF!*D663)","v":0}]
[null,653,null,null,{"$f":"IF(ISNUMBER($D$6),D664*$D$6,#REF!*D664)","v":0}]
[null,654,null,null,{"$f":"IF(ISNUMBER($D$6),D665*$D$6,#REF!*D665)","v":0}]
[null,655,null,null,{"$f":"IF(ISNUMBER($D$6),D666*$D$6,#REF!*D666)","v":0}]
[null,656,null,null,{"$f":"IF(ISNUMBER($D$6),D667*$D$6,#REF!*D667)","v":0}]
[null,657,null,null,{"$f":"IF(ISNUMBER($D$6),D668*$D$6,#REF!*D668)","v":0}]
[null,658,null,null,{"$f":"IF(ISNUMBER($D$6),D669*$D$6,#REF!*D669)","v":0}]
[null,659,null,null,{"$f":"IF(ISNUMBER($D$6),D670*$D$6,#REF!*D670)","v":0}]
[null,660,null,null,{"$f":"IF(ISNUMBER($D$6),D671*$D$6,#REF!*D671)","v":0}]
[null,661,null,null,{"$f":"IF(ISNUMBER($D$6),D672*$D$6,#REF!*D672)","v":0}]
[null,662,null,null,{"$f":"IF(ISNUMBER($D$6),D673*$D$6,#REF!*D673)","v":0}]
[null,663,null,null,{"$f":"IF(ISNUMBER($D$6),D674*$D$6,#REF!*D674)","v":0}]
[null,664,null,null,{"$f":"IF(ISNUMBER($D$6),D675*$D$6,#REF!*D675)","v":0}]
[null,665,null,null,{"$f":"IF(ISNUMBER($D$6),D676*$D$6,#REF!*D676)","v":0}]
[null,666,null,null,{"$f":"IF(ISNUMBER($D$6),D677*$D$6,#REF!*D677)","v":0}]
[null,667,null,null,{"$f":"IF(ISNUMBER($D$6),D678*$D$6,#REF!*D678)","v":0}]
[null,668,null,null,{"$f":"IF(ISNUMBER($D$6),D679*$D$6,#REF!*D679)","v":0}]
[null,669,null,null,{"$f":"IF(ISNUMBER($D$6),D680*$D$6,#REF!*D680)","v":0}]
[null,670,null,null,{"$f":"IF(ISNUMBER($D$6),D681*$D$6,#REF!*D681)","v":0}]
[null,671,null,null,{"$f":"IF(ISNUMBER($D$6),D682*$D$6,#REF!*D682)","v":0}]
[null,672,null,null,{"$f":"IF(ISNUMBER($D$6),D683*$D$6,#REF!*D683)","v":0}]
[null,673,null,null,{"$f":"IF(ISNUMBER($D$6),D684*$D$6,#REF!*D684)","v":0}]
[null,674,null,null,{"$f":"IF(ISNUMBER($D$6),D685*$D$6,#REF!*D685)","v":0}]
[null,675,null,null,{"$f":"IF(ISNUMBER($D$6),D686*$D$6,#REF!*D686)","v":0}]
[null,676,null,null,{"$f":"IF(ISNUMBER($D$6),D687*$D$6,#REF!*D687)","v":0}]
[null,677,null,null,{"$f":"IF(ISNUMBER($D$6),D688*$D$6,#REF!*D688)","v":0}]
[null,678,null,null,{"$f":"IF(ISNUMBER($D$6),D689*$D$6,#REF!*D689)","v":0}]
[null,679,null,null,{"$f":"IF(ISNUMBER($D$6),D690*$D$6,#REF!*D690)","v":0}]
[null,680,null,null,{"$f":"IF(ISNUMBER($D$6),D691*$D$6,#REF!*D691)","v":0}]
[null,681,null,null,{"$f":"IF(ISNUMBER($D$6),D692*$D$6,#REF!*D692)","v":0}]
[null,682,null,null,{"$f":"IF(ISNUMBER($D$6),D693*$D$6,#REF!*D693)","v":0}]
[null,683,null,null,{"$f":"IF(ISNUMBER($D$6),D694*$D$6,#REF!*D694)","v":0}]
[null,684,null,null,{"$f":"IF(ISNUMBER($D$6),D695*$D$6,#REF!*D695)","v":0}]
[null,685,null,null,{"$f":"IF(ISNUMBER($D$6),D696*$D$6,#REF!*D696)","v":0}]
[null,686,null,null,{"$f":"IF(ISNUMBER($D$6),D697*$D$6,#REF!*D697)","v":0}]
[null,687,null,null,{"$f":"IF(ISNUMBER($D$6),D698*$D$6,#REF!*D698)","v":0}]
[null,688,null,null,{"$f":"IF(ISNUMBER($D$6),D699*$D$6,#REF!*D699)","v":0}]
[null,689,null,null,{"$f":"IF(ISNUMBER($D$6),D700*$D$6,#REF!*D700)","v":0}]
[null,690,null,null,{"$f":"IF(ISNUMBER($D$6),D701*$D$6,#REF!*D701)","v":0}]
[null,691,null,null,{"$f":"IF(ISNUMBER($D$6),D702*$D$6,#REF!*D702)","v":0}]
[null,692,null,null,{"$f":"IF(ISNUMBER($D$6),D703*$D$6,#REF!*D703)","v":0}]
[null,693,null,null,{"$f":"IF(ISNUMBER($D$6),D704*$D$6,#REF!*D704)","v":0}]
[null,694,null,null,{"$f":"IF(ISNUMBER($D$6),D705*$D$6,#REF!*D705)","v":0}]
[null,695,null,null,{"$f":"IF(ISNUMBER($D$6),D706*$D$6,#REF!*D706)","v":0}]
[null,696,null,null,{"$f":"IF(ISNUMBER($D$6),D707*$D$6,#REF!*D707)","v":0}]
[null,697,null,null,{"$f":"IF(ISNUMBER($D$6),D708*$D$6,#REF!*D708)","v":0}]
[null,698,null,null,{"$f":"IF(ISNUMBER($D$6),D709*$D$6,#REF!*D709)","v":0}]
[null,699,null,null,{"$f":"IF(ISNUMBER($D$6),D710*$D$6,#REF!*D710)","v":0}]
[null,700,null,null,{"$f":"IF(ISNUMBER($D$6),D711*$D$6,#REF!*D711)","v":0}]
[null,701,null,null,{"$f":"IF(ISNUMBER($D$6),D712*$D$6,#REF!*D712)","v":0}]
[null,702,null,null,{"$f":"IF(ISNUMBER($D$6),D713*$D$6,#REF!*D713)","v":0}]
[null,703,null,null,{"$f":"IF(ISNUMBER($D$6),D714*$D$6,#REF!*D714)","v":0}]
[null,704,null,null,{"$f":"IF(ISNUMBER($D$6),D715*$D$6,#REF!*D715)","v":0}]
[null,705,null,null,{"$f":"IF(ISNUMBER($D$6),D716*$D$6,#REF!*D716)","v":0}]
[null,706,null,null,{"$f":"IF(ISNUMBER($D$6),D717*$D$6,#REF!*D717)","v":0}]
[null,{"$f":"+B717+1","v":707},null,null,{"$f":"IF(ISNUMBER($D$6),D718*$D$6,#REF!*D718)","v":0}]
[null,708,null,null,{"$f":"IF(ISNUMBER($D$6),D719*$D$6,#REF!*D719)","v":0}]
[null,709,null,null,{"$f":"IF(ISNUMBER($D$6),D720*$D$6,#REF!*D720)","v":0}]
[null,710,null,null,{"$f":"IF(ISNUMBER($D$6),D721*$D$6,#REF!*D721)","v":0}]
[null,711,null,null,{"$f":"IF(ISNUMBER($D$6),D722*$D$6,#REF!*D722)","v":0}]
[null,712,null,null,{"$f":"IF(ISNUMBER($D$6),D723*$D$6,#REF!*D723)","v":0}]
[null,713,null,null,{"$f":"IF(ISNUMBER($D$6),D724*$D$6,#REF!*D724)","v":0}]
[null,714,null,null,{"$f":"IF(ISNUMBER($D$6),D725*$D$6,#REF!*D725)","v":0}]
[null,715,null,null,{"$f":"IF(ISNUMBER($D$6),D726*$D$6,#REF!*D726)","v":0}]
[null,716,null,null,{"$f":"IF(ISNUMBER($D$6),D727*$D$6,#REF!*D727)","v":0}]
[null,717,null,null,{"$f":"IF(ISNUMBER($D$6),D728*$D$6,#REF!*D728)","v":0}]
[null,718,null,null,{"$f":"IF(ISNUMBER($D$6),D729*$D$6,#REF!*D729)","v":0}]
[null,719,null,null,{"$f":"IF(ISNUMBER($D$6),D730*$D$6,#REF!*D730)","v":0}]
[null,720,null,null,{"$f":"IF(ISNUMBER($D$6),D731*$D$6,#REF!*D731)","v":0}]
[null,721,null,null,{"$f":"IF(ISNUMBER($D$6),D732*$D$6,#REF!*D732)","v":0}]
[null,722,null,null,{"$f":"IF(ISNUMBER($D$6),D733*$D$6,#REF!*D733)","v":0}]
[null,723,null,null,{"$f":"IF(ISNUMBER($D$6),D734*$D$6,#REF!*D734)","v":0}]
[null,724,null,null,{"$f":"IF(ISNUMBER($D$6),D735*$D$6,#REF!*D735)","v":0}]
[null,725,null,null,{"$f":"IF(ISNUMBER($D$6),D736*$D$6,#REF!*D736)","v":0}]
[null,726,null,null,{"$f":"IF(ISNUMBER($D$6),D737*$D$6,#REF!*D737)","v":0}]
[null,727,null,null,{"$f":"IF(ISNUMBER($D$6),D738*$D$6,#REF!*D738)","v":0}]
[null,728,null,null,{"$f":"IF(ISNUMBER($D$6),D739*$D$6,#REF!*D739)","v":0}]
[null,729,null,null,{"$f":"IF(ISNUMBER($D$6),D740*$D$6,#REF!*D740)","v":0}]
[null,730,null,null,{"$f":"IF(ISNUMBER($D$6),D741*$D$6,#REF!*D741)","v":0}]
[null,731,null,null,{"$f":"IF(ISNUMBER($D$6),D742*$D$6,#REF!*D742)","v":0}]
[null,732,null,null,{"$f":"IF(ISNUMBER($D$6),D743*$D$6,#REF!*D743)","v":0}]
[null,733,null,null,{"$f":"IF(ISNUMBER($D$6),D744*$D$6,#REF!*D744)","v":0}]
[null,734,null,null,{"$f":"IF(ISNUMBER($D$6),D745*$D$6,#REF!*D745)","v":0}]
[null,735,null,null,{"$f":"IF(ISNUMBER($D$6),D746*$D$6,#REF!*D746)","v":0}]
[null,736,null,null,{"$f":"IF(ISNUMBER($D$6),D747*$D$6,#REF!*D747)","v":0}]
[null,737,null,null,{"$f":"IF(ISNUMBER($D$6),D748*$D$6,#REF!*D748)","v":0}]
[null,738,null,null,{"$f":"IF(ISNUMBER($D$6),D749*$D$6,#REF!*D749)","v":0}]
[null,739,null,null,{"$f":"IF(ISNUMBER($D$6),D750*$D$6,#REF!*D750)","v":0}]
[null,740,null,null,{"$f":"IF(ISNUMBER($D$6),D751*$D$6,#REF!*D751)","v":0}]
[null,741,null,null,{"$f":"IF(ISNUMBER($D$6),D752*$D$6,#REF!*D752)","v":0}]
[null,742,null,null,{"$f":"IF(ISNUMBER($D$6),D753*$D$6,#REF!*D753)","v":0}]
[null,743,null,null,{"$f":"IF(ISNUMBER($D$6),D754*$D$6,#REF!*D754)","v":0}]
[null,744,null,null,{"$f":"IF(ISNUMBER($D$6),D755*$D$6,#REF!*D755)","v":0}]
[null,745,null,null,{"$f":"IF(ISNUMBER($D$6),D756*$D$6,#REF!*D756)","v":0}]
[null,746,null,null,{"$f":"IF(ISNUMBER($D$6),D757*$D$6,#REF!*D757)","v":0}]
[null,747,null,null,{"$f":"IF(ISNUMBER($D$6),D758*$D$6,#REF!*D758)","v":0}]
[null,748,null,null,{"$f":"IF(ISNUMBER($D$6),D759*$D$6,#REF!*D759)","v":0}]
[null,749,null,null,{"$f":"IF(ISNUMBER($D$6),D760*$D$6,#REF!*D760)","v":0}]
[null,750,null,null,{"$f":"IF(ISNUMBER($D$6),D761*$D$6,#REF!*D761)","v":0}]
[null,751,null,null,{"$f":"IF(ISNUMBER($D$6),D762*$D$6,#REF!*D762)","v":0}]
[null,752,null,null,{"$f":"IF(ISNUMBER($D$6),D763*$D$6,#REF!*D763)","v":0}]
[null,753,null,null,{"$f":"IF(ISNUMBER($D$6),D764*$D$6,#REF!*D764)","v":0}]
[null,754,null,null,{"$f":"IF(ISNUMBER($D$6),D765*$D$6,#REF!*D765)","v":0}]
[null,755,null,null,{"$f":"IF(ISNUMBER($D$6),D766*$D$6,#REF!*D766)","v":0}]
[null,756,null,null,{"$f":"IF(ISNUMBER($D$6),D767*$D$6,#REF!*D767)","v":0}]
[null,{"$f":"+B767+1","v":757},null,null,{"$f":"IF(ISNUMBER($D$6),D768*$D$6,#REF!*D768)","v":0}]
[null,{"$f":"+B768+1","v":758},null,null,{"$f":"IF(ISNUMBER($D$6),D769*$D$6,#REF!*D769)","v":0}]
[null,759,null,null,{"$f":"IF(ISNUMBER($D$6),D770*$D$6,#REF!*D770)","v":0}]
[null,760,null,null,{"$f":"IF(ISNUMBER($D$6),D771*$D$6,#REF!*D771)","v":0}]
[null,761,null,null,{"$f":"IF(ISNUMBER($D$6),D772*$D$6,#REF!*D772)","v":0}]
[null,762,null,null,{"$f":"IF(ISNUMBER($D$6),D773*$D$6,#REF!*D773)","v":0}]
[null,763,null,null,{"$f":"IF(ISNUMBER($D$6),D774*$D$6,#REF!*D774)","v":0}]
[null,764,null,null,{"$f":"IF(ISNUMBER($D$6),D775*$D$6,#REF!*D775)","v":0}]
[null,765,null,null,{"$f":"IF(ISNUMBER($D$6),D776*$D$6,#REF!*D776)","v":0}]
[null,766,null,null,{"$f":"IF(ISNUMBER($D$6),D777*$D$6,#REF!*D777)","v":0}]
[null,767,null,null,{"$f":"IF(ISNUMBER($D$6),D778*$D$6,#REF!*D778)","v":0}]
[null,768,null,null,{"$f":"IF(ISNUMBER($D$6),D779*$D$6,#REF!*D779)","v":0}]
[null,769,null,null,{"$f":"IF(ISNUMBER($D$6),D780*$D$6,#REF!*D780)","v":0}]
[null,770,null,null,{"$f":"IF(ISNUMBER($D$6),D781*$D$6,#REF!*D781)","v":0}]
[null,771,null,null,{"$f":"IF(ISNUMBER($D$6),D782*$D$6,#REF!*D782)","v":0}]
[null,772,null,null,{"$f":"IF(ISNUMBER($D$6),D783*$D$6,#REF!*D783)","v":0}]
[null,773,null,null,{"$f":"IF(ISNUMBER($D$6),D784*$D$6,#REF!*D784)","v":0}]
[null,774,null,null,{"$f":"IF(ISNUMBER($D$6),D785*$D$6,#REF!*D785)","v":0}]
[null,775,null,null,{"$f":"IF(ISNUMBER($D$6),D786*$D$6,#REF!*D786)","v":0}]
[null,{"$f":"+B786+1","v":776},null,null,{"$f":"IF(ISNUMBER($D$6),D787*$D$6,#REF!*D787)","v":0}]
[null,{"$f":"+B787+1","v":777},null,null,{"$f":"IF(ISNUMBER($D$6),D788*$D$6,#REF!*D788)","v":0}]
[null,778,null,null,{"$f":"IF(ISNUMBER($D$6),D789*$D$6,#REF!*D789)","v":0}]
[null,779,null,null,{"$f":"IF(ISNUMBER($D$6),D790*$D$6,#REF!*D790)","v":0}]
[null,780,null,null,{"$f":"IF(ISNUMBER($D$6),D791*$D$6,#REF!*D791)","v":0}]
[null,781,null,null,{"$f":"IF(ISNUMBER($D$6),D792*$D$6,#REF!*D792)","v":0}]
[null,782,null,null,{"$f":"IF(ISNUMBER($D$6),D793*$D$6,#REF!*D793)","v":0}]
[null,783,null,null,{"$f":"IF(ISNUMBER($D$6),D794*$D$6,#REF!*D794)","v":0}]
[null,784,null,null,{"$f":"IF(ISNUMBER($D$6),D795*$D$6,#REF!*D795)","v":0}]
[null,785,null,null,{"$f":"IF(ISNUMBER($D$6),D796*$D$6,#REF!*D796)","v":0}]
[null,786,null,null,{"$f":"IF(ISNUMBER($D$6),D797*$D$6,#REF!*D797)","v":0}]
[null,787,null,null,{"$f":"IF(ISNUMBER($D$6),D798*$D$6,#REF!*D798)","v":0}]
[null,788,null,null,{"$f":"IF(ISNUMBER($D$6),D799*$D$6,#REF!*D799)","v":0}]
[null,789,null,null,{"$f":"IF(ISNUMBER($D$6),D800*$D$6,#REF!*D800)","v":0}]
[null,790,null,null,{"$f":"IF(ISNUMBER($D$6),D801*$D$6,#REF!*D801)","v":0}]
[null,791,null,null,{"$f":"IF(ISNUMBER($D$6),D802*$D$6,#REF!*D802)","v":0}]
[null,792,null,null,{"$f":"IF(ISNUMBER($D$6),D803*$D$6,#REF!*D803)","v":0}]
[null,793,null,null,{"$f":"IF(ISNUMBER($D$6),D804*$D$6,#REF!*D804)","v":0}]
[null,794,null,null,{"$f":"IF(ISNUMBER($D$6),D805*$D$6,#REF!*D805)","v":0}]
[null,795,null,null,{"$f":"IF(ISNUMBER($D$6),D806*$D$6,#REF!*D806)","v":0}]
[null,796,null,null,{"$f":"IF(ISNUMBER($D$6),D807*$D$6,#REF!*D807)","v":0}]
[null,797,null,null,{"$f":"IF(ISNUMBER($D$6),D808*$D$6,#REF!*D808)","v":0}]
[null,798,null,null,{"$f":"IF(ISNUMBER($D$6),D809*$D$6,#REF!*D809)","v":0}]
[null,799,null,null,{"$f":"IF(ISNUMBER($D$6),D810*$D$6,#REF!*D810)","v":0}]
[null,800,null,null,{"$f":"IF(ISNUMBER($D$6),D811*$D$6,#REF!*D811)","v":0}]
[null,801,null,null,{"$f":"IF(ISNUMBER($D$6),D812*$D$6,#REF!*D812)","v":0}]
[null,802,null,null,{"$f":"IF(ISNUMBER($D$6),D813*$D$6,#REF!*D813)","v":0}]
[null,803,null,null,{"$f":"IF(ISNUMBER($D$6),D814*$D$6,#REF!*D814)","v":0}]
[null,804,null,null,{"$f":"IF(ISNUMBER($D$6),D815*$D$6,#REF!*D815)","v":0}]
[null,805,null,null,{"$f":"IF(ISNUMBER($D$6),D816*$D$6,#REF!*D816)","v":0}]
[null,806,null,null,{"$f":"IF(ISNUMBER($D$6),D817*$D$6,#REF!*D817)","v":0}]
[null,807,null,null,{"$f":"IF(ISNUMBER($D$6),D818*$D$6,#REF!*D818)","v":0}]
[null,808,null,null,{"$f":"IF(ISNUMBER($D$6),D819*$D$6,#REF!*D819)","v":0}]
[null,809,null,null,{"$f":"IF(ISNUMBER($D$6),D820*$D$6,#REF!*D820)","v":0}]
[null,810,null,null,{"$f":"IF(ISNUMBER($D$6),D821*$D$6,#REF!*D821)","v":0}]
[null,811,null,null,{"$f":"IF(ISNUMBER($D$6),D822*$D$6,#REF!*D822)","v":0}]
[null,812,null,null,{"$f":"IF(ISNUMBER($D$6),D823*$D$6,#REF!*D823)","v":0}]
[null,813,null,null,{"$f":"IF(ISNUMBER($D$6),D824*$D$6,#REF!*D824)","v":0}]
[null,814,null,null,{"$f":"IF(ISNUMBER($D$6),D825*$D$6,#REF!*D825)","v":0}]
[null,815,null,null,{"$f":"IF(ISNUMBER($D$6),D826*$D$6,#REF!*D826)","v":0}]
[null,816,null,null,{"$f":"IF(ISNUMBER($D$6),D827*$D$6,#REF!*D827)","v":0}]
[null,817,null,null,{"$f":"IF(ISNUMBER($D$6),D828*$D$6,#REF!*D828)","v":0}]
[null,818,null,null,{"$f":"IF(ISNUMBER($D$6),D829*$D$6,#REF!*D829)","v":0}]
[null,819,null,null,{"$f":"IF(ISNUMBER($D$6),D830*$D$6,#REF!*D830)","v":0}]
[null,820,null,null,{"$f":"IF(ISNUMBER($D$6),D831*$D$6,#REF!*D831)","v":0}]
[null,821,null,null,{"$f":"IF(ISNUMBER($D$6),D832*$D$6,#REF!*D832)","v":0}]
[null,822,null,null,{"$f":"IF(ISNUMBER($D$6),D833*$D$6,#REF!*D833)","v":0}]
[null,823,null,null,{"$f":"IF(ISNUMBER($D$6),D834*$D$6,#REF!*D834)","v":0}]
[null,824,null,null,{"$f":"IF(ISNUMBER($D$6),D835*$D$6,#REF!*D835)","v":0}]
[null,825,null,null,{"$f":"IF(ISNUMBER($D$6),D836*$D$6,#REF!*D836)","v":0}]
[null,826,null,null,{"$f":"IF(ISNUMBER($D$6),D837*$D$6,#REF!*D837)","v":0}]
[null,827,null,null,{"$f":"IF(ISNUMBER($D$6),D838*$D$6,#REF!*D838)","v":0}]
[null,828,null,null,{"$f":"IF(ISNUMBER($D$6),D839*$D$6,#REF!*D839)","v":0}]
[null,829,null,null,{"$f":"IF(ISNUMBER($D$6),D840*$D$6,#REF!*D840)","v":0}]
[null,830,null,null,{"$f":"IF(ISNUMBER($D$6),D841*$D$6,#REF!*D841)","v":0}]
[null,831,null,null,{"$f":"IF(ISNUMBER($D$6),D842*$D$6,#REF!*D842)","v":0}]
[null,832,null,null,{"$f":"IF(ISNUMBER($D$6),D843*$D$6,#REF!*D843)","v":0}]
[null,833,null,null,{"$f":"IF(ISNUMBER($D$6),D844*$D$6,#REF!*D844)","v":0}]
[null,834,null,null,{"$f":"IF(ISNUMBER($D$6),D845*$D$6,#REF!*D845)","v":0}]
[null,835,null,null,{"$f":"IF(ISNUMBER($D$6),D846*$D$6,#REF!*D846)","v":0}]
[null,836,null,null,{"$f":"IF(ISNUMBER($D$6),D847*$D$6,#REF!*D847)","v":0}]
[null,837,null,null,{"$f":"IF(ISNUMBER($D$6),D848*$D$6,#REF!*D848)","v":0}]
[null,838,null,null,{"$f":"IF(ISNUMBER($D$6),D849*$D$6,#REF!*D849)","v":0}]
[null,839,null,null,{"$f":"IF(ISNUMBER($D$6),D850*$D$6,#REF!*D850)","v":0}]
[null,840,null,null,{"$f":"IF(ISNUMBER($D$6),D851*$D$6,#REF!*D851)","v":0}]
[null,{"$f":"+B851+1","v":841},null,null,{"$f":"IF(ISNUMBER($D$6),D852*$D$6,#REF!*D852)","v":0}]
[null,842,null,null,{"$f":"IF(ISNUMBER($D$6),D853*$D$6,#REF!*D853)","v":0}]
[null,843,null,null,{"$f":"IF(ISNUMBER($D$6),D854*$D$6,#REF!*D854)","v":0}]
[null,844,null,null,{"$f":"IF(ISNUMBER($D$6),D855*$D$6,#REF!*D855)","v":0}]
[null,845,null,null,{"$f":"IF(ISNUMBER($D$6),D856*$D$6,#REF!*D856)","v":0}]
[null,846,null,null,{"$f":"IF(ISNUMBER($D$6),D857*$D$6,#REF!*D857)","v":0}]
[null,847,null,null,{"$f":"IF(ISNUMBER($D$6),D858*$D$6,#REF!*D858)","v":0}]
[null,848,null,null,{"$f":"IF(ISNUMBER($D$6),D859*$D$6,#REF!*D859)","v":0}]
[null,849,null,null,{"$f":"IF(ISNUMBER($D$6),D860*$D$6,#REF!*D860)","v":0}]
[null,850,null,null,{"$f":"IF(ISNUMBER($D$6),D861*$D$6,#REF!*D861)","v":0}]
[null,851,null,null,{"$f":"IF(ISNUMBER($D$6),D862*$D$6,#REF!*D862)","v":0}]
[null,852,null,null,{"$f":"IF(ISNUMBER($D$6),D863*$D$6,#REF!*D863)","v":0}]
[null,853,null,null,{"$f":"IF(ISNUMBER($D$6),D864*$D$6,#REF!*D864)","v":0}]
[null,854,null,null,{"$f":"IF(ISNUMBER($D$6),D865*$D$6,#REF!*D865)","v":0}]
[null,855,null,null,{"$f":"IF(ISNUMBER($D$6),D866*$D$6,#REF!*D866)","v":0}]
[null,856,null,null,{"$f":"IF(ISNUMBER($D$6),D867*$D$6,#REF!*D867)","v":0}]
[null,857,null,null,{"$f":"IF(ISNUMBER($D$6),D868*$D$6,#REF!*D868)","v":0}]
[null,858,null,null,{"$f":"IF(ISNUMBER($D$6),D869*$D$6,#REF!*D869)","v":0}]
[null,859,null,null,{"$f":"IF(ISNUMBER($D$6),D870*$D$6,#REF!*D870)","v":0}]
[null,860,null,null,{"$f":"IF(ISNUMBER($D$6),D871*$D$6,#REF!*D871)","v":0}]
[null,861,null,null,{"$f":"IF(ISNUMBER($D$6),D872*$D$6,#REF!*D872)","v":0}]
[null,862,null,null,{"$f":"IF(ISNUMBER($D$6),D873*$D$6,#REF!*D873)","v":0}]
[null,863,null,null,{"$f":"IF(ISNUMBER($D$6),D874*$D$6,#REF!*D874)","v":0}]
[null,864,null,null,{"$f":"IF(ISNUMBER($D$6),D875*$D$6,#REF!*D875)","v":0}]
[null,865,null,null,{"$f":"IF(ISNUMBER($D$6),D876*$D$6,#REF!*D876)","v":0}]
[null,866,null,null,{"$f":"IF(ISNUMBER($D$6),D877*$D$6,#REF!*D877)","v":0}]
[null,867,null,null,{"$f":"IF(ISNUMBER($D$6),D878*$D$6,#REF!*D878)","v":0}]
[null,868,null,null,{"$f":"IF(ISNUMBER($D$6),D879*$D$6,#REF!*D879)","v":0}]
[null,869,null,null,{"$f":"IF(ISNUMBER($D$6),D880*$D$6,#REF!*D880)","v":0}]
[null,870,null,null,{"$f":"IF(ISNUMBER($D$6),D881*$D$6,#REF!*D881)","v":0}]
[null,871,null,null,{"$f":"IF(ISNUMBER($D$6),D882*$D$6,#REF!*D882)","v":0}]
[null,872,null,null,{"$f":"IF(ISNUMBER($D$6),D883*$D$6,#REF!*D883)","v":0}]
[null,873,null,null,{"$f":"IF(ISNUMBER($D$6),D884*$D$6,#REF!*D884)","v":0}]
[null,874,null,null,{"$f":"IF(ISNUMBER($D$6),D885*$D$6,#REF!*D885)","v":0}]
[null,875,null,null,{"$f":"IF(ISNUMBER($D$6),D886*$D$6,#REF!*D886)","v":0}]
[null,876,null,null,{"$f":"IF(ISNUMBER($D$6),D887*$D$6,#REF!*D887)","v":0}]
[null,877,null,null,{"$f":"IF(ISNUMBER($D$6),D888*$D$6,#REF!*D888)","v":0}]
[null,878,null,null,{"$f":"IF(ISNUMBER($D$6),D889*$D$6,#REF!*D889)","v":0}]
[null,879,null,null,{"$f":"IF(ISNUMBER($D$6),D890*$D$6,#REF!*D890)","v":0}]
[null,880,null,null,{"$f":"IF(ISNUMBER($D$6),D891*$D$6,#REF!*D891)","v":0}]
[null,881,null,null,{"$f":"IF(ISNUMBER($D$6),D892*$D$6,#REF!*D892)","v":0}]
[null,882,null,null,{"$f":"IF(ISNUMBER($D$6),D893*$D$6,#REF!*D893)","v":0}]
[null,883,null,null,{"$f":"IF(ISNUMBER($D$6),D894*$D$6,#REF!*D894)","v":0}]
[null,884,null,null,{"$f":"IF(ISNUMBER($D$6),D895*$D$6,#REF!*D895)","v":0}]
[null,885,null,null,{"$f":"IF(ISNUMBER($D$6),D896*$D$6,#REF!*D896)","v":0}]
[null,886,null,null,{"$f":"IF(ISNUMBER($D$6),D897*$D$6,#REF!*D897)","v":0}]
[null,887,null,null,{"$f":"IF(ISNUMBER($D$6),D898*$D$6,#REF!*D898)","v":0}]
[null,888,null,null,{"$f":"IF(ISNUMBER($D$6),D899*$D$6,#REF!*D899)","v":0}]
[null,889,null,null,{"$f":"IF(ISNUMBER($D$6),D900*$D$6,#REF!*D900)","v":0}]
[null,890,null,null,{"$f":"IF(ISNUMBER($D$6),D901*$D$6,#REF!*D901)","v":0}]
[null,891,null,null,{"$f":"IF(ISNUMBER($D$6),D902*$D$6,#REF!*D902)","v":0}]
[null,892,null,null,{"$f":"IF(ISNUMBER($D$6),D903*$D$6,#REF!*D903)","v":0}]
[null,893,null,null,{"$f":"IF(ISNUMBER($D$6),D904*$D$6,#REF!*D904)","v":0}]
[null,894,null,null,{"$f":"IF(ISNUMBER($D$6),D905*$D$6,#REF!*D905)","v":0}]
[null,895,null,null,{"$f":"IF(ISNUMBER($D$6),D906*$D$6,#REF!*D906)","v":0}]
[null,896,null,null,{"$f":"IF(ISNUMBER($D$6),D907*$D$6,#REF!*D907)","v":0}]
[null,897,null,null,{"$f":"IF(ISNUMBER($D$6),D908*$D$6,#REF!*D908)","v":0}]
[null,898,null,null,{"$f":"IF(ISNUMBER($D$6),D909*$D$6,#REF!*D909)","v":0}]
[null,899,null,null,{"$f":"IF(ISNUMBER($D$6),D910*$D$6,#REF!*D910)","v":0}]
[null,900,null,null,{"$f":"IF(ISNUMBER($D$6),D911*$D$6,#REF!*D911)","v":0}]
[null,901,null,null,{"$f":"IF(ISNUMBER($D$6),D912*$D$6,#REF!*D912)","v":0}]
[null,902,null,null,{"$f":"IF(ISNUMBER($D$6),D913*$D$6,#REF!*D913)","v":0}]
[null,903,null,null,{"$f":"IF(ISNUMBER($D$6),D914*$D$6,#REF!*D914)","v":0}]
[null,904,null,null,{"$f":"IF(ISNUMBER($D$6),D915*$D$6,#REF!*D915)","v":0}]
[null,{"$f":"+B915+1","v":905},null,null,{"$f":"IF(ISNUMBER($D$6),D916*$D$6,#REF!*D916)","v":0}]
[null,906,null,null,{"$f":"IF(ISNUMBER($D$6),D917*$D$6,#REF!*D917)","v":0}]
[null,907,null,null,{"$f":"IF(ISNUMBER($D$6),D918*$D$6,#REF!*D918)","v":0}]
[null,908,null,null,{"$f":"IF(ISNUMBER($D$6),D919*$D$6,#REF!*D919)","v":0}]
[null,909,null,null,{"$f":"IF(ISNUMBER($D$6),D920*$D$6,#REF!*D920)","v":0}]
[null,910,null,null,{"$f":"IF(ISNUMBER($D$6),D921*$D$6,#REF!*D921)","v":0}]
[null,911,null,null,{"$f":"IF(ISNUMBER($D$6),D922*$D$6,#REF!*D922)","v":0}]
[null,912,null,null,{"$f":"IF(ISNUMBER($D$6),D923*$D$6,#REF!*D923)","v":0}]
[null,913,null,null,{"$f":"IF(ISNUMBER($D$6),D924*$D$6,#REF!*D924)","v":0}]
[null,914,null,null,{"$f":"IF(ISNUMBER($D$6),D925*$D$6,#REF!*D925)","v":0}]
[null,915,null,null,{"$f":"IF(ISNUMBER($D$6),D926*$D$6,#REF!*D926)","v":0}]
[null,916,null,null,{"$f":"IF(ISNUMBER($D$6),D927*$D$6,#REF!*D927)","v":0}]
[null,917,null,null,{"$f":"IF(ISNUMBER($D$6),D928*$D$6,#REF!*D928)","v":0}]
[null,918,null,null,{"$f":"IF(ISNUMBER($D$6),D929*$D$6,#REF!*D929)","v":0}]
[null,919,null,null,{"$f":"IF(ISNUMBER($D$6),D930*$D$6,#REF!*D930)","v":0}]
[null,920,null,null,{"$f":"IF(ISNUMBER($D$6),D931*$D$6,#REF!*D931)","v":0}]
[null,921,null,null,{"$f":"IF(ISNUMBER($D$6),D932*$D$6,#REF!*D932)","v":0}]
[null,922,null,null,{"$f":"IF(ISNUMBER($D$6),D933*$D$6,#REF!*D933)","v":0}]
[null,923,null,null,{"$f":"IF(ISNUMBER($D$6),D934*$D$6,#REF!*D934)","v":0}]
[null,924,null,null,{"$f":"IF(ISNUMBER($D$6),D935*$D$6,#REF!*D935)","v":0}]
[null,925,null,null,{"$f":"IF(ISNUMBER($D$6),D936*$D$6,#REF!*D936)","v":0}]
[null,926,null,null,{"$f":"IF(ISNUMBER($D$6),D937*$D$6,#REF!*D937)","v":0}]
[null,927,null,null,{"$f":"IF(ISNUMBER($D$6),D938*$D$6,#REF!*D938)","v":0}]
[null,928,null,null,{"$f":"IF(ISNUMBER($D$6),D939*$D$6,#REF!*D939)","v":0}]
[null,929,null,null,{"$f":"IF(ISNUMBER($D$6),D940*$D$6,#REF!*D940)","v":0}]
[null,930,null,null,{"$f":"IF(ISNUMBER($D$6),D941*$D$6,#REF!*D941)","v":0}]
[null,931,null,null,{"$f":"IF(ISNUMBER($D$6),D942*$D$6,#REF!*D942)","v":0}]
[null,932,null,null,{"$f":"IF(ISNUMBER($D$6),D943*$D$6,#REF!*D943)","v":0}]
[null,933,null,null,{"$f":"IF(ISNUMBER($D$6),D944*$D$6,#REF!*D944)","v":0}]
[null,934,null,null,{"$f":"IF(ISNUMBER($D$6),D945*$D$6,#REF!*D945)","v":0}]
[null,935,null,null,{"$f":"IF(ISNUMBER($D$6),D946*$D$6,#REF!*D946)","v":0}]
[null,936,null,null,{"$f":"IF(ISNUMBER($D$6),D947*$D$6,#REF!*D947)","v":0}]
[null,937,null,null,{"$f":"IF(ISNUMBER($D$6),D948*$D$6,#REF!*D948)","v":0}]
[null,938,null,null,{"$f":"IF(ISNUMBER($D$6),D949*$D$6,#REF!*D949)","v":0}]
[null,939,null,null,{"$f":"IF(ISNUMBER($D$6),D950*$D$6,#REF!*D950)","v":0}]
[null,940,null,null,{"$f":"IF(ISNUMBER($D$6),D951*$D$6,#REF!*D951)","v":0}]
[null,941,null,null,{"$f":"IF(ISNUMBER($D$6),D952*$D$6,#REF!*D952)","v":0}]
[null,942,null,null,{"$f":"IF(ISNUMBER($D$6),D953*$D$6,#REF!*D953)","v":0}]
[null,943,null,null,{"$f":"IF(ISNUMBER($D$6),D954*$D$6,#REF!*D954)","v":0}]
[null,944,null,null,{"$f":"IF(ISNUMBER($D$6),D955*$D$6,#REF!*D955)","v":0}]
[null,945,null,null,{"$f":"IF(ISNUMBER($D$6),D956*$D$6,#REF!*D956)","v":0}]
[null,946,null,null,{"$f":"IF(ISNUMBER($D$6),D957*$D$6,#REF!*D957)","v":0}]
[null,947,null,null,{"$f":"IF(ISNUMBER($D$6),D958*$D$6,#REF!*D958)","v":0}]
[null,948,null,null,{"$f":"IF(ISNUMBER($D$6),D959*$D$6,#REF!*D959)","v":0}]
[null,949,null,null,{"$f":"IF(ISNUMBER($D$6),D960*$D$6,#REF!*D960)","v":0}]
[null,950,null,null,{"$f":"IF(ISNUMBER($D$6),D961*$D$6,#REF!*D961)","v":0}]
[null,951,null,null,{"$f":"IF(ISNUMBER($D$6),D962*$D$6,#REF!*D962)","v":0}]
[null,952,null,null,{"$f":"IF(ISNUMBER($D$6),D963*$D$6,#REF!*D963)","v":0}]
[null,953,null,null,{"$f":"IF(ISNUMBER($D$6),D964*$D$6,#REF!*D964)","v":0}]
[null,954,null,null,{"$f":"IF(ISNUMBER($D$6),D965*$D$6,#REF!*D965)","v":0}]
[null,955,null,null,{"$f":"IF(ISNUMBER($D$6),D966*$D$6,#REF!*D966)","v":0}]
[null,956,null,null,{"$f":"IF(ISNUMBER($D$6),D967*$D$6,#REF!*D967)","v":0}]
[null,957,null,null,{"$f":"IF(ISNUMBER($D$6),D968*$D$6,#REF!*D968)","v":0}]
[null,958,null,null,{"$f":"IF(ISNUMBER($D$6),D969*$D$6,#REF!*D969)","v":0}]
[null,959,null,null,{"$f":"IF(ISNUMBER($D$6),D970*$D$6,#REF!*D970)","v":0}]
[null,960,null,null,{"$f":"IF(ISNUMBER($D$6),D971*$D$6,#REF!*D971)","v":0}]
[null,961,null,null,{"$f":"IF(ISNUMBER($D$6),D972*$D$6,#REF!*D972)","v":0}]
[null,962,null,null,{"$f":"IF(ISNUMBER($D$6),D973*$D$6,#REF!*D973)","v":0}]
[null,963,null,null,{"$f":"IF(ISNUMBER($D$6),D974*$D$6,#REF!*D974)","v":0}]
[null,964,null,null,{"$f":"IF(ISNUMBER($D$6),D975*$D$6,#REF!*D975)","v":0}]
[null,965,null,null,{"$f":"IF(ISNUMBER($D$6),D976*$D$6,#REF!*D976)","v":0}]
[null,966,null,null,{"$f":"IF(ISNUMBER($D$6),D977*$D$6,#REF!*D977)","v":0}]
[null,967,null,null,{"$f":"IF(ISNUMBER($D$6),D978*$D$6,#REF!*D978)","v":0}]
[null,968,null,null,{"$f":"IF(ISNUMBER($D$6),D979*$D$6,#REF!*D979)","v":0}]
[null,{"$f":"+B979+1","v":969},null,null,{"$f":"IF(ISNUMBER($D$6),D980*$D$6,#REF!*D980)","v":0}]
[null,970,null,null,{"$f":"IF(ISNUMBER($D$6),D981*$D$6,#REF!*D981)","v":0}]
[null,971,null,null,{"$f":"IF(ISNUMBER($D$6),D982*$D$6,#REF!*D982)","v":0}]
[null,972,null,null,{"$f":"IF(ISNUMBER($D$6),D983*$D$6,#REF!*D983)","v":0}]
[null,973,null,null,{"$f":"IF(ISNUMBER($D$6),D984*$D$6,#REF!*D984)","v":0}]
[null,974,null,null,{"$f":"IF(ISNUMBER($D$6),D985*$D$6,#REF!*D985)","v":0}]
[null,975,null,null,{"$f":"IF(ISNUMBER($D$6),D986*$D$6,#REF!*D986)","v":0}]
[null,976,null,null,{"$f":"IF(ISNUMBER($D$6),D987*$D$6,#REF!*D987)","v":0}]
[null,977,null,null,{"$f":"IF(ISNUMBER($D$6),D988*$D$6,#REF!*D988)","v":0}]
[null,978,null,null,{"$f":"IF(ISNUMBER($D$6),D989*$D$6,#REF!*D989)","v":0}]
[null,979,null,null,{"$f":"IF(ISNUMBER($D$6),D990*$D$6,#REF!*D990)","v":0}]
[null,980,null,null,{"$f":"IF(ISNUMBER($D$6),D991*$D$6,#REF!*D991)","v":0}]
[null,981,null,null,{"$f":"IF(ISNUMBER($D$6),D992*$D$6,#REF!*D992)","v":0}]
[null,982,null,null,{"$f":"IF(ISNUMBER($D$6),D993*$D$6,#REF!*D993)","v":0}]
[null,983,null,null,{"$f":"IF(ISNUMBER($D$6),D994*$D$6,#REF!*D994)","v":0}]
[null,984,null,null,{"$f":"IF(ISNUMBER($D$6),D995*$D$6,#REF!*D995)","v":0}]
[null,985,null,null,{"$f":"IF(ISNUMBER($D$6),D996*$D$6,#REF!*D996)","v":0}]
[null,986,null,null,{"$f":"IF(ISNUMBER($D$6),D997*$D$6,#REF!*D997)","v":0}]
[null,987,null,null,{"$f":"IF(ISNUMBER($D$6),D998*$D$6,#REF!*D998)","v":0}]
[null,988,null,null,{"$f":"IF(ISNUMBER($D$6),D999*$D$6,#REF!*D999)","v":0}]
[null,989,null,null,{"$f":"IF(ISNUMBER($D$6),D1000*$D$6,#REF!*D1000)","v":0}]
[null,990,null,null,{"$f":"IF(ISNUMBER($D$6),D1001*$D$6,#REF!*D1001)","v":0}]
[null,991,null,null,{"$f":"IF(ISNUMBER($D$6),D1002*$D$6,#REF!*D1002)","v":0}]
[null,992,null,null,{"$f":"IF(ISNUMBER($D$6),D1003*$D$6,#REF!*D1003)","v":0}]
[null,993,null,null,{"$f":"IF(ISNUMBER($D$6),D1004*$D$6,#REF!*D1004)","v":0}]
[null,994,null,null,{"$f":"IF(ISNUMBER($D$6),D1005*$D$6,#REF!*D1005)","v":0}]
[null,995,null,null,{"$f":"IF(ISNUMBER($D$6),D1006*$D$6,#REF!*D1006)","v":0}]
[null,996,null,null,{"$f":"IF(ISNUMBER($D$6),D1007*$D$6,#REF!*D1007)","v":0}]
[null,997,null,null,{"$f":"IF(ISNUMBER($D$6),D1008*$D$6,#REF!*D1008)","v":0}]
[null,998,null,null,{"$f":"IF(ISNUMBER($D$6),D1009*$D$6,#REF!*D1009)","v":0}]
[null,999,null,null,{"$f":"IF(ISNUMBER($D$6),D1010*$D$6,#REF!*D1010)","v":0}]
[null,1000,null,null,{"$f":"IF(ISNUMBER($D$6),D1011*$D$6,#REF!*D1011)","v":0}]

{"sheet":"Pontos de Monitorização2","index":5,"n_rows":1011,"n_cols":5,"rows_kept":1011,"cut":false,"hidden":true,"merged":[[1,1,2,4],[4,1,4,2],[5,1,5,2],[7,1,7,2]]}
[]
[null,"SISTEMAS DE QUANTIFICAÇÃO, MONITORIZAÇÃO CONTÍNUA E GESTÃO DE ENERGIA"]
[]
[]
[null,"Identifique a fonte de energia:",null,{"$f":"+Economias!E21","v":0},"(t)"]
[null,"Fator de conversão:",null,{"$f":"+Economias!E24","v":0},{"$f":"\"tep/\"&$E$5&\"\"","v":"tep/(t)"}]
[]
[null,"Indique o número total de pontos a monitorizar:"]
[]
[]
[null,"número do ponto de monitorização","Identificação do ponto de monitorização",{"$f":"IF(D5=\"Energia elétrica\",\"Utilização anual de \"&$D$5&\" (kWh/ano)\",\"Utilização anual de \"&$D$5&\" (t/ano)\")","v":"Utilização anual de 0 (t/ano)"},"Consumo energético referente ao ano de referência (tep/ano)"]
[null,1,null,null,{"$f":"IF(ISNUMBER($D$6),D12*$D$6,#REF!*D12)","v":0}]
[null,{"$f":"+B12+1","v":2},null,null,{"$f":"IF(ISNUMBER($D$6),D13*$D$6,#REF!*D13)","v":0}]
[null,{"$f":"+B13+1","v":3},null,null,{"$f":"IF(ISNUMBER($D$6),D14*$D$6,#REF!*D14)","v":0}]
[null,4,null,null,{"$f":"IF(ISNUMBER($D$6),D15*$D$6,#REF!*D15)","v":0}]
[null,5,null,null,{"$f":"IF(ISNUMBER($D$6),D16*$D$6,#REF!*D16)","v":0}]
[null,6,null,null,{"$f":"IF(ISNUMBER($D$6),D17*$D$6,#REF!*D17)","v":0}]
[null,7,null,null,{"$f":"IF(ISNUMBER($D$6),D18*$D$6,#REF!*D18)","v":0}]
[null,8,null,null,{"$f":"IF(ISNUMBER($D$6),D19*$D$6,#REF!*D19)","v":0}]
[null,9,null,null,{"$f":"IF(ISNUMBER($D$6),D20*$D$6,#REF!*D20)","v":0}]
[null,10,null,null,{"$f":"IF(ISNUMBER($D$6),D21*$D$6,#REF!*D21)","v":0}]
[null,11,null,null,{"$f":"IF(ISNUMBER($D$6),D22*$D$6,#REF!*D22)","v":0}]
[null,12,null,null,{"$f":"IF(ISNUMBER($D$6),D23*$D$6,#REF!*D23)","v":0}]
[null,13,null,null,{"$f":"IF(ISNUMBER($D$6),D24*$D$6,#REF!*D24)","v":0}]
[null,14,null,null,{"$f":"IF(ISNUMBER($D$6),D25*$D$6,#REF!*D25)","v":0}]
[null,15,null,null,{"$f":"IF(ISNUMBER($D$6),D26*$D$6,#REF!*D26)","v":0}]
[null,16,null,null,{"$f":"IF(ISNUMBER($D$6),D27*$D$6,#REF!*D27)","v":0}]
[null,17,null,null,{"$f":"IF(ISNUMBER($D$6),D28*$D$6,#REF!*D28)","v":0}]
[null,18,null,null,{"$f":"IF(ISNUMBER($D$6),D29*$D$6,#REF!*D29)","v":0}]
[null,19,null,null,{"$f":"IF(ISNUMBER($D$6),D30*$D$6,#REF!*D30)","v":0}]
[null,20,null,null,{"$f":"IF(ISNUMBER($D$6),D31*$D$6,#REF!*D31)","v":0}]
[null,21,null,null,{"$f":"IF(ISNUMBER($D$6),D32*$D$6,#REF!*D32)","v":0}]
[null,22,null,null,{"$f":"IF(ISNUMBER($D$6),D33*$D$6,#REF!*D33)","v":0}]
[null,23,null,null,{"$f":"IF(ISNUMBER($D$6),D34*$D$6,#REF!*D34)","v":0}]
[null,24,null,null,{"$f":"IF(ISNUMBER($D$6),D35*$D$6,#REF!*D35)","v":0}]
[null,25,null,null,{"$f":"IF(ISNUMBER($D$6),D36*$D$6,#REF!*D36)","v":0}]
[null,26,null,null,{"$f":"IF(ISNUMBER($D$6),D37*$D$6,#REF!*D37)","v":0}]
[null,27,null,null,{"$f":"IF(ISNUMBER($D$6),D38*$D$6,#REF!*D38)","v":0}]
[null,28,null,null,{"$f":"IF(ISNUMBER($D$6),D39*$D$6,#REF!*D39)","v":0}]
[null,29,null,null,{"$f":"IF(ISNUMBER($D$6),D40*$D$6,#REF!*D40)","v":0}]
[null,30,null,null,{"$f":"IF(ISNUMBER($D$6),D41*$D$6,#REF!*D41)","v":0}]
[null,31,null,null,{"$f":"IF(ISNUMBER($D$6),D42*$D$6,#REF!*D42)","v":0}]
[null,32,null,null,{"$f":"IF(ISNUMBER($D$6),D43*$D$6,#REF!*D43)","v":0}]
[null,33,null,null,{"$f":"IF(ISNUMBER($D$6),D44*$D$6,#REF!*D44)","v":0}]
[null,34,null,null,{"$f":"IF(ISNUMBER($D$6),D45*$D$6,#REF!*D45)","v":0}]
[null,35,null,null,{"$f":"IF(ISNUMBER($D$6),D46*$D$6,#REF!*D46)","v":0}]
[null,36,null,null,{"$f":"IF(ISNUMBER($D$6),D47*$D$6,#REF!*D47)","v":0}]
[null,37,null,null,{"$f":"IF(ISNUMBER($D$6),D48*$D$6,#REF!*D48)","v":0}]
[null,38,null,null,{"$f":"IF(ISNUMBER($D$6),D49*$D$6,#REF!*D49)","v":0}]
[null,39,null,null,{"$f":"IF(ISNUMBER($D$6),D50*$D$6,#REF!*D50)","v":0}]
[null,40,null,null,{"$f":"IF(ISNUMBER($D$6),D51*$D$6,#REF!*D51)","v":0}]
[null,41,null,null,{"$f":"IF(ISNUMBER($D$6),D52*$D$6,#REF!*D52)","v":0}]
[null,42,null,null,{"$f":"IF(ISNUMBER($D$6),D53*$D$6,#REF!*D53)","v":0}]
[null,43,null,null,{"$f":"IF(ISNUMBER($D$6),D54*$D$6,#REF!*D54)","v":0}]
[null,44,null,null,{"$f":"IF(ISNUMBER($D$6),D55*$D$6,#REF!*D55)","v":0}]
[null,45,null,null,{"$f":"IF(ISNUMBER($D$6),D56*$D$6,#REF!*D56)","v":0}]
[null,46,null,null,{"$f":"IF(ISNUMBER($D$6),D57*$D$6,#REF!*D57)","v":0}]
[null,47,null,null,{"$f":"IF(ISNUMBER($D$6),D58*$D$6,#REF!*D58)","v":0}]
[null,48,null,null,{"$f":"IF(ISNUMBER($D$6),D59*$D$6,#REF!*D59)","v":0}]
[null,49,null,null,{"$f":"IF(ISNUMBER($D$6),D60*$D$6,#REF!*D60)","v":0}]
[null,50,null,null,{"$f":"IF(ISNUMBER($D$6),D61*$D$6,#REF!*D61)","v":0}]
[null,51,null,null,{"$f":"IF(ISNUMBER($D$6),D62*$D$6,#REF!*D62)","v":0}]
[null,52,null,null,{"$f":"IF(ISNUMBER($D$6),D63*$D$6,#REF!*D63)","v":0}]
[null,53,null,null,{"$f":"IF(ISNUMBER($D$6),D64*$D$6,#REF!*D64)","v":0}]
[null,54,null,null,{"$f":"IF(ISNUMBER($D$6),D65*$D$6,#REF!*D65)","v":0}]
[null,55,null,null,{"$f":"IF(ISNUMBER($D$6),D66*$D$6,#REF!*D66)","v":0}]
[null,56,null,null,{"$f":"IF(ISNUMBER($D$6),D67*$D$6,#REF!*D67)","v":0}]
[null,57,null,null,{"$f":"IF(ISNUMBER($D$6),D68*$D$6,#REF!*D68)","v":0}]
[null,58,null,null,{"$f":"IF(ISNUMBER($D$6),D69*$D$6,#REF!*D69)","v":0}]
[null,59,null,null,{"$f":"IF(ISNUMBER($D$6),D70*$D$6,#REF!*D70)","v":0}]
[null,60,null,null,{"$f":"IF(ISNUMBER($D$6),D71*$D$6,#REF!*D71)","v":0}]
[null,61,null,null,{"$f":"IF(ISNUMBER($D$6),D72*$D$6,#REF!*D72)","v":0}]
[null,62,null,null,{"$f":"IF(ISNUMBER($D$6),D73*$D$6,#REF!*D73)","v":0}]
[null,63,null,null,{"$f":"IF(ISNUMBER($D$6),D74*$D$6,#REF!*D74)","v":0}]
[null,64,null,null,{"$f":"IF(ISNUMBER($D$6),D75*$D$6,#REF!*D75)","v":0}]
[null,65,null,null,{"$f":"IF(ISNUMBER($D$6),D76*$D$6,#REF!*D76)","v":0}]
[null,66,null,null,{"$f":"IF(ISNUMBER($D$6),D77*$D$6,#REF!*D77)","v":0}]
[null,{"$f":"+B77+1","v":67},null,null,{"$f":"IF(ISNUMBER($D$6),D78*$D$6,#REF!*D78)","v":0}]
[null,68,null,null,{"$f":"IF(ISNUMBER($D$6),D79*$D$6,#REF!*D79)","v":0}]
[null,69,null,null,{"$f":"IF(ISNUMBER($D$6),D80*$D$6,#REF!*D80)","v":0}]
[null,70,null,null,{"$f":"IF(ISNUMBER($D$6),D81*$D$6,#REF!*D81)","v":0}]
[null,71,null,null,{"$f":"IF(ISNUMBER($D$6),D82*$D$6,#REF!*D82)","v":0}]
[null,72,null,null,{"$f":"IF(ISNUMBER($D$6),D83*$D$6,#REF!*D83)","v":0}]
[null,73,null,null,{"$f":"IF(ISNUMBER($D$6),D84*$D$6,#REF!*D84)","v":0}]
[null,74,null,null,{"$f":"IF(ISNUMBER($D$6),D85*$D$6,#REF!*D85)","v":0}]
[null,75,null,null,{"$f":"IF(ISNUMBER($D$6),D86*$D$6,#REF!*D86)","v":0}]
[null,76,null,null,{"$f":"IF(ISNUMBER($D$6),D87*$D$6,#REF!*D87)","v":0}]
[null,77,null,null,{"$f":"IF(ISNUMBER($D$6),D88*$D$6,#REF!*D88)","v":0}]
[null,78,null,null,{"$f":"IF(ISNUMBER($D$6),D89*$D$6,#REF!*D89)","v":0}]
[null,79,null,null,{"$f":"IF(ISNUMBER($D$6),D90*$D$6,#REF!*D90)","v":0}]
[null,80,null,null,{"$f":"IF(ISNUMBER($D$6),D91*$D$6,#REF!*D91)","v":0}]
[null,81,null,null,{"$f":"IF(ISNUMBER($D$6),D92*$D$6,#REF!*D92)","v":0}]
[null,82,null,null,{"$f":"IF(ISNUMBER($D$6),D93*$D$6,#REF!*D93)","v":0}]
[null,83,null,null,{"$f":"IF(ISNUMBER($D$6),D94*$D$6,#REF!*D94)","v":0}]
[null,84,null,null,{"$f":"IF(ISNUMBER($D$6),D95*$D$6,#REF!*D95)","v":0}]
[null,85,null,null,{"$f":"IF(ISNUMBER($D$6),D96*$D$6,#REF!*D96)","v":0}]
[null,86,null,null,{"$f":"IF(ISNUMBER($D$6),D97*$D$6,#REF!*D97)","v":0}]
[null,87,null,null,{"$f":"IF(ISNUMBER($D$6),D98*$D$6,#REF!*D98)","v":0}]
[null,88,null,null,{"$f":"IF(ISNUMBER($D$6),D99*$D$6,#REF!*D99)","v":0}]
[null,89,null,null,{"$f":"IF(ISNUMBER($D$6),D100*$D$6,#REF!*D100)","v":0}]
[null,90,null,null,{"$f":"IF(ISNUMBER($D$6),D101*$D$6,#REF!*D101)","v":0}]
[null,91,null,null,{"$f":"IF(ISNUMBER($D$6),D102*$D$6,#REF!*D102)","v":0}]
[null,92,null,null,{"$f":"IF(ISNUMBER($D$6),D103*$D$6,#REF!*D103)","v":0}]
[null,93,null,null,{"$f":"IF(ISNUMBER($D$6),D104*$D$6,#REF!*D104)","v":0}]
[null,94,null,null,{"$f":"IF(ISNUMBER($D$6),D105*$D$6,#REF!*D105)","v":0}]
[null,95,null,null,{"$f":"IF(ISNUMBER($D$6),D106*$D$6,#REF!*D106)","v":0}]
[null,96,null,null,{"$f":"IF(ISNUMBER($D$6),D107*$D$6,#REF!*D107)","v":0}]
[null,97,null,null,{"$f":"IF(ISNUMBER($D$6),D108*$D$6,#REF!*D108)","v":0}]
[null,98,null,null,{"$f":"IF(ISNUMBER($D$6),D109*$D$6,#REF!*D109)","v":0}]
[null,99,null,null,{"$f":"IF(ISNUMBER($D$6),D110*$D$6,#REF!*D110)","v":0}]
[null,100,null,null,{"$f":"IF(ISNUMBER($D$6),D111*$D$6,#REF!*D111)","v":0}]
[null,101,null,null,{"$f":"IF(ISNUMBER($D$6),D112*$D$6,#REF!*D112)","v":0}]
[null,102,null,null,{"$f":"IF(ISNUMBER($D$6),D113*$D$6,#REF!*D113)","v":0}]
[null,103,null,null,{"$f":"IF(ISNUMBER($D$6),D114*$D$6,#REF!*D114)","v":0}]
[null,104,null,null,{"$f":"IF(ISNUMBER($D$6),D115*$D$6,#REF!*D115)","v":0}]
[null,105,null,null,{"$f":"IF(ISNUMBER($D$6),D116*$D$6,#REF!*D116)","v":0}]
[null,106,null,null,{"$f":"IF(ISNUMBER($D$6),D117*$D$6,#REF!*D117)","v":0}]
[null,107,null,null,{"$f":"IF(ISNUMBER($D$6),D118*$D$6,#REF!*D118)","v":0}]
[null,108,null,null,{"$f":"IF(ISNUMBER($D$6),D119*$D$6,#REF!*D119)","v":0}]
[null,109,null,null,{"$f":"IF(ISNUMBER($D$6),D120*$D$6,#REF!*D120)","v":0}]
[null,110,null,null,{"$f":"IF(ISNUMBER($D$6),D121*$D$6,#REF!*D121)","v":0}]
[null,111,null,null,{"$f":"IF(ISNUMBER($D$6),D122*$D$6,#REF!*D122)","v":0}]
[null,112,null,null,{"$f":"IF(ISNUMBER($D$6),D123*$D$6,#REF!*D123)","v":0}]
[null,113,null,null,{"$f":"IF(ISNUMBER($D$6),D124*$D$6,#REF!*D124)","v":0}]
[null,114,null,null,{"$f":"IF(ISNUMBER($D$6),D125*$D$6,#REF!*D125)","v":0}]
[null,115,null,null,{"$f":"IF(ISNUMBER($D$6),D126*$D$6,#REF!*D126)","v":0}]
[null,116,null,null,{"$f":"IF(ISNUMBER($D$6),D127*$D$6,#REF!*D127)","v":0}]
[null,117,null,null,{"$f":"IF(ISNUMBER($D$6),D128*$D$6,#REF!*D128)","v":0}]
[null,118,null,null,{"$f":"IF(ISNUMBER($D$6),D129*$D$6,#REF!*D129)","v":0}]
[null,119,null,null,{"$f":"IF(ISNUMBER($D$6),D130*$D$6,#REF!*D130)","v":0}]
[null,120,null,null,{"$f":"IF(ISNUMBER($D$6),D131*$D$6,#REF!*D131)","v":0}]
[null,121,null,null,{"$f":"IF(ISNUMBER($D$6),D132*$D$6,#REF!*D132)","v":0}]
[null,122,null,null,{"$f":"IF(ISNUMBER($D$6),D133*$D$6,#REF!*D133)","v":0}]
[null,123,null,null,{"$f":"IF(ISNUMBER($D$6),D134*$D$6,#REF!*D134)","v":0}]
[null,124,null,null,{"$f":"IF(ISNUMBER($D$6),D135*$D$6,#REF!*D135)","v":0}]
[null,125,null,null,{"$f":"IF(ISNUMBER($D$6),D136*$D$6,#REF!*D136)","v":0}]
[null,126,null,null,{"$f":"IF(ISNUMBER($D$6),D137*$D$6,#REF!*D137)","v":0}]
[null,127,null,null,{"$f":"IF(ISNUMBER($D$6),D138*$D$6,#REF!*D138)","v":0}]
[null,128,null,null,{"$f":"IF(ISNUMBER($D$6),D139*$D$6,#REF!*D139)","v":0}]
[null,129,null,null,{"$f":"IF(ISNUMBER($D$6),D140*$D$6,#REF!*D140)","v":0}]
[null,130,null,null,{"$f":"IF(ISNUMBER($D$6),D141*$D$6,#REF!*D141)","v":0}]
[null,{"$f":"+B141+1","v":131},null,null,{"$f":"IF(ISNUMBER($D$6),D142*$D$6,#REF!*D142)","v":0}]
[null,132,null,null,{"$f":"IF(ISNUMBER($D$6),D143*$D$6,#REF!*D143)","v":0}]
[null,133,null,null,{"$f":"IF(ISNUMBER($D$6),D144*$D$6,#REF!*D144)","v":0}]
[null,134,null,null,{"$f":"IF(ISNUMBER($D$6),D145*$D$6,#REF!*D145)","v":0}]
[null,135,null,null,{"$f":"IF(ISNUMBER($D$6),D146*$D$6,#REF!*D146)","v":0}]
[null,136,null,null,{"$f":"IF(ISNUMBER($D$6),D147*$D$6,#REF!*D147)","v":0}]
[null,137,null,null,{"$f":"IF(ISNUMBER($D$6),D148*$D$6,#REF!*D148)","v":0}]
[null,138,null,null,{"$f":"IF(ISNUMBER($D$6),D149*$D$6,#REF!*D149)","v":0}]
[null,139,null,null,{"$f":"IF(ISNUMBER($D$6),D150*$D$6,#REF!*D150)","v":0}]
[null,140,null,null,{"$f":"IF(ISNUMBER($D$6),D151*$D$6,#REF!*D151)","v":0}]
[null,141,null,null,{"$f":"IF(ISNUMBER($D$6),D152*$D$6,#REF!*D152)","v":0}]
[null,142,null,null,{"$f":"IF(ISNUMBER($D$6),D153*$D$6,#REF!*D153)","v":0}]
[null,143,null,null,{"$f":"IF(ISNUMBER($D$6),D154*$D$6,#REF!*D154)","v":0}]
[null,144,null,null,{"$f":"IF(ISNUMBER($D$6),D155*$D$6,#REF!*D155)","v":0}]
[null,145,null,null,{"$f":"IF(ISNUMBER($D$6),D156*$D$6,#REF!*D156)","v":0}]
[null,146,null,null,{"$f":"IF(ISNUMBER($D$6),D157*$D$6,#REF!*D157)","v":0}]
[null,147,null,null,{"$f":"IF(ISNUMBER($D$6),D158*$D$6,#REF!*D158)","v":0}]
[null,148,null,null,{"$f":"IF(ISNUMBER($D$6),D159*$D$6,#REF!*D159)","v":0}]
[null,149,null,null,{"$f":"IF(ISNUMBER($D$6),D160*$D$6,#REF!*D160)","v":0}]
[null,150,null,null,{"$f":"IF(ISNUMBER($D$6),D161*$D$6,#REF!*D161)","v":0}]
[null,151,null,null,{"$f":"IF(ISNUMBER($D$6),D162*$D$6,#REF!*D162)","v":0}]
[null,152,null,null,{"$f":"IF(ISNUMBER($D$6),D163*$D$6,#REF!*D163)","v":0}]
[null,153,null,null,{"$f":"IF(ISNUMBER($D$6),D164*$D$6,#REF!*D164)","v":0}]
[null,154,null,null,{"$f":"IF(ISNUMBER($D$6),D165*$D$6,#REF!*D165)","v":0}]
[null,155,null,null,{"$f":"IF(ISNUMBER($D$6),D166*$D$6,#REF!*D166)","v":0}]
[null,156,null,null,{"$f":"IF(ISNUMBER($D$6),D167*$D$6,#REF!*D167)","v":0}]
[null,157,null,null,{"$f":"IF(ISNUMBER($D$6),D168*$D$6,#REF!*D168)","v":0}]
[null,158,null,null,{"$f":"IF(ISNUMBER($D$6),D169*$D$6,#REF!*D169)","v":0}]
[null,159,null,null,{"$f":"IF(ISNUMBER($D$6),D170*$D$6,#REF!*D170)","v":0}]
[null,160,null,null,{"$f":"IF(ISNUMBER($D$6),D171*$D$6,#REF!*D171)","v":0}]
[null,161,null,null,{"$f":"IF(ISNUMBER($D$6),D172*$D$6,#REF!*D172)","v":0}]
[null,162,null,null,{"$f":"IF(ISNUMBER($D$6),D173*$D$6,#REF!*D173)","v":0}]
[null,163,null,null,{"$f":"IF(ISNUMBER($D$6),D174*$D$6,#REF!*D174)","v":0}]
[null,164,null,null,{"$f":"IF(ISNUMBER($D$6),D175*$D$6,#REF!*D175)","v":0}]
[null,165,null,null,{"$f":"IF(ISNUMBER($D$6),D176*$D$6,#REF!*D176)","v":0}]
[null,166,null,null,{"$f":"IF(ISNUMBER($D$6),D177*$D$6,#REF!*D177)","v":0}]
[null,167,null,null,{"$f":"IF(ISNUMBER($D$6),D178*$D$6,#REF!*D178)","v":0}]
[null,168,null,null,{"$f":"IF(ISNUMBER($D$6),D179*$D$6,#REF!*D179)","v":0}]
[null,169,null,null,{"$f":"IF(ISNUMBER($D$6),D180*$D$6,#REF!*D180)","v":0}]
[null,170,null,null,{"$f":"IF(ISNUMBER($D$6),D181*$D$6,#REF!*D181)","v":0}]
[null,171,null,null,{"$f":"IF(ISNUMBER($D$6),D182*$D$6,#REF!*D182)","v":0}]
[null,172,null,null,{"$f":"IF(ISNUMBER($D$6),D183*$D$6,#REF!*D183)","v":0}]
[null,173,null,null,{"$f":"IF(ISNUMBER($D$6),D184*$D$6,#REF!*D184)","v":0}]
[null,174,null,null,{"$f":"IF(ISNUMBER($D$6),D185*$D$6,#REF!*D185)","v":0}]
[null,175,null,null,{"$f":"IF(ISNUMBER($D$6),D186*$D$6,#REF!*D186)","v":0}]
[null,176,null,null,{"$f":"IF(ISNUMBER($D$6),D187*$D$6,#REF!*D187)","v":0}]
[null,177,null,null,{"$f":"IF(ISNUMBER($D$6),D188*$D$6,#REF!*D188)","v":0}]
[null,178,null,null,{"$f":"IF(ISNUMBER($D$6),D189*$D$6,#REF!*D189)","v":0}]
[null,179,null,null,{"$f":"IF(ISNUMBER($D$6),D190*$D$6,#REF!*D190)","v":0}]
[null,180,null,null,{"$f":"IF(ISNUMBER($D$6),D191*$D$6,#REF!*D191)","v":0}]
[null,181,null,null,{"$f":"IF(ISNUMBER($D$6),D192*$D$6,#REF!*D192)","v":0}]
[null,182,null,null,{"$f":"IF(ISNUMBER($D$6),D193*$D$6,#REF!*D193)","v":0}]
[null,183,null,null,{"$f":"IF(ISNUMBER($D$6),D194*$D$6,#REF!*D194)","v":0}]
[null,184,null,null,{"$f":"IF(ISNUMBER($D$6),D195*$D$6,#REF!*D195)","v":0}]
[null,185,null,null,{"$f":"IF(ISNUMBER($D$6),D196*$D$6,#REF!*D196)","v":0}]
[null,186,null,null,{"$f":"IF(ISNUMBER($D$6),D197*$D$6,#REF!*D197)","v":0}]
[null,187,null,null,{"$f":"IF(ISNUMBER($D$6),D198*$D$6,#REF!*D198)","v":0}]
[null,188,null,null,{"$f":"IF(ISNUMBER($D$6),D199*$D$6,#REF!*D199)","v":0}]
[null,189,null,null,{"$f":"IF(ISNUMBER($D$6),D200*$D$6,#REF!*D200)","v":0}]
[null,190,null,null,{"$f":"IF(ISNUMBER($D$6),D201*$D$6,#REF!*D201)","v":0}]
[null,191,null,null,{"$f":"IF(ISNUMBER($D$6),D202*$D$6,#REF!*D202)","v":0}]
[null,192,null,null,{"$f":"IF(ISNUMBER($D$6),D203*$D$6,#REF!*D203)","v":0}]
[null,193,null,null,{"$f":"IF(ISNUMBER($D$6),D204*$D$6,#REF!*D204)","v":0}]
[null,194,null,null,{"$f":"IF(ISNUMBER($D$6),D205*$D$6,#REF!*D205)","v":0}]
[null,{"$f":"+B205+1","v":195},null,null,{"$f":"IF(ISNUMBER($D$6),D206*$D$6,#REF!*D206)","v":0}]
[null,196,null,null,{"$f":"IF(ISNUMBER($D$6),D207*$D$6,#REF!*D207)","v":0}]
[null,197,null,null,{"$f":"IF(ISNUMBER($D$6),D208*$D$6,#REF!*D208)","v":0}]
[null,198,null,null,{"$f":"IF(ISNUMBER($D$6),D209*$D$6,#REF!*D209)","v":0}]
[null,199,null,null,{"$f":"IF(ISNUMBER($D$6),D210*$D$6,#REF!*D210)","v":0}]
[null,200,null,null,{"$f":"IF(ISNUMBER($D$6),D211*$D$6,#REF!*D211)","v":0}]
[null,201,null,null,{"$f":"IF(ISNUMBER($D$6),D212*$D$6,#REF!*D212)","v":0}]
[null,202,null,null,{"$f":"IF(ISNUMBER($D$6),D213*$D$6,#REF!*D213)","v":0}]
[null,203,null,null,{"$f":"IF(ISNUMBER($D$6),D214*$D$6,#REF!*D214)","v":0}]
[null,204,null,null,{"$f":"IF(ISNUMBER($D$6),D215*$D$6,#REF!*D215)","v":0}]
[null,205,null,null,{"$f":"IF(ISNUMBER($D$6),D216*$D$6,#REF!*D216)","v":0}]
[null,206,null,null,{"$f":"IF(ISNUMBER($D$6),D217*$D$6,#REF!*D217)","v":0}]
[null,207,null,null,{"$f":"IF(ISNUMBER($D$6),D218*$D$6,#REF!*D218)","v":0}]
[null,208,null,null,{"$f":"IF(ISNUMBER($D$6),D219*$D$6,#REF!*D219)","v":0}]
[null,209,null,null,{"$f":"IF(ISNUMBER($D$6),D220*$D$6,#REF!*D220)","v":0}]
[null,210,null,null,{"$f":"IF(ISNUMBER($D$6),D221*$D$6,#REF!*D221)","v":0}]
[null,211,null,null,{"$f":"IF(ISNUMBER($D$6),D222*$D$6,#REF!*D222)","v":0}]
[null,212,null,null,{"$f":"IF(ISNUMBER($D$6),D223*$D$6,#REF!*D223)","v":0}]
[null,213,null,null,{"$f":"IF(ISNUMBER($D$6),D224*$D$6,#REF!*D224)","v":0}]
[null,214,null,null,{"$f":"IF(ISNUMBER($D$6),D225*$D$6,#REF!*D225)","v":0}]
[null,215,null,null,{"$f":"IF(ISNUMBER($D$6),D226*$D$6,#REF!*D226)","v":0}]
[null,216,null,null,{"$f":"IF(ISNUMBER($D$6),D227*$D$6,#REF!*D227)","v":0}]
[null,217,null,null,{"$f":"IF(ISNUMBER($D$6),D228*$D$6,#REF!*D228)","v":0}]
[null,218,null,null,{"$f":"IF(ISNUMBER($D$6),D229*$D$6,#REF!*D229)","v":0}]
[null,219,null,null,{"$f":"IF(ISNUMBER($D$6),D230*$D$6,#REF!*D230)","v":0}]
[null,220,null,null,{"$f":"IF(ISNUMBER($D$6),D231*$D$6,#REF!*D231)","v":0}]
[null,221,null,null,{"$f":"IF(ISNUMBER($D$6),D232*$D$6,#REF!*D232)","v":0}]
[null,222,null,null,{"$f":"IF(ISNUMBER($D$6),D233*$D$6,#REF!*D233)","v":0}]
[null,223,null,null,{"$f":"IF(ISNUMBER($D$6),D234*$D$6,#REF!*D234)","v":0}]
[null,224,null,null,{"$f":"IF(ISNUMBER($D$6),D235*$D$6,#REF!*D235)","v":0}]
[null,225,null,null,{"$f":"IF(ISNUMBER($D$6),D236*$D$6,#REF!*D236)","v":0}]
[null,226,null,null,{"$f":"IF(ISNUMBER($D$6),D237*$D$6,#REF!*D237)","v":0}]
[null,227,null,null,{"$f":"IF(ISNUMBER($D$6),D238*$D$6,#REF!*D238)","v":0}]
[null,228,null,null,{"$f":"IF(ISNUMBER($D$6),D239*$D$6,#REF!*D239)","v":0}]
[null,229,null,null,{"$f":"IF(ISNUMBER($D$6),D240*$D$6,#REF!*D240)","v":0}]
[null,230,null,null,{"$f":"IF(ISNUMBER($D$6),D241*$D$6,#REF!*D241)","v":0}]
[null,231,null,null,{"$f":"IF(ISNUMBER($D$6),D242*$D$6,#REF!*D242)","v":0}]
[null,232,null,null,{"$f":"IF(ISNUMBER($D$6),D243*$D$6,#REF!*D243)","v":0}]
[null,233,null,null,{"$f":"IF(ISNUMBER($D$6),D244*$D$6,#REF!*D244)","v":0}]
[null,234,null,null,{"$f":"IF(ISNUMBER($D$6),D245*$D$6,#REF!*D245)","v":0}]
[null,235,null,null,{"$f":"IF(ISNUMBER($D$6),D246*$D$6,#REF!*D246)","v":0}]
[null,236,null,null,{"$f":"IF(ISNUMBER($D$6),D247*$D$6,#REF!*D247)","v":0}]
[null,237,null,null,{"$f":"IF(ISNUMBER($D$6),D248*$D$6,#REF!*D248)","v":0}]
[null,238,null,null,{"$f":"IF(ISNUMBER($D$6),D249*$D$6,#REF!*D249)","v":0}]
[null,239,null,null,{"$f":"IF(ISNUMBER($D$6),D250*$D$6,#REF!*D250)","v":0}]
[null,240,null,null,{"$f":"IF(ISNUMBER($D$6),D251*$D$6,#REF!*D251)","v":0}]
[null,241,null,null,{"$f":"IF(ISNUMBER($D$6),D252*$D$6,#REF!*D252)","v":0}]
[null,242,null,null,{"$f":"IF(ISNUMBER($D$6),D253*$D$6,#REF!*D253)","v":0}]
[null,243,null,null,{"$f":"IF(ISNUMBER($D$6),D254*$D$6,#REF!*D254)","v":0}]
[null,244,null,null,{"$f":"IF(ISNUMBER($D$6),D255*$D$6,#REF!*D255)","v":0}]
[null,245,null,null,{"$f":"IF(ISNUMBER($D$6),D256*$D$6,#REF!*D256)","v":0}]
[null,246,null,null,{"$f":"IF(ISNUMBER($D$6),D257*$D$6,#REF!*D257)","v":0}]
[null,247,null,null,{"$f":"IF(ISNUMBER($D$6),D258*$D$6,#REF!*D258)","v":0}]
[null,248,null,null,{"$f":"IF(ISNUMBER($D$6),D259*$D$6,#REF!*D259)","v":0}]
[null,249,null,null,{"$f":"IF(ISNUMBER($D$6),D260*$D$6,#REF!*D260)","v":0}]
[null,250,null,null,{"$f":"IF(ISNUMBER($D$6),D261*$D$6,#REF!*D261)","v":0}]
[null,251,null,null,{"$f":"IF(ISNUMBER($D$6),D262*$D$6,#REF!*D262)","v":0}]
[null,252,null,null,{"$f":"IF(ISNUMBER($D$6),D263*$D$6,#REF!*D263)","v":0}]
[null,253,null,null,{"$f":"IF(ISNUMBER($D$6),D264*$D$6,#REF!*D264)","v":0}]
[null,254,null,null,{"$f":"IF(ISNUMBER($D$6),D265*$D$6,#REF!*D265)","v":0}]
[null,255,null,null,{"$f":"IF(ISNUMBER($D$6),D266*$D$6,#REF!*D266)","v":0}]
[null,256,null,null,{"$f":"IF(ISNUMBER($D$6),D267*$D$6,#REF!*D267)","v":0}]
[null,257,null,null,{"$f":"IF(ISNUMBER($D$6),D268*$D$6,#REF!*D268)","v":0}]
[null,258,null,null,{"$f":"IF(ISNUMBER($D$6),D269*$D$6,#REF!*D269)","v":0}]
[null,{"$f":"+B269+1","v":259},null,null,{"$f":"IF(ISNUMBER($D$6),D270*$D$6,#REF!*D270)","v":0}]
[null,260,null,null,{"$f":"IF(ISNUMBER($D$6),D271*$D$6,#REF!*D271)","v":0}]
[null,261,null,null,{"$f":"IF(ISNUMBER($D$6),D272*$D$6,#REF!*D272)","v":0}]
[null,262,null,null,{"$f":"IF(ISNUMBER($D$6),D273*$D$6,#REF!*D273)","v":0}]
[null,263,null,null,{"$f":"IF(ISNUMBER($D$6),D274*$D$6,#REF!*D274)","v":0}]
[null,264,null,null,{"$f":"IF(ISNUMBER($D$6),D275*$D$6,#REF!*D275)","v":0}]
[null,265,null,null,{"$f":"IF(ISNUMBER($D$6),D276*$D$6,#REF!*D276)","v":0}]
[null,266,null,null,{"$f":"IF(ISNUMBER($D$6),D277*$D$6,#REF!*D277)","v":0}]
[null,267,null,null,{"$f":"IF(ISNUMBER($D$6),D278*$D$6,#REF!*D278)","v":0}]
[null,268,null,null,{"$f":"IF(ISNUMBER($D$6),D279*$D$6,#REF!*D279)","v":0}]
[null,269,null,null,{"$f":"IF(ISNUMBER($D$6),D280*$D$6,#REF!*D280)","v":0}]
[null,270,null,null,{"$f":"IF(ISNUMBER($D$6),D281*$D$6,#REF!*D281)","v":0}]
[null,271,null,null,{"$f":"IF(ISNUMBER($D$6),D282*$D$6,#REF!*D282)","v":0}]
[null,272,null,null,{"$f":"IF(ISNUMBER($D$6),D283*$D$6,#REF!*D283)","v":0}]
[null,273,null,null,{"$f":"IF(ISNUMBER($D$6),D284*$D$6,#REF!*D284)","v":0}]
[null,274,null,null,{"$f":"IF(ISNUMBER($D$6),D285*$D$6,#REF!*D285)","v":0}]
[null,275,null,null,{"$f":"IF(ISNUMBER($D$6),D286*$D$6,#REF!*D286)","v":0}]
[null,276,null,null,{"$f":"IF(ISNUMBER($D$6),D287*$D$6,#REF!*D287)","v":0}]
[null,277,null,null,{"$f":"IF(ISNUMBER($D$6),D288*$D$6,#REF!*D288)","v":0}]
[null,278,null,null,{"$f":"IF(ISNUMBER($D$6),D289*$D$6,#REF!*D289)","v":0}]
[null,279,null,null,{"$f":"IF(ISNUMBER($D$6),D290*$D$6,#REF!*D290)","v":0}]
[null,280,null,null,{"$f":"IF(ISNUMBER($D$6),D291*$D$6,#REF!*D291)","v":0}]
[null,281,null,null,{"$f":"IF(ISNUMBER($D$6),D292*$D$6,#REF!*D292)","v":0}]
[null,282,null,null,{"$f":"IF(ISNUMBER($D$6),D293*$D$6,#REF!*D293)","v":0}]
[null,283,null,null,{"$f":"IF(ISNUMBER($D$6),D294*$D$6,#REF!*D294)","v":0}]
[null,284,null,null,{"$f":"IF(ISNUMBER($D$6),D295*$D$6,#REF!*D295)","v":0}]
[null,285,null,null,{"$f":"IF(ISNUMBER($D$6),D296*$D$6,#REF!*D296)","v":0}]
[null,286,null,null,{"$f":"IF(ISNUMBER($D$6),D297*$D$6,#REF!*D297)","v":0}]
[null,287,null,null,{"$f":"IF(ISNUMBER($D$6),D298*$D$6,#REF!*D298)","v":0}]
[null,288,null,null,{"$f":"IF(ISNUMBER($D$6),D299*$D$6,#REF!*D299)","v":0}]
[null,289,null,null,{"$f":"IF(ISNUMBER($D$6),D300*$D$6,#REF!*D300)","v":0}]
[null,290,null,null,{"$f":"IF(ISNUMBER($D$6),D301*$D$6,#REF!*D301)","v":0}]
[null,291,null,null,{"$f":"IF(ISNUMBER($D$6),D302*$D$6,#REF!*D302)","v":0}]
[null,292,null,null,{"$f":"IF(ISNUMBER($D$6),D303*$D$6,#REF!*D303)","v":0}]
[null,293,null,null,{"$f":"IF(ISNUMBER($D$6),D304*$D$6,#REF!*D304)","v":0}]
[null,294,null,null,{"$f":"IF(ISNUMBER($D$6),D305*$D$6,#REF!*D305)","v":0}]
[null,295,null,null,{"$f":"IF(ISNUMBER($D$6),D306*$D$6,#REF!*D306)","v":0}]
[null,296,null,null,{"$f":"IF(ISNUMBER($D$6),D307*$D$6,#REF!*D307)","v":0}]
[null,297,null,null,{"$f":"IF(ISNUMBER($D$6),D308*$D$6,#REF!*D308)","v":0}]
[null,298,null,null,{"$f":"IF(ISNUMBER($D$6),D309*$D$6,#REF!*D309)","v":0}]
[null,299,null,null,{"$f":"IF(ISNUMBER($D$6),D310*$D$6,#REF!*D310)","v":0}]
[null,300,null,null,{"$f":"IF(ISNUMBER($D$6),D311*$D$6,#REF!*D311)","v":0}]
[null,301,null,null,{"$f":"IF(ISNUMBER($D$6),D312*$D$6,#REF!*D312)","v":0}]
[null,302,null,null,{"$f":"IF(ISNUMBER($D$6),D313*$D$6,#REF!*D313)","v":0}]
[null,303,null,null,{"$f":"IF(ISNUMBER($D$6),D314*$D$6,#REF!*D314)","v":0}]
[null,304,null,null,{"$f":"IF(ISNUMBER($D$6),D315*$D$6,#REF!*D315)","v":0}]
[null,305,null,null,{"$f":"IF(ISNUMBER($D$6),D316*$D$6,#REF!*D316)","v":0}]
[null,306,null,null,{"$f":"IF(ISNUMBER($D$6),D317*$D$6,#REF!*D317)","v":0}]
[null,307,null,null,{"$f":"IF(ISNUMBER($D$6),D318*$D$6,#REF!*D318)","v":0}]
[null,308,null,null,{"$f":"IF(ISNUMBER($D$6),D319*$D$6,#REF!*D319)","v":0}]
[null,309,null,null,{"$f":"IF(ISNUMBER($D$6),D320*$D$6,#REF!*D320)","v":0}]
[null,310,null,null,{"$f":"IF(ISNUMBER($D$6),D321*$D$6,#REF!*D321)","v":0}]
[null,311,null,null,{"$f":"IF(ISNUMBER($D$6),D322*$D$6,#REF!*D322)","v":0}]
[null,312,null,null,{"$f":"IF(ISNUMBER($D$6),D323*$D$6,#REF!*D323)","v":0}]
[null,313,null,null,{"$f":"IF(ISNUMBER($D$6),D324*$D$6,#REF!*D324)","v":0}]
[null,314,null,null,{"$f":"IF(ISNUMBER($D$6),D325*$D$6,#REF!*D325)","v":0}]
[null,315,null,null,{"$f":"IF(ISNUMBER($D$6),D326*$D$6,#REF!*D326)","v":0}]
[null,316,null,null,{"$f":"IF(ISNUMBER($D$6),D327*$D$6,#REF!*D327)","v":0}]
[null,317,null,null,{"$f":"IF(ISNUMBER($D$6),D328*$D$6,#REF!*D328)","v":0}]
[null,318,null,null,{"$f":"IF(ISNUMBER($D$6),D329*$D$6,#REF!*D329)","v":0}]
[null,319,null,null,{"$f":"IF(ISNUMBER($D$6),D330*$D$6,#REF!*D330)","v":0}]
[null,320,null,null,{"$f":"IF(ISNUMBER($D$6),D331*$D$6,#REF!*D331)","v":0}]
[null,321,null,null,{"$f":"IF(ISNUMBER($D$6),D332*$D$6,#REF!*D332)","v":0}]
[null,322,null,null,{"$f":"IF(ISNUMBER($D$6),D333*$D$6,#REF!*D333)","v":0}]
[null,{"$f":"+B333+1","v":323},null,null,{"$f":"IF(ISNUMBER($D$6),D334*$D$6,#REF!*D334)","v":0}]
[null,324,null,null,{"$f":"IF(ISNUMBER($D$6),D335*$D$6,#REF!*D335)","v":0}]
[null,325,null,null,{"$f":"IF(ISNUMBER($D$6),D336*$D$6,#REF!*D336)","v":0}]
[null,326,null,null,{"$f":"IF(ISNUMBER($D$6),D337*$D$6,#REF!*D337)","v":0}]
[null,327,null,null,{"$f":"IF(ISNUMBER($D$6),D338*$D$6,#REF!*D338)","v":0}]
[null,328,null,null,{"$f":"IF(ISNUMBER($D$6),D339*$D$6,#REF!*D339)","v":0}]
[null,329,null,null,{"$f":"IF(ISNUMBER($D$6),D340*$D$6,#REF!*D340)","v":0}]
[null,330,null,null,{"$f":"IF(ISNUMBER($D$6),D341*$D$6,#REF!*D341)","v":0}]
[null,331,null,null,{"$f":"IF(ISNUMBER($D$6),D342*$D$6,#REF!*D342)","v":0}]
[null,332,null,null,{"$f":"IF(ISNUMBER($D$6),D343*$D$6,#REF!*D343)","v":0}]
[null,333,null,null,{"$f":"IF(ISNUMBER($D$6),D344*$D$6,#REF!*D344)","v":0}]
[null,334,null,null,{"$f":"IF(ISNUMBER($D$6),D345*$D$6,#REF!*D345)","v":0}]
[null,335,null,null,{"$f":"IF(ISNUMBER($D$6),D346*$D$6,#REF!*D346)","v":0}]
[null,336,null,null,{"$f":"IF(ISNUMBER($D$6),D347*$D$6,#REF!*D347)","v":0}]
[null,337,null,null,{"$f":"IF(ISNUMBER($D$6),D348*$D$6,#REF!*D348)","v":0}]
[null,338,null,null,{"$f":"IF(ISNUMBER($D$6),D349*$D$6,#REF!*D349)","v":0}]
[null,339,null,null,{"$f":"IF(ISNUMBER($D$6),D350*$D$6,#REF!*D350)","v":0}]
[null,340,null,null,{"$f":"IF(ISNUMBER($D$6),D351*$D$6,#REF!*D351)","v":0}]
[null,341,null,null,{"$f":"IF(ISNUMBER($D$6),D352*$D$6,#REF!*D352)","v":0}]
[null,342,null,null,{"$f":"IF(ISNUMBER($D$6),D353*$D$6,#REF!*D353)","v":0}]
[null,343,null,null,{"$f":"IF(ISNUMBER($D$6),D354*$D$6,#REF!*D354)","v":0}]
[null,344,null,null,{"$f":"IF(ISNUMBER($D$6),D355*$D$6,#REF!*D355)","v":0}]
[null,345,null,null,{"$f":"IF(ISNUMBER($D$6),D356*$D$6,#REF!*D356)","v":0}]
[null,346,null,null,{"$f":"IF(ISNUMBER($D$6),D357*$D$6,#REF!*D357)","v":0}]
[null,347,null,null,{"$f":"IF(ISNUMBER($D$6),D358*$D$6,#REF!*D358)","v":0}]
[null,348,null,null,{"$f":"IF(ISNUMBER($D$6),D359*$D$6,#REF!*D359)","v":0}]
[null,349,null,null,{"$f":"IF(ISNUMBER($D$6),D360*$D$6,#REF!*D360)","v":0}]
[null,350,null,null,{"$f":"IF(ISNUMBER($D$6),D361*$D$6,#REF!*D361)","v":0}]
[null,351,null,null,{"$f":"IF(ISNUMBER($D$6),D362*$D$6,#REF!*D362)","v":0}]
[null,352,null,null,{"$f":"IF(ISNUMBER($D$6),D363*$D$6,#REF!*D363)","v":0}]
[null,353,null,null,{"$f":"IF(ISNUMBER($D$6),D364*$D$6,#REF!*D364)","v":0}]
[null,354,null,null,{"$f":"IF(ISNUMBER($D$6),D365*$D$6,#REF!*D365)","v":0}]
[null,355,null,null,{"$f":"IF(ISNUMBER($D$6),D366*$D$6,#REF!*D366)","v":0}]
[null,356,null,null,{"$f":"IF(ISNUMBER($D$6),D367*$D$6,#REF!*D367)","v":0}]
[null,357,null,null,{"$f":"IF(ISNUMBER($D$6),D368*$D$6,#REF!*D368)","v":0}]
[null,358,null,null,{"$f":"IF(ISNUMBER($D$6),D369*$D$6,#REF!*D369)","v":0}]
[null,359,null,null,{"$f":"IF(ISNUMBER($D$6),D370*$D$6,#REF!*D370)","v":0}]
[null,360,null,null,{"$f":"IF(ISNUMBER($D$6),D371*$D$6,#REF!*D371)","v":0}]
[null,361,null,null,{"$f":"IF(ISNUMBER($D$6),D372*$D$6,#REF!*D372)","v":0}]
[null,362,null,null,{"$f":"IF(ISNUMBER($D$6),D373*$D$6,#REF!*D373)","v":0}]
[null,363,null,null,{"$f":"IF(ISNUMBER($D$6),D374*$D$6,#REF!*D374)","v":0}]
[null,364,null,null,{"$f":"IF(ISNUMBER($D$6),D375*$D$6,#REF!*D375)","v":0}]
[null,365,null,null,{"$f":"IF(ISNUMBER($D$6),D376*$D$6,#REF!*D376)","v":0}]
[null,366,null,null,{"$f":"IF(ISNUMBER($D$6),D377*$D$6,#REF!*D377)","v":0}]
[null,367,null,null,{"$f":"IF(ISNUMBER($D$6),D378*$D$6,#REF!*D378)","v":0}]
[null,368,null,null,{"$f":"IF(ISNUMBER($D$6),D379*$D$6,#REF!*D379)","v":0}]
[null,369,null,null,{"$f":"IF(ISNUMBER($D$6),D380*$D$6,#REF!*D380)","v":0}]
[null,370,null,null,{"$f":"IF(ISNUMBER($D$6),D381*$D$6,#REF!*D381)","v":0}]
[null,371,null,null,{"$f":"IF(ISNUMBER($D$6),D382*$D$6,#REF!*D382)","v":0}]
[null,372,null,null,{"$f":"IF(ISNUMBER($D$6),D383*$D$6,#REF!*D383)","v":0}]
[null,373,null,null,{"$f":"IF(ISNUMBER($D$6),D384*$D$6,#REF!*D384)","v":0}]
[null,374,null,null,{"$f":"IF(ISNUMBER($D$6),D385*$D$6,#REF!*D385)","v":0}]
[null,375,null,null,{"$f":"IF(ISNUMBER($D$6),D386*$D$6,#REF!*D386)","v":0}]
[null,376,null,null,{"$f":"IF(ISNUMBER($D$6),D387*$D$6,#REF!*D387)","v":0}]
[null,377,null,null,{"$f":"IF(ISNUMBER($D$6),D388*$D$6,#REF!*D388)","v":0}]
[null,378,null,null,{"$f":"IF(ISNUMBER($D$6),D389*$D$6,#REF!*D389)","v":0}]
[null,379,null,null,{"$f":"IF(ISNUMBER($D$6),D390*$D$6,#REF!*D390)","v":0}]
[null,380,null,null,{"$f":"IF(ISNUMBER($D$6),D391*$D$6,#REF!*D391)","v":0}]
[null,381,null,null,{"$f":"IF(ISNUMBER($D$6),D392*$D$6,#REF!*D392)","v":0}]
[null,382,null,null,{"$f":"IF(ISNUMBER($D$6),D393*$D$6,#REF!*D393)","v":0}]
[null,383,null,null,{"$f":"IF(ISNUMBER($D$6),D394*$D$6,#REF!*D394)","v":0}]
[null,384,null,null,{"$f":"IF(ISNUMBER($D$6),D395*$D$6,#REF!*D395)","v":0}]
[null,385,null,null,{"$f":"IF(ISNUMBER($D$6),D396*$D$6,#REF!*D396)","v":0}]
[null,386,null,null,{"$f":"IF(ISNUMBER($D$6),D397*$D$6,#REF!*D397)","v":0}]
[null,{"$f":"+B397+1","v":387},null,null,{"$f":"IF(ISNUMBER($D$6),D398*$D$6,#REF!*D398)","v":0}]
[null,388,null,null,{"$f":"IF(ISNUMBER($D$6),D399*$D$6,#REF!*D399)","v":0}]
[null,389,null,null,{"$f":"IF(ISNUMBER($D$6),D400*$D$6,#REF!*D400)","v":0}]
[null,390,null,null,{"$f":"IF(ISNUMBER($D$6),D401*$D$6,#REF!*D401)","v":0}]
[null,391,null,null,{"$f":"IF(ISNUMBER($D$6),D402*$D$6,#REF!*D402)","v":0}]
[null,392,null,null,{"$f":"IF(ISNUMBER($D$6),D403*$D$6,#REF!*D403)","v":0}]
[null,393,null,null,{"$f":"IF(ISNUMBER($D$6),D404*$D$6,#REF!*D404)","v":0}]
[null,394,null,null,{"$f":"IF(ISNUMBER($D$6),D405*$D$6,#REF!*D405)","v":0}]
[null,395,null,null,{"$f":"IF(ISNUMBER($D$6),D406*$D$6,#REF!*D406)","v":0}]
[null,396,null,null,{"$f":"IF(ISNUMBER($D$6),D407*$D$6,#REF!*D407)","v":0}]
[null,397,null,null,{"$f":"IF(ISNUMBER($D$6),D408*$D$6,#REF!*D408)","v":0}]
[null,398,null,null,{"$f":"IF(ISNUMBER($D$6),D409*$D$6,#REF!*D409)","v":0}]
[null,399,null,null,{"$f":"IF(ISNUMBER($D$6),D410*$D$6,#REF!*D410)","v":0}]
[null,400,null,null,{"$f":"IF(ISNUMBER($D$6),D411*$D$6,#REF!*D411)","v":0}]
[null,401,null,null,{"$f":"IF(ISNUMBER($D$6),D412*$D$6,#REF!*D412)","v":0}]
[null,402,null,null,{"$f":"IF(ISNUMBER($D$6),D413*$D$6,#REF!*D413)","v":0}]
[null,403,null,null,{"$f":"IF(ISNUMBER($D$6),D414*$D$6,#REF!*D414)","v":0}]
[null,404,null,null,{"$f":"IF(ISNUMBER($D$6),D415*$D$6,#REF!*D415)","v":0}]
[null,405,null,null,{"$f":"IF(ISNUMBER($D$6),D416*$D$6,#REF!*D416)","v":0}]
[null,406,null,null,{"$f":"IF(ISNUMBER($D$6),D417*$D$6,#REF!*D417)","v":0}]
[null,407,null,null,{"$f":"IF(ISNUMBER($D$6),D418*$D$6,#REF!*D418)","v":0}]
[null,408,null,null,{"$f":"IF(ISNUMBER($D$6),D419*$D$6,#REF!*D419)","v":0}]
[null,409,null,null,{"$f":"IF(ISNUMBER($D$6),D420*$D$6,#REF!*D420)","v":0}]
[null,410,null,null,{"$f":"IF(ISNUMBER($D$6),D421*$D$6,#REF!*D421)","v":0}]
[null,411,null,null,{"$f":"IF(ISNUMBER($D$6),D422*$D$6,#REF!*D422)","v":0}]
[null,412,null,null,{"$f":"IF(ISNUMBER($D$6),D423*$D$6,#REF!*D423)","v":0}]
[null,413,null,null,{"$f":"IF(ISNUMBER($D$6),D424*$D$6,#REF!*D424)","v":0}]
[null,414,null,null,{"$f":"IF(ISNUMBER($D$6),D425*$D$6,#REF!*D425)","v":0}]
[null,415,null,null,{"$f":"IF(ISNUMBER($D$6),D426*$D$6,#REF!*D426)","v":0}]
[null,416,null,null,{"$f":"IF(ISNUMBER($D$6),D427*$D$6,#REF!*D427)","v":0}]
[null,417,null,null,{"$f":"IF(ISNUMBER($D$6),D428*$D$6,#REF!*D428)","v":0}]
[null,418,null,null,{"$f":"IF(ISNUMBER($D$6),D429*$D$6,#REF!*D429)","v":0}]
[null,419,null,null,{"$f":"IF(ISNUMBER($D$6),D430*$D$6,#REF!*D430)","v":0}]
[null,420,null,null,{"$f":"IF(ISNUMBER($D$6),D431*$D$6,#REF!*D431)","v":0}]
[null,421,null,null,{"$f":"IF(ISNUMBER($D$6),D432*$D$6,#REF!*D432)","v":0}]
[null,422,null,null,{"$f":"IF(ISNUMBER($D$6),D433*$D$6,#REF!*D433)","v":0}]
[null,423,null,null,{"$f":"IF(ISNUMBER($D$6),D434*$D$6,#REF!*D434)","v":0}]
[null,424,null,null,{"$f":"IF(ISNUMBER($D$6),D435*$D$6,#REF!*D435)","v":0}]
[null,425,null,null,{"$f":"IF(ISNUMBER($D$6),D436*$D$6,#REF!*D436)","v":0}]
[null,426,null,null,{"$f":"IF(ISNUMBER($D$6),D437*$D$6,#REF!*D437)","v":0}]
[null,427,null,null,{"$f":"IF(ISNUMBER($D$6),D438*$D$6,#REF!*D438)","v":0}]
[null,428,null,null,{"$f":"IF(ISNUMBER($D$6),D439*$D$6,#REF!*D439)","v":0}]
[null,429,null,null,{"$f":"IF(ISNUMBER($D$6),D440*$D$6,#REF!*D440)","v":0}]
[null,430,null,null,{"$f":"IF(ISNUMBER($D$6),D441*$D$6,#REF!*D441)","v":0}]
[null,431,null,null,{"$f":"IF(ISNUMBER($D$6),D442*$D$6,#REF!*D442)","v":0}]
[null,432,null,null,{"$f":"IF(ISNUMBER($D$6),D443*$D$6,#REF!*D443)","v":0}]
[null,433,null,null,{"$f":"IF(ISNUMBER($D$6),D444*$D$6,#REF!*D444)","v":0}]
[null,434,null,null,{"$f":"IF(ISNUMBER($D$6),D445*$D$6,#REF!*D445)","v":0}]
[null,435,null,null,{"$f":"IF(ISNUMBER($D$6),D446*$D$6,#REF!*D446)","v":0}]
[null,436,null,null,{"$f":"IF(ISNUMBER($D$6),D447*$D$6,#REF!*D447)","v":0}]
[null,437,null,null,{"$f":"IF(ISNUMBER($D$6),D448*$D$6,#REF!*D448)","v":0}]
[null,438,null,null,{"$f":"IF(ISNUMBER($D$6),D449*$D$6,#REF!*D449)","v":0}]
[null,439,null,null,{"$f":"IF(ISNUMBER($D$6),D450*$D$6,#REF!*D450)","v":0}]
[null,440,null,null,{"$f":"IF(ISNUMBER($D$6),D451*$D$6,#REF!*D451)","v":0}]
[null,441,null,null,{"$f":"IF(ISNUMBER($D$6),D452*$D$6,#REF!*D452)","v":0}]
[null,442,null,null,{"$f":"IF(ISNUMBER($D$6),D453*$D$6,#REF!*D453)","v":0}]
[null,443,null,null,{"$f":"IF(ISNUMBER($D$6),D454*$D$6,#REF!*D454)","v":0}]
[null,444,null,null,{"$f":"IF(ISNUMBER($D$6),D455*$D$6,#REF!*D455)","v":0}]
[null,445,null,null,{"$f":"IF(ISNUMBER($D$6),D456*$D$6,#REF!*D456)","v":0}]
[null,446,null,null,{"$f":"IF(ISNUMBER($D$6),D457*$D$6,#REF!*D457)","v":0}]
[null,447,null,null,{"$f":"IF(ISNUMBER($D$6),D458*$D$6,#REF!*D458)","v":0}]
[null,448,null,null,{"$f":"IF(ISNUMBER($D$6),D459*$D$6,#REF!*D459)","v":0}]
[null,449,null,null,{"$f":"IF(ISNUMBER($D$6),D460*$D$6,#REF!*D460)","v":0}]
[null,450,null,null,{"$f":"IF(ISNUMBER($D$6),D461*$D$6,#REF!*D461)","v":0}]
[null,{"$f":"+B461+1","v":451},null,null,{"$f":"IF(ISNUMBER($D$6),D462*$D$6,#REF!*D462)","v":0}]
[null,452,null,null,{"$f":"IF(ISNUMBER($D$6),D463*$D$6,#REF!*D463)","v":0}]
[null,453,null,null,{"$f":"IF(ISNUMBER($D$6),D464*$D$6,#REF!*D464)","v":0}]
[null,454,null,null,{"$f":"IF(ISNUMBER($D$6),D465*$D$6,#REF!*D465)","v":0}]
[null,455,null,null,{"$f":"IF(ISNUMBER($D$6),D466*$D$6,#REF!*D466)","v":0}]
[null,456,null,null,{"$f":"IF(ISNUMBER($D$6),D467*$D$6,#REF!*D467)","v":0}]
[null,457,null,null,{"$f":"IF(ISNUMBER($D$6),D468*$D$6,#REF!*D468)","v":0}]
[null,458,null,null,{"$f":"IF(ISNUMBER($D$6),D469*$D$6,#REF!*D469)","v":0}]
[null,459,null,null,{"$f":"IF(ISNUMBER($D$6),D470*$D$6,#REF!*D470)","v":0}]
[null,460,null,null,{"$f":"IF(ISNUMBER($D$6),D471*$D$6,#REF!*D471)","v":0}]
[null,461,null,null,{"$f":"IF(ISNUMBER($D$6),D472*$D$6,#REF!*D472)","v":0}]
[null,462,null,null,{"$f":"IF(ISNUMBER($D$6),D473*$D$6,#REF!*D473)","v":0}]
[null,463,null,null,{"$f":"IF(ISNUMBER($D$6),D474*$D$6,#REF!*D474)","v":0}]
[null,464,null,null,{"$f":"IF(ISNUMBER($D$6),D475*$D$6,#REF!*D475)","v":0}]
[null,465,null,null,{"$f":"IF(ISNUMBER($D$6),D476*$D$6,#REF!*D476)","v":0}]
[null,466,null,null,{"$f":"IF(ISNUMBER($D$6),D477*$D$6,#REF!*D477)","v":0}]
[null,467,null,null,{"$f":"IF(ISNUMBER($D$6),D478*$D$6,#REF!*D478)","v":0}]
[null,468,null,null,{"$f":"IF(ISNUMBER($D$6),D479*$D$6,#REF!*D479)","v":0}]
[null,469,null,null,{"$f":"IF(ISNUMBER($D$6),D480*$D$6,#REF!*D480)","v":0}]
[null,470,null,null,{"$f":"IF(ISNUMBER($D$6),D481*$D$6,#REF!*D481)","v":0}]
[null,471,null,null,{"$f":"IF(ISNUMBER($D$6),D482*$D$6,#REF!*D482)","v":0}]
[null,472,null,null,{"$f":"IF(ISNUMBER($D$6),D483*$D$6,#REF!*D483)","v":0}]
[null,473,null,null,{"$f":"IF(ISNUMBER($D$6),D484*$D$6,#REF!*D484)","v":0}]
[null,474,null,null,{"$f":"IF(ISNUMBER($D$6),D485*$D$6,#REF!*D485)","v":0}]
[null,475,null,null,{"$f":"IF(ISNUMBER($D$6),D486*$D$6,#REF!*D486)","v":0}]
[null,476,null,null,{"$f":"IF(ISNUMBER($D$6),D487*$D$6,#REF!*D487)","v":0}]
[null,477,null,null,{"$f":"IF(ISNUMBER($D$6),D488*$D$6,#REF!*D488)","v":0}]
[null,478,null,null,{"$f":"IF(ISNUMBER($D$6),D489*$D$6,#REF!*D489)","v":0}]
[null,479,null,null,{"$f":"IF(ISNUMBER($D$6),D490*$D$6,#REF!*D490)","v":0}]
[null,480,null,null,{"$f":"IF(ISNUMBER($D$6),D491*$D$6,#REF!*D491)","v":0}]
[null,481,null,null,{"$f":"IF(ISNUMBER($D$6),D492*$D$6,#REF!*D492)","v":0}]
[null,482,null,null,{"$f":"IF(ISNUMBER($D$6),D493*$D$6,#REF!*D493)","v":0}]
[null,483,null,null,{"$f":"IF(ISNUMBER($D$6),D494*$D$6,#REF!*D494)","v":0}]
[null,484,null,null,{"$f":"IF(ISNUMBER($D$6),D495*$D$6,#REF!*D495)","v":0}]
[null,485,null,null,{"$f":"IF(ISNUMBER($D$6),D496*$D$6,#REF!*D496)","v":0}]
[null,486,null,null,{"$f":"IF(ISNUMBER($D$6),D497*$D$6,#REF!*D497)","v":0}]
[null,487,null,null,{"$f":"IF(ISNUMBER($D$6),D498*$D$6,#REF!*D498)","v":0}]
[null,488,null,null,{"$f":"IF(ISNUMBER($D$6),D499*$D$6,#REF!*D499)","v":0}]
[null,489,null,null,{"$f":"IF(ISNUMBER($D$6),D500*$D$6,#REF!*D500)","v":0}]
[null,490,null,null,{"$f":"IF(ISNUMBER($D$6),D501*$D$6,#REF!*D501)","v":0}]
[null,491,null,null,{"$f":"IF(ISNUMBER($D$6),D502*$D$6,#REF!*D502)","v":0}]
[null,492,null,null,{"$f":"IF(ISNUMBER($D$6),D503*$D$6,#REF!*D503)","v":0}]
[null,493,null,null,{"$f":"IF(ISNUMBER($D$6),D504*$D$6,#REF!*D504)","v":0}]
[null,494,null,null,{"$f":"IF(ISNUMBER($D$6),D505*$D$6,#REF!*D505)","v":0}]
[null,495,null,null,{"$f":"IF(ISNUMBER($D$6),D506*$D$6,#REF!*D506)","v":0}]
[null,496,null,null,{"$f":"IF(ISNUMBER($D$6),D507*$D$6,#REF!*D507)","v":0}]
[null,497,null,null,{"$f":"IF(ISNUMBER($D$6),D508*$D$6,#REF!*D508)","v":0}]
[null,498,null,null,{"$f":"IF(ISNUMBER($D$6),D509*$D$6,#REF!*D509)","v":0}]
[null,499,null,null,{"$f":"IF(ISNUMBER($D$6),D510*$D$6,#REF!*D510)","v":0}]
[null,500,null,null,{"$f":"IF(ISNUMBER($D$6),D511*$D$6,#REF!*D511)","v":0}]
[null,501,null,null,{"$f":"IF(ISNUMBER($D$6),D512*$D$6,#REF!*D512)","v":0}]
[null,502,null,null,{"$f":"IF(ISNUMBER($D$6),D513*$D$6,#REF!*D513)","v":0}]
[null,503,null,null,{"$f":"IF(ISNUMBER($D$6),D514*$D$6,#REF!*D514)","v":0}]
[null,504,null,null,{"$f":"IF(ISNUMBER($D$6),D515*$D$6,#REF!*D515)","v":0}]
[null,505,null,null,{"$f":"IF(ISNUMBER($D$6),D516*$D$6,#REF!*D516)","v":0}]
[null,506,null,null,{"$f":"IF(ISNUMBER($D$6),D517*$D$6,#REF!*D517)","v":0}]
[null,507,null,null,{"$f":"IF(ISNUMBER($D$6),D518*$D$6,#REF!*D518)","v":0}]
[null,508,null,null,{"$f":"IF(ISNUMBER($D$6),D519*$D$6,#REF!*D519)","v":0}]
[null,509,null,null,{"$f":"IF(ISNUMBER($D$6),D520*$D$6,#REF!*D520)","v":0}]
[null,510,null,null,{"$f":"IF(ISNUMBER($D$6),D521*$D$6,#REF!*D521)","v":0}]
[null,511,null,null,{"$f":"IF(ISNUMBER($D$6),D522*$D$6,#REF!*D522)","v":0}]
[null,512,null,null,{"$f":"IF(ISNUMBER($D$6),D523*$D$6,#REF!*D523)","v":0}]
[null,513,null,null,{"$f":"IF(ISNUMBER($D$6),D524*$D$6,#REF!*D524)","v":0}]
[null,514,null,null,{"$f":"IF(ISNUMBER($D$6),D525*$D$6,#REF!*D525)","v":0}]
[null,{"$f":"+B525+1","v":515},null,null,{"$f":"IF(ISNUMBER($D$6),D526*$D$6,#REF!*D526)","v":0}]
[null,516,null,null,{"$f":"IF(ISNUMBER($D$6),D527*$D$6,#REF!*D527)","v":0}]
[null,517,null,null,{"$f":"IF(ISNUMBER($D$6),D528*$D$6,#REF!*D528)","v":0}]
[null,518,null,null,{"$f":"IF(ISNUMBER($D$6),D529*$D$6,#REF!*D529)","v":0}]
[null,519,null,null,{"$f":"IF(ISNUMBER($D$6),D530*$D$6,#REF!*D530)","v":0}]
[null,520,null,null,{"$f":"IF(ISNUMBER($D$6),D531*$D$6,#REF!*D531)","v":0}]
[null,521,null,null,{"$f":"IF(ISNUMBER($D$6),D532*$D$6,#REF!*D532)","v":0}]
[null,522,null,null,{"$f":"IF(ISNUMBER($D$6),D533*$D$6,#REF!*D533)","v":0}]
[null,523,null,null,{"$f":"IF(ISNUMBER($D$6),D534*$D$6,#REF!*D534)","v":0}]
[null,524,null,null,{"$f":"IF(ISNUMBER($D$6),D535*$D$6,#REF!*D535)","v":0}]
[null,525,null,null,{"$f":"IF(ISNUMBER($D$6),D536*$D$6,#REF!*D536)","v":0}]
[null,526,null,null,{"$f":"IF(ISNUMBER($D$6),D537*$D$6,#REF!*D537)","v":0}]
[null,527,null,null,{"$f":"IF(ISNUMBER($D$6),D538*$D$6,#REF!*D538)","v":0}]
[null,528,null,null,{"$f":"IF(ISNUMBER($D$6),D539*$D$6,#REF!*D539)","v":0}]
[null,529,null,null,{"$f":"IF(ISNUMBER($D$6),D540*$D$6,#REF!*D540)","v":0}]
[null,530,null,null,{"$f":"IF(ISNUMBER($D$6),D541*$D$6,#REF!*D541)","v":0}]
[null,531,null,null,{"$f":"IF(ISNUMBER($D$6),D542*$D$6,#REF!*D542)","v":0}]
[null,532,null,null,{"$f":"IF(ISNUMBER($D$6),D543*$D$6,#REF!*D543)","v":0}]
[null,533,null,null,{"$f":"IF(ISNUMBER($D$6),D544*$D$6,#REF!*D544)","v":0}]
[null,534,null,null,{"$f":"IF(ISNUMBER($D$6),D545*$D$6,#REF!*D545)","v":0}]
[null,535,null,null,{"$f":"IF(ISNUMBER($D$6),D546*$D$6,#REF!*D546)","v":0}]
[null,536,null,null,{"$f":"IF(ISNUMBER($D$6),D547*$D$6,#REF!*D547)","v":0}]
[null,537,null,null,{"$f":"IF(ISNUMBER($D$6),D548*$D$6,#REF!*D548)","v":0}]
[null,538,null,null,{"$f":"IF(ISNUMBER($D$6),D549*$D$6,#REF!*D549)","v":0}]
[null,539,null,null,{"$f":"IF(ISNUMBER($D$6),D550*$D$6,#REF!*D550)","v":0}]
[null,540,null,null,{"$f":"IF(ISNUMBER($D$6),D551*$D$6,#REF!*D551)","v":0}]
[null,541,null,null,{"$f":"IF(ISNUMBER($D$6),D552*$D$6,#REF!*D552)","v":0}]
[null,542,null,null,{"$f":"IF(ISNUMBER($D$6),D553*$D$6,#REF!*D553)","v":0}]
[null,543,null,null,{"$f":"IF(ISNUMBER($D$6),D554*$D$6,#REF!*D554)","v":0}]
[null,544,null,null,{"$f":"IF(ISNUMBER($D$6),D555*$D$6,#REF!*D555)","v":0}]
[null,545,null,null,{"$f":"IF(ISNUMBER($D$6),D556*$D$6,#REF!*D556)","v":0}]
[null,546,null,null,{"$f":"IF(ISNUMBER($D$6),D557*$D$6,#REF!*D557)","v":0}]
[null,547,null,null,{"$f":"IF(ISNUMBER($D$6),D558*$D$6,#REF!*D558)","v":0}]
[null,548,null,null,{"$f":"IF(ISNUMBER($D$6),D559*$D$6,#REF!*D559)","v":0}]
[null,549,null,null,{"$f":"IF(ISNUMBER($D$6),D560*$D$6,#REF!*D560)","v":0}]
[null,550,null,null,{"$f":"IF(ISNUMBER($D$6),D561*$D$6,#REF!*D561)","v":0}]
[null,551,null,null,{"$f":"IF(ISNUMBER($D$6),D562*$D$6,#REF!*D562)","v":0}]
[null,552,null,null,{"$f":"IF(ISNUMBER($D$6),D563*$D$6,#REF!*D563)","v":0}]
[null,553,null,null,{"$f":"IF(ISNUMBER($D$6),D564*$D$6,#REF!*D564)","v":0}]
[null,554,null,null,{"$f":"IF(ISNUMBER($D$6),D565*$D$6,#REF!*D565)","v":0}]
[null,555,null,null,{"$f":"IF(ISNUMBER($D$6),D566*$D$6,#REF!*D566)","v":0}]
[null,556,null,null,{"$f":"IF(ISNUMBER($D$6),D567*$D$6,#REF!*D567)","v":0}]
[null,557,null,null,{"$f":"IF(ISNUMBER($D$6),D568*$D$6,#REF!*D568)","v":0}]
[null,558,null,null,{"$f":"IF(ISNUMBER($D$6),D569*$D$6,#REF!*D569)","v":0}]
[null,559,null,null,{"$f":"IF(ISNUMBER($D$6),D570*$D$6,#REF!*D570)","v":0}]
[null,560,null,null,{"$f":"IF(ISNUMBER($D$6),D571*$D$6,#REF!*D571)","v":0}]
[null,561,null,null,{"$f":"IF(ISNUMBER($D$6),D572*$D$6,#REF!*D572)","v":0}]
[null,562,null,null,{"$f":"IF(ISNUMBER($D$6),D573*$D$6,#REF!*D573)","v":0}]
[null,563,null,null,{"$f":"IF(ISNUMBER($D$6),D574*$D$6,#REF!*D574)","v":0}]
[null,564,null,null,{"$f":"IF(ISNUMBER($D$6),D575*$D$6,#REF!*D575)","v":0}]
[null,565,null,null,{"$f":"IF(ISNUMBER($D$6),D576*$D$6,#REF!*D576)","v":0}]
[null,566,null,null,{"$f":"IF(ISNUMBER($D$6),D577*$D$6,#REF!*D577)","v":0}]
[null,567,null,null,{"$f":"IF(ISNUMBER($D$6),D578*$D$6,#REF!*D578)","v":0}]
[null,568,null,null,{"$f":"IF(ISNUMBER($D$6),D579*$D$6,#REF!*D579)","v":0}]
[null,569,null,null,{"$f":"IF(ISNUMBER($D$6),D580*$D$6,#REF!*D580)","v":0}]
[null,570,null,null,{"$f":"IF(ISNUMBER($D$6),D581*$D$6,#REF!*D581)","v":0}]
[null,571,null,null,{"$f":"IF(ISNUMBER($D$6),D582*$D$6,#REF!*D582)","v":0}]
[null,572,null,null,{"$f":"IF(ISNUMBER($D$6),D583*$D$6,#REF!*D583)","v":0}]
[null,573,null,null,{"$f":"IF(ISNUMBER($D$6),D584*$D$6,#REF!*D584)","v":0}]
[null,574,null,null,{"$f":"IF(ISNUMBER($D$6),D585*$D$6,#REF!*D585)","v":0}]
[null,575,null,null,{"$f":"IF(ISNUMBER($D$6),D586*$D$6,#REF!*D586)","v":0}]
[null,576,null,null,{"$f":"IF(ISNUMBER($D$6),D587*$D$6,#REF!*D587)","v":0}]
[null,577,null,null,{"$f":"IF(ISNUMBER($D$6),D588*$D$6,#REF!*D588)","v":0}]
[null,578,null,null,{"$f":"IF(ISNUMBER($D$6),D589*$D$6,#REF!*D589)","v":0}]
[null,{"$f":"+B589+1","v":579},null,null,{"$f":"IF(ISNUMBER($D$6),D590*$D$6,#REF!*D590)","v":0}]
[null,580,null,null,{"$f":"IF(ISNUMBER($D$6),D591*$D$6,#REF!*D591)","v":0}]
[null,581,null,null,{"$f":"IF(ISNUMBER($D$6),D592*$D$6,#REF!*D592)","v":0}]
[null,582,null,null,{"$f":"IF(ISNUMBER($D$6),D593*$D$6,#REF!*D593)","v":0}]
[null,583,null,null,{"$f":"IF(ISNUMBER($D$6),D594*$D$6,#REF!*D594)","v":0}]
[null,584,null,null,{"$f":"IF(ISNUMBER($D$6),D595*$D$6,#REF!*D595)","v":0}]
[null,585,null,null,{"$f":"IF(ISNUMBER($D$6),D596*$D$6,#REF!*D596)","v":0}]
[null,586,null,null,{"$f":"IF(ISNUMBER($D$6),D597*$D$6,#REF!*D597)","v":0}]
[null,587,null,null,{"$f":"IF(ISNUMBER($D$6),D598*$D$6,#REF!*D598)","v":0}]
[null,588,null,null,{"$f":"IF(ISNUMBER($D$6),D599*$D$6,#REF!*D599)","v":0}]
[null,589,null,null,{"$f":"IF(ISNUMBER($D$6),D600*$D$6,#REF!*D600)","v":0}]
[null,590,null,null,{"$f":"IF(ISNUMBER($D$6),D601*$D$6,#REF!*D601)","v":0}]
[null,591,null,null,{"$f":"IF(ISNUMBER($D$6),D602*$D$6,#REF!*D602)","v":0}]
[null,592,null,null,{"$f":"IF(ISNUMBER($D$6),D603*$D$6,#REF!*D603)","v":0}]
[null,593,null,null,{"$f":"IF(ISNUMBER($D$6),D604*$D$6,#REF!*D604)","v":0}]
[null,594,null,null,{"$f":"IF(ISNUMBER($D$6),D605*$D$6,#REF!*D605)","v":0}]
[null,595,null,null,{"$f":"IF(ISNUMBER($D$6),D606*$D$6,#REF!*D606)","v":0}]
[null,596,null,null,{"$f":"IF(ISNUMBER($D$6),D607*$D$6,#REF!*D607)","v":0}]
[null,597,null,null,{"$f":"IF(ISNUMBER($D$6),D608*$D$6,#REF!*D608)","v":0}]
[null,598,null,null,{"$f":"IF(ISNUMBER($D$6),D609*$D$6,#REF!*D609)","v":0}]
[null,599,null,null,{"$f":"IF(ISNUMBER($D$6),D610*$D$6,#REF!*D610)","v":0}]
[null,600,null,null,{"$f":"IF(ISNUMBER($D$6),D611*$D$6,#REF!*D611)","v":0}]
[null,601,null,null,{"$f":"IF(ISNUMBER($D$6),D612*$D$6,#REF!*D612)","v":0}]
[null,602,null,null,{"$f":"IF(ISNUMBER($D$6),D613*$D$6,#REF!*D613)","v":0}]
[null,603,null,null,{"$f":"IF(ISNUMBER($D$6),D614*$D$6,#REF!*D614)","v":0}]
[null,604,null,null,{"$f":"IF(ISNUMBER($D$6),D615*$D$6,#REF!*D615)","v":0}]
[null,605,null,null,{"$f":"IF(ISNUMBER($D$6),D616*$D$6,#REF!*D616)","v":0}]
[null,606,null,null,{"$f":"IF(ISNUMBER($D$6),D617*$D$6,#REF!*D617)","v":0}]
[null,607,null,null,{"$f":"IF(ISNUMBER($D$6),D618*$D$6,#REF!*D618)","v":0}]
[null,608,null,null,{"$f":"IF(ISNUMBER($D$6),D619*$D$6,#REF!*D619)","v":0}]
[null,609,null,null,{"$f":"IF(ISNUMBER($D$6),D620*$D$6,#REF!*D620)","v":0}]
[null,610,null,null,{"$f":"IF(ISNUMBER($D$6),D621*$D$6,#REF!*D621)","v":0}]
[null,611,null,null,{"$f":"IF(ISNUMBER($D$6),D622*$D$6,#REF!*D622)","v":0}]
[null,612,null,null,{"$f":"IF(ISNUMBER($D$6),D623*$D$6,#REF!*D623)","v":0}]
[null,613,null,null,{"$f":"IF(ISNUMBER($D$6),D624*$D$6,#REF!*D624)","v":0}]
[null,614,null,null,{"$f":"IF(ISNUMBER($D$6),D625*$D$6,#REF!*D625)","v":0}]
[null,615,null,null,{"$f":"IF(ISNUMBER($D$6),D626*$D$6,#REF!*D626)","v":0}]
[null,616,null,null,{"$f":"IF(ISNUMBER($D$6),D627*$D$6,#REF!*D627)","v":0}]
[null,617,null,null,{"$f":"IF(ISNUMBER($D$6),D628*$D$6,#REF!*D628)","v":0}]
[null,618,null,null,{"$f":"IF(ISNUMBER($D$6),D629*$D$6,#REF!*D629)","v":0}]
[null,619,null,null,{"$f":"IF(ISNUMBER($D$6),D630*$D$6,#REF!*D630)","v":0}]
[null,620,null,null,{"$f":"IF(ISNUMBER($D$6),D631*$D$6,#REF!*D631)","v":0}]
[null,621,null,null,{"$f":"IF(ISNUMBER($D$6),D632*$D$6,#REF!*D632)","v":0}]
[null,622,null,null,{"$f":"IF(ISNUMBER($D$6),D633*$D$6,#REF!*D633)","v":0}]
[null,623,null,null,{"$f":"IF(ISNUMBER($D$6),D634*$D$6,#REF!*D634)","v":0}]
[null,624,null,null,{"$f":"IF(ISNUMBER($D$6),D635*$D$6,#REF!*D635)","v":0}]
[null,625,null,null,{"$f":"IF(ISNUMBER($D$6),D636*$D$6,#REF!*D636)","v":0}]
[null,626,null,null,{"$f":"IF(ISNUMBER($D$6),D637*$D$6,#REF!*D637)","v":0}]
[null,627,null,null,{"$f":"IF(ISNUMBER($D$6),D638*$D$6,#REF!*D638)","v":0}]
[null,628,null,null,{"$f":"IF(ISNUMBER($D$6),D639*$D$6,#REF!*D639)","v":0}]
[null,629,null,null,{"$f":"IF(ISNUMBER($D$6),D640*$D$6,#REF!*D640)","v":0}]
[null,630,null,null,{"$f":"IF(ISNUMBER($D$6),D641*$D$6,#REF!*D641)","v":0}]
[null,631,null,null,{"$f":"IF(ISNUMBER($D$6),D642*$D$6,#REF!*D642)","v":0}]
[null,632,null,null,{"$f":"IF(ISNUMBER($D$6),D643*$D$6,#REF!*D643)","v":0}]
[null,633,null,null,{"$f":"IF(ISNUMBER($D$6),D644*$D$6,#REF!*D644)","v":0}]
[null,634,null,null,{"$f":"IF(ISNUMBER($D$6),D645*$D$6,#REF!*D645)","v":0}]
[null,635,null,null,{"$f":"IF(ISNUMBER($D$6),D646*$D$6,#REF!*D646)","v":0}]
[null,636,null,null,{"$f":"IF(ISNUMBER($D$6),D647*$D$6,#REF!*D647)","v":0}]
[null,637,null,null,{"$f":"IF(ISNUMBER($D$6),D648*$D$6,#REF!*D648)","v":0}]
[null,638,null,null,{"$f":"IF(ISNUMBER($D$6),D649*$D$6,#REF!*D649)","v":0}]
[null,639,null,null,{"$f":"IF(ISNUMBER($D$6),D650*$D$6,#REF!*D650)","v":0}]
[null,640,null,null,{"$f":"IF(ISNUMBER($D$6),D651*$D$6,#REF!*D651)","v":0}]
[null,641,null,null,{"$f":"IF(ISNUMBER($D$6),D652*$D$6,#REF!*D652)","v":0}]
[null,642,null,null,{"$f":"IF(ISNUMBER($D$6),D653*$D$6,#REF!*D653)","v":0}]
[null,{"$f":"+B653+1","v":643},null,null,{"$f":"IF(ISNUMBER($D$6),D654*$D$6,#REF!*D654)","v":0}]
[null,644,null,null,{"$f":"IF(ISNUMBER($D$6),D655*$D$6,#REF!*D655)","v":0}]
[null,645,null,null,{"$f":"IF(ISNUMBER($D$6),D656*$D$6,#REF!*D656)","v":0}]
[null,646,null,null,{"$f":"IF(ISNUMBER($D$6),D657*$D$6,#REF!*D657)","v":0}]
[null,647,null,null,{"$f":"IF(ISNUMBER($D$6),D658*$D$6,#REF!*D658)","v":0}]
[null,648,null,null,{"$f":"IF(ISNUMBER($D$6),D659*$D$6,#REF!*D659)","v":0}]
[null,649,null,null,{"$f":"IF(ISNUMBER($D$6),D660*$D$6,#REF!*D660)","v":0}]
[null,650,null,null,{"$f":"IF(ISNUMBER($D$6),D661*$D$6,#REF!*D661)","v":0}]
[null,651,null,null,{"$f":"IF(ISNUMBER($D$6),D662*$D$6,#REF!*D662)","v":0}]
[null,652,null,null,{"$f":"IF(ISNUMBER($D$6),D663*$D$6,#REF!*D663)","v":0}]
[null,653,null,null,{"$f":"IF(ISNUMBER($D$6),D664*$D$6,#REF!*D664)","v":0}]
[null,654,null,null,{"$f":"IF(ISNUMBER($D$6),D665*$D$6,#REF!*D665)","v":0}]
[null,655,null,null,{"$f":"IF(ISNUMBER($D$6),D666*$D$6,#REF!*D666)","v":0}]
[null,656,null,null,{"$f":"IF(ISNUMBER($D$6),D667*$D$6,#REF!*D667)","v":0}]
[null,657,null,null,{"$f":"IF(ISNUMBER($D$6),D668*$D$6,#REF!*D668)","v":0}]
[null,658,null,null,{"$f":"IF(ISNUMBER($D$6),D669*$D$6,#REF!*D669)","v":0}]
[null,659,null,null,{"$f":"IF(ISNUMBER($D$6),D670*$D$6,#REF!*D670)","v":0}]
[null,660,null,null,{"$f":"IF(ISNUMBER($D$6),D671*$D$6,#REF!*D671)","v":0}]
[null,661,null,null,{"$f":"IF(ISNUMBER($D$6),D672*$D$6,#REF!*D672)","v":0}]
[null,662,null,null,{"$f":"IF(ISNUMBER($D$6),D673*$D$6,#REF!*D673)","v":0}]
[null,663,null,null,{"$f":"IF(ISNUMBER($D$6),D674*$D$6,#REF!*D674)","v":0}]
[null,664,null,null,{"$f":"IF(ISNUMBER($D$6),D675*$D$6,#REF!*D675)","v":0}]
[null,665,null,null,{"$f":"IF(ISNUMBER($D$6),D676*$D$6,#REF!*D676)","v":0}]
[null,666,null,null,{"$f":"IF(ISNUMBER($D$6),D677*$D$6,#REF!*D677)","v":0}]
[null,667,null,null,{"$f":"IF(ISNUMBER($D$6),D678*$D$6,#REF!*D678)","v":0}]
[null,668,null,null,{"$f":"IF(ISNUMBER($D$6),D679*$D$6,#REF!*D679)","v":0}]
[null,669,null,null,{"$f":"IF(ISNUMBER($D$6),D680*$D$6,#REF!*D680)","v":0}]
[null,670,null,null,{"$f":"IF(ISNUMBER($D$6),D681*$D$6,#REF!*D681)","v":0}]
[null,671,null,null,{"$f":"IF(ISNUMBER($D$6),D682*$D$6,#REF!*D682)","v":0}]
[null,672,null,null,{"$f":"IF(ISNUMBER($D$6),D683*$D$6,#REF!*D683)","v":0}]
[null,673,null,null,{"$f":"IF(ISNUMBER($D$6),D684*$D$6,#REF!*D684)","v":0}]
[null,674,null,null,{"$f":"IF(ISNUMBER($D$6),D685*$D$6,#REF!*D685)","v":0}]
[null,675,null,null,{"$f":"IF(ISNUMBER($D$6),D686*$D$6,#REF!*D686)","v":0}]
[null,676,null,null,{"$f":"IF(ISNUMBER($D$6),D687*$D$6,#REF!*D687)","v":0}]
[null,677,null,null,{"$f":"IF(ISNUMBER($D$6),D688*$D$6,#REF!*D688)","v":0}]
[null,678,null,null,{"$f":"IF(ISNUMBER($D$6),D689*$D$6,#REF!*D689)","v":0}]
[null,679,null,null,{"$f":"IF(ISNUMBER($D$6),D690*$D$6,#REF!*D690)","v":0}]
[null,680,null,null,{"$f":"IF(ISNUMBER($D$6),D691*$D$6,#REF!*D691)","v":0}]
[null,681,null,null,{"$f":"IF(ISNUMBER($D$6),D692*$D$6,#REF!*D692)","v":0}]
[null,682,null,null,{"$f":"IF(ISNUMBER($D$6),D693*$D$6,#REF!*D693)","v":0}]
[null,683,null,null,{"$f":"IF(ISNUMBER($D$6),D694*$D$6,#REF!*D694)","v":0}]
[null,684,null,null,{"$f":"IF(ISNUMBER($D$6),D695*$D$6,#REF!*D695)","v":0}]
[null,685,null,null,{"$f":"IF(ISNUMBER($D$6),D696*$D$6,#REF!*D696)","v":0}]
[null,686,null,null,{"$f":"IF(ISNUMBER($D$6),D697*$D$6,#REF!*D697)","v":0}]
[null,687,null,null,{"$f":"IF(ISNUMBER($D$6),D698*$D$6,#REF!*D698)","v":0}]
[null,688,null,null,{"$f":"IF(ISNUMBER($D$6),D699*$D$6,#REF!*D699)","v":0}]
[null,689,null,null,{"$f":"IF(ISNUMBER($D$6),D700*$D$6,#REF!*D700)","v":0}]
[null,690,null,null,{"$f":"IF(ISNUMBER($D$6),D701*$D$6,#REF!*D701)","v":0}]
[null,691,null,null,{"$f":"IF(ISNUMBER($D$6),D702*$D$6,#REF!*D702)","v":0}]
[null,692,null,null,{"$f":"IF(ISNUMBER($D$6),D703*$D$6,#REF!*D703)","v":0}]
[null,693,null,null,{"$f":"IF(ISNUMBER($D$6),D704*$D$6,#REF!*D704)","v":0}]
[null,694,null,null,{"$f":"IF(ISNUMBER($D$6),D705*$D$6,#REF!*D705)","v":0}]
[null,695,null,null,{"$f":"IF(ISNUMBER($D$6),D706*$D$6,#REF!*D706)","v":0}]
[null,696,null,null,{"$f":"IF(ISNUMBER($D$6),D707*$D$6,#REF!*D707)","v":0}]
[null,697,null,null,{"$f":"IF(ISNUMBER($D$6),D708*$D$6,#REF!*D708)","v":0}]
[null,698,null,null,{"$f":"IF(ISNUMBER($D$6),D709*$D$6,#REF!*D709)","v":0}]
[null,699,null,null,{"$f":"IF(ISNUMBER($D$6),D710*$D$6,#REF!*D710)","v":0}]
[null,700,null,null,{"$f":"IF(ISNUMBER($D$6),D711*$D$6,#REF!*D711)","v":0}]
[null,701,null,null,{"$f":"IF(ISNUMBER($D$6),D712*$D$6,#REF!*D712)","v":0}]
[null,702,null,null,{"$f":"IF(ISNUMBER($D$6),D713*$D$6,#REF!*D713)","v":0}]
[null,703,null,null,{"$f":"IF(ISNUMBER($D$6),D714*$D$6,#REF!*D714)","v":0}]
[null,704,null,null,{"$f":"IF(ISNUMBER($D$6),D715*$D$6,#REF!*D715)","v":0}]
[null,705,null,null,{"$f":"IF(ISNUMBER($D$6),D716*$D$6,#REF!*D716)","v":0}]
[null,706,null,null,{"$f":"IF(ISNUMBER($D$6),D717*$D$6,#REF!*D717)","v":0}]
[null,{"$f":"+B717+1","v":707},null,null,{"$f":"IF(ISNUMBER($D$6),D718*$D$6,#REF!*D718)","v":0}]
[null,708,null,null,{"$f":"IF(ISNUMBER($D$6),D719*$D$6,#REF!*D719)","v":0}]
[null,709,null,null,{"$f":"IF(ISNUMBER($D$6),D720*$D$6,#REF!*D720)","v":0}]
[null,710,null,null,{"$f":"IF(ISNUMBER($D$6),D721*$D$6,#REF!*D721)","v":0}]
[null,711,null,null,{"$f":"IF(ISNUMBER($D$6),D722*$D$6,#REF!*D722)","v":0}]
[null,712,null,null,{"$f":"IF(ISNUMBER($D$6),D723*$D$6,#REF!*D723)","v":0}]
[null,713,null,null,{"$f":"IF(ISNUMBER($D$6),D724*$D$6,#REF!*D724)","v":0}]
[null,714,null,null,{"$f":"IF(ISNUMBER($D$6),D725*$D$6,#REF!*D725)","v":0}]
[null,715,null,null,{"$f":"IF(ISNUMBER($D$6),D726*$D$6,#REF!*D726)","v":0}]
[null,716,null,null,{"$f":"IF(ISNUMBER($D$6),D727*$D$6,#REF!*D727)","v":0}]
[null,717,null,null,{"$f":"IF(ISNUMBER($D$6),D728*$D$6,#REF!*D728)","v":0}]
[null,718,null,null,{"$f":"IF(ISNUMBER($D$6),D729*$D$6,#REF!*D729)","v":0}]
[null,719,null,null,{"$f":"IF(ISNUMBER($D$6),D730*$D$6,#REF!*D730)","v":0}]
[null,720,null,null,{"$f":"IF(ISNUMBER($D$6),D731*$D$6,#REF!*D731)","v":0}]
[null,721,null,null,{"$f":"IF(ISNUMBER($D$6),D732*$D$6,#REF!*D732)","v":0}]
[null,722,null,null,{"$f":"IF(ISNUMBER($D$6),D733*$D$6,#REF!*D733)","v":0}]
[null,723,null,null,{"$f":"IF(ISNUMBER($D$6),D734*$D$6,#REF!*D734)","v":0}]
[null,724,null,null,{"$f":"IF(ISNUMBER($D$6),D735*$D$6,#REF!*D735)","v":0}]
[null,725,null,null,{"$f":"IF(ISNUMBER($D$6),D736*$D$6,#REF!*D736)","v":0}]
[null,726,null,null,{"$f":"IF(ISNUMBER($D$6),D737*$D$6,#REF!*D737)","v":0}]
[null,727,null,null,{"$f":"IF(ISNUMBER($D$6),D738*$D$6,#REF!*D738)","v":0}]
[null,728,null,null,{"$f":"IF(ISNUMBER($D$6),D739*$D$6,#REF!*D739)","v":0}]
[null,729,null,null,{"$f":"IF(ISNUMBER($D$6),D740*$D$6,#REF!*D740)","v":0}]
[null,730,null,null,{"$f":"IF(ISNUMBER($D$6),D741*$D$6,#REF!*D741)","v":0}]
[null,731,null,null,{"$f":"IF(ISNUMBER($D$6),D742*$D$6,#REF!*D742)","v":0}]
[null,732,null,null,{"$f":"IF(ISNUMBER($D$6),D743*$D$6,#REF!*D743)","v":0}]
[null,733,null,null,{"$f":"IF(ISNUMBER($D$6),D744*$D$6,#REF!*D744)","v":0}]
[null,734,null,null,{"$f":"IF(ISNUMBER($D$6),D745*$D$6,#REF!*D745)","v":0}]
[null,735,null,null,{"$f":"IF(ISNUMBER($D$6),D746*$D$6,#REF!*D746)","v":0}]
[null,736,null,null,{"$f":"IF(ISNUMBER($D$6),D747*$D$6,#REF!*D747)","v":0}]
[null,737,null,null,{"$f":"IF(ISNUMBER($D$6),D748*$D$6,#REF!*D748)","v":0}]
[null,738,null,null,{"$f":"IF(ISNUMBER($D$6),D749*$D$6,#REF!*D749)","v":0}]
[null,739,null,null,{"$f":"IF(ISNUMBER($D$6),D750*$D$6,#REF!*D750)","v":0}]
[null,740,null,null,{"$f":"IF(ISNUMBER($D$6),D751*$D$6,#REF!*D751)","v":0}]
[null,741,null,null,{"$f":"IF(ISNUMBER($D$6),D752*$D$6,#REF!*D752)","v":0}]
[null,742,null,null,{"$f":"IF(ISNUMBER($D$6),D753*$D$6,#REF!*D753)","v":0}]
[null,743,null,null,{"$f":"IF(ISNUMBER($D$6),D754*$D$6,#REF!*D754)","v":0}]
[null,744,null,null,{"$f":"IF(ISNUMBER($D$6),D755*$D$6,#REF!*D755)","v":0}]
[null,745,null,null,{"$f":"IF(ISNUMBER($D$6),D756*$D$6,#REF!*D756)","v":0}]
[null,746,null,null,{"$f":"IF(ISNUMBER($D$6),D757*$D$6,#REF!*D757)","v":0}]
[null,747,null,null,{"$f":"IF(ISNUMBER($D$6),D758*$D$6,#REF!*D758)","v":0}]
[null,748,null,null,{"$f":"IF(ISNUMBER($D$6),D759*$D$6,#REF!*D759)","v":0}]
[null,749,null,null,{"$f":"IF(ISNUMBER($D$6),D760*$D$6,#REF!*D760)","v":0}]
[null,750,null,null,{"$f":"IF(ISNUMBER($D$6),D761*$D$6,#REF!*D761)","v":0}]
[null,751,null,null,{"$f":"IF(ISNUMBER($D$6),D762*$D$6,#REF!*D762)","v":0}]
[null,752,null,null,{"$f":"IF(ISNUMBER($D$6),D763*$D$6,#REF!*D763)","v":0}]
[null,753,null,null,{"$f":"IF(ISNUMBER($D$6),D764*$D$6,#REF!*D764)","v":0}]
[null,754,null,null,{"$f":"IF(ISNUMBER($D$6),D765*$D$6,#REF!*D765)","v":0}]
[null,755,null,null,{"$f":"IF(ISNUMBER($D$6),D766*$D$6,#REF!*D766)","v":0}]
[null,756,null,null,{"$f":"IF(ISNUMBER($D$6),D767*$D$6,#REF!*D767)","v":0}]
[null,{"$f":"+B767+1","v":757},null,null,{"$f":"IF(ISNUMBER($D$6),D768*$D$6,#REF!*D768)","v":0}]
[null,{"$f":"+B768+1","v":758},null,null,{"$f":"IF(ISNUMBER($D$6),D769*$D$6,#REF!*D769)","v":0}]
[null,759,null,null,{"$f":"IF(ISNUMBER($D$6),D770*$D$6,#REF!*D770)","v":0}]
[null,760,null,null,{"$f":"IF(ISNUMBER($D$6),D771*$D$6,#REF!*D771)","v":0}]
[null,761,null,null,{"$f":"IF(ISNUMBER($D$6),D772*$D$6,#REF!*D772)","v":0}]
[null,762,null,null,{"$f":"IF(ISNUMBER($D$6),D773*$D$6,#REF!*D773)","v":0}]
[null,763,null,null,{"$f":"IF(ISNUMBER($D$6),D774*$D$6,#REF!*D774)","v":0}]
[null,764,null,null,{"$f":"IF(ISNUMBER($D$6),D775*$D$6,#REF!*D775)","v":0}]
[null,765,null,null,{"$f":"IF(ISNUMBER($D$6),D776*$D$6,#REF!*D776)","v":0}]
[null,766,null,null,{"$f":"IF(ISNUMBER($D$6),D777*$D$6,#REF!*D777)","v":0}]
[null,767,null,null,{"$f":"IF(ISNUMBER($D$6),D778*$D$6,#REF!*D778)","v":0}]
[null,768,null,null,{"$f":"IF(ISNUMBER($D$6),D779*$D$6,#REF!*D779)","v":0}]
[null,769,null,null,{"$f":"IF(ISNUMBER($D$6),D780*$D$6,#REF!*D780)","v":0}]
[null,770,null,null,{"$f":"IF(ISNUMBER($D$6),D781*$D$6,#REF!*D781)","v":0}]
[null,771,null,null,{"$f":"IF(ISNUMBER($D$6),D782*$D$6,#REF!*D782)","v":0}]
[null,772,null,null,{"$f":"IF(ISNUMBER($D$6),D783*$D$6,#REF!*D783)","v":0}]
[null,773,null,null,{"$f":"IF(ISNUMBER($D$6),D784*$D$6,#REF!*D784)","v":0}]
[null,774,null,null,{"$f":"IF(ISNUMBER($D$6),D785*$D$6,#REF!*D785)","v":0}]
[null,775,null,null,{"$f":"IF(ISNUMBER($D$6),D786*$D$6,#REF!*D786)","v":0}]
[null,{"$f":"+B786+1","v":776},null,null,{"$f":"IF(ISNUMBER($D$6),D787*$D$6,#REF!*D787)","v":0}]
[null,{"$f":"+B787+1","v":777},null,null,{"$f":"IF(ISNUMBER($D$6),D788*$D$6,#REF!*D788)","v":0}]
[null,778,null,null,{"$f":"IF(ISNUMBER($D$6),D789*$D$6,#REF!*D789)","v":0}]
[null,779,null,null,{"$f":"IF(ISNUMBER($D$6),D790*$D$6,#REF!*D790)","v":0}]
[null,780,null,null,{"$f":"IF(ISNUMBER($D$6),D791*$D$6,#REF!*D791)","v":0}]
[null,781,null,null,{"$f":"IF(ISNUMBER($D$6),D792*$D$6,#REF!*D792)","v":0}]
[null,782,null,null,{"$f":"IF(ISNUMBER($D$6),D793*$D$6,#REF!*D793)","v":0}]
[null,783,null,null,{"$f":"IF(ISNUMBER($D$6),D794*$D$6,#REF!*D794)","v":0}]
[null,784,null,null,{"$f":"IF(ISNUMBER($D$6),D795*$D$6,#REF!*D795)","v":0}]
[null,785,null,null,{"$f":"IF(ISNUMBER($D$6),D796*$D$6,#REF!*D796)","v":0}]
[null,786,null,null,{"$f":"IF(ISNUMBER($D$6),D797*$D$6,#REF!*D797)","v":0}]
[null,787,null,null,{"$f":"IF(ISNUMBER($D$6),D798*$D$6,#REF!*D798)","v":0}]
[null,788,null,null,{"$f":"IF(ISNUMBER($D$6),D799*$D$6,#REF!*D799)","v":0}]
[null,789,null,null,{"$f":"IF(ISNUMBER($D$6),D800*$D$6,#REF!*D800)","v":0}]
[null,790,null,null,{"$f":"IF(ISNUMBER($D$6),D801*$D$6,#REF!*D801)","v":0}]
[null,791,null,null,{"$f":"IF(ISNUMBER($D$6),D802*$D$6,#REF!*D802)","v":0}]
[null,792,null,null,{"$f":"IF(ISNUMBER($D$6),D803*$D$6,#REF!*D803)","v":0}]
[null,793,null,null,{"$f":"IF(ISNUMBER($D$6),D804*$D$6,#REF!*D804)","v":0}]
[null,794,null,null,{"$f":"IF(ISNUMBER($D$6),D805*$D$6,#REF!*D805)","v":0}]
[null,795,null,null,{"$f":"IF(ISNUMBER($D$6),D806*$D$6,#REF!*D806)","v":0}]
[null,796,null,null,{"$f":"IF(ISNUMBER($D$6),D807*$D$6,#REF!*D807)","v":0}]
[null,797,null,null,{"$f":"IF(ISNUMBER($D$6),D808*$D$6,#REF!*D808)","v":0}]
[null,798,null,null,{"$f":"IF(ISNUMBER($D$6),D809*$D$6,#REF!*D809)","v":0}]
[null,799,null,null,{"$f":"IF(ISNUMBER($D$6),D810*$D$6,#REF!*D810)","v":0}]
[null,800,null,null,{"$f":"IF(ISNUMBER($D$6),D811*$D$6,#REF!*D811)","v":0}]
[null,801,null,null,{"$f":"IF(ISNUMBER($D$6),D812*$D$6,#REF!*D812)","v":0}]
[null,802,null,null,{"$f":"IF(ISNUMBER($D$6),D813*$D$6,#REF!*D813)","v":0}]
[null,803,null,null,{"$f":"IF(ISNUMBER($D$6),D814*$D$6,#REF!*D814)","v":0}]
[null,804,null,null,{"$f":"IF(ISNUMBER($D$6),D815*$D$6,#REF!*D815)","v":0}]
[null,805,null,null,{"$f":"IF(ISNUMBER($D$6),D816*$D$6,#REF!*D816)","v":0}]
[null,806,null,null,{"$f":"IF(ISNUMBER($D$6),D817*$D$6,#REF!*D817)","v":0}]
[null,807,null,null,{"$f":"IF(ISNUMBER($D$6),D818*$D$6,#REF!*D818)","v":0}]
[null,808,null,null,{"$f":"IF(ISNUMBER($D$6),D819*$D$6,#REF!*D819)","v":0}]
[null,809,null,null,{"$f":"IF(ISNUMBER($D$6),D820*$D$6,#REF!*D820)","v":0}]
[null,810,null,null,{"$f":"IF(ISNUMBER($D$6),D821*$D$6,#REF!*D821)","v":0}]
[null,811,null,null,{"$f":"IF(ISNUMBER($D$6),D822*$D$6,#REF!*D822)","v":0}]
[null,812,null,null,{"$f":"IF(ISNUMBER($D$6),D823*$D$6,#REF!*D823)","v":0}]
[null,813,null,null,{"$f":"IF(ISNUMBER($D$6),D824*$D$6,#REF!*D824)","v":0}]
[null,814,null,null,{"$f":"IF(ISNUMBER($D$6),D825*$D$6,#REF!*D825)","v":0}]
[null,815,null,null,{"$f":"IF(ISNUMBER($D$6),D826*$D$6,#REF!*D826)","v":0}]
[null,816,null,null,{"$f":"IF(ISNUMBER($D$6),D827*$D$6,#REF!*D827)","v":0}]
[null,817,null,null,{"$f":"IF(ISNUMBER($D$6),D828*$D$6,#REF!*D828)","v":0}]
[null,818,null,null,{"$f":"IF(ISNUMBER($D$6),D829*$D$6,#REF!*D829)","v":0}]
[null,819,null,null,{"$f":"IF(ISNUMBER($D$6),D830*$D$6,#REF!*D830)","v":0}]
[null,820,null,null,{"$f":"IF(ISNUMBER($D$6),D831*$D$6,#REF!*D831)","v":0}]
[null,821,null,null,{"$f":"IF(ISNUMBER($D$6),D832*$D$6,#REF!*D832)","v":0}]
[null,822,null,null,{"$f":"IF(ISNUMBER($D$6),D833*$D$6,#REF!*D833)","v":0}]
[null,823,null,null,{"$f":"IF(ISNUMBER($D$6),D834*$D$6,#REF!*D834)","v":0}]
[null,824,null,null,{"$f":"IF(ISNUMBER($D$6),D835*$D$6,#REF!*D835)","v":0}]
[null,825,null,null,{"$f":"IF(ISNUMBER($D$6),D836*$D$6,#REF!*D836)","v":0}]
[null,826,null,null,{"$f":"IF(ISNUMBER($D$6),D837*$D$6,#REF!*D837)","v":0}]
[null,827,null,null,{"$f":"IF(ISNUMBER($D$6),D838*$D$6,#REF!*D838)","v":0}]
[null,828,null,null,{"$f":"IF(ISNUMBER($D$6),D839*$D$6,#REF!*D839)","v":0}]
[null,829,null,null,{"$f":"IF(ISNUMBER($D$6),D840*$D$6,#REF!*D840)","v":0}]
[null,830,null,null,{"$f":"IF(ISNUMBER($D$6),D841*$D$6,#REF!*D841)","v":0}]
[null,831,null,null,{"$f":"IF(ISNUMBER($D$6),D842*$D$6,#REF!*D842)","v":0}]
[null,832,null,null,{"$f":"IF(ISNUMBER($D$6),D843*$D$6,#REF!*D843)","v":0}]
[null,833,null,null,{"$f":"IF(ISNUMBER($D$6),D844*$D$6,#REF!*D844)","v":0}]
[null,834,null,null,{"$f":"IF(ISNUMBER($D$6),D845*$D$6,#REF!*D845)","v":0}]
[null,835,null,null,{"$f":"IF(ISNUMBER($D$6),D846*$D$6,#REF!*D846)","v":0}]
[null,836,null,null,{"$f":"IF(ISNUMBER($D$6),D847*$D$6,#REF!*D847)","v":0}]
[null,837,null,null,{"$f":"IF(ISNUMBER($D$6),D848*$D$6,#REF!*D848)","v":0}]
[null,838,null,null,{"$f":"IF(ISNUMBER($D$6),D849*$D$6,#REF!*D849)","v":0}]
[null,839,null,null,{"$f":"IF(ISNUMBER($D$6),D850*$D$6,#REF!*D850)","v":0}]
[null,840,null,null,{"$f":"IF(ISNUMBER($D$6),D851*$D$6,#REF!*D851)","v":0}]
[null,{"$f":"+B851+1","v":841},null,null,{"$f":"IF(ISNUMBER($D$6),D852*$D$6,#REF!*D852)","v":0}]
[null,842,null,null,{"$f":"IF(ISNUMBER($D$6),D853*$D$6,#REF!*D853)","v":0}]
[null,843,null,null,{"$f":"IF(ISNUMBER($D$6),D854*$D$6,#REF!*D854)","v":0}]
[null,844,null,null,{"$f":"IF(ISNUMBER($D$6),D855*$D$6,#REF!*D855)","v":0}]
[null,845,null,null,{"$f":"IF(ISNUMBER($D$6),D856*$D$6,#REF!*D856)","v":0}]
[null,846,null,null,{"$f":"IF(ISNUMBER($D$6),D857*$D$6,#REF!*D857)","v":0}]
[null,847,null,null,{"$f":"IF(ISNUMBER($D$6),D858*$D$6,#REF!*D858)","v":0}]
[null,848,null,null,{"$f":"IF(ISNUMBER($D$6),D859*$D$6,#REF!*D859)","v":0}]
[null,849,null,null,{"$f":"IF(ISNUMBER($D$6),D860*$D$6,#REF!*D860)","v":0}]
[null,850,null,null,{"$f":"IF(ISNUMBER($D$6),D861*$D$6,#REF!*D861)","v":0}]
[null,851,null,null,{"$f":"IF(ISNUMBER($D$6),D862*$D$6,#REF!*D862)","v":0}]
[null,852,null,null,{"$f":"IF(ISNUMBER($D$6),D863*$D$6,#REF!*D863)","v":0}]
[null,853,null,null,{"$f":"IF(ISNUMBER($D$6),D864*$D$6,#REF!*D864)","v":0}]
[null,854,null,null,{"$f":"IF(ISNUMBER($D$6),D865*$D$6,#REF!*D865)","v":0}]
[null,855,null,null,{"$f":"IF(ISNUMBER($D$6),D866*$D$6,#REF!*D866)","v":0}]
[null,856,null,null,{"$f":"IF(ISNUMBER($D$6),D867*$D$6,#REF!*D867)","v":0}]
[null,857,null,null,{"$f":"IF(ISNUMBER($D$6),D868*$D$6,#REF!*D868)","v":0}]
[null,858,null,null,{"$f":"IF(ISNUMBER($D$6),D869*$D$6,#REF!*D869)","v":0}]
[null,859,null,null,{"$f":"IF(ISNUMBER($D$6),D870*$D$6,#REF!*D870)","v":0}]
[null,860,null,null,{"$f":"IF(ISNUMBER($D$6),D871*$D$6,#REF!*D871)","v":0}]
[null,861,null,null,{"$f":"IF(ISNUMBER($D$6),D872*$D$6,#REF!*D872)","v":0}]
[null,862,null,null,{"$f":"IF(ISNUMBER($D$6),D873*$D$6,#REF!*D873)","v":0}]
[null,863,null,null,{"$f":"IF(ISNUMBER($D$6),D874*$D$6,#REF!*D874)","v":0}]
[null,864,null,null,{"$f":"IF(ISNUMBER($D$6),D875*$D$6,#REF!*D875)","v":0}]
[null,865,null,null,{"$f":"IF(ISNUMBER($D$6),D876*$D$6,#REF!*D876)","v":0}]
[null,866,null,null,{"$f":"IF(ISNUMBER($D$6),D877*$D$6,#REF!*D877)","v":0}]
[null,867,null,null,{"$f":"IF(ISNUMBER($D$6),D878*$D$6,#REF!*D878)","v":0}]
[null,868,null,null,{"$f":"IF(ISNUMBER($D$6),D879*$D$6,#REF!*D879)","v":0}]
[null,869,null,null,{"$f":"IF(ISNUMBER($D$6),D880*$D$6,#REF!*D880)","v":0}]
[null,870,null,null,{"$f":"IF(ISNUMBER($D$6),D881*$D$6,#REF!*D881)","v":0}]
[null,871,null,null,{"$f":"IF(ISNUMBER($D$6),D882*$D$6,#REF!*D882)","v":0}]
[null,872,null,null,{"$f":"IF(ISNUMBER($D$6),D883*$D$6,#REF!*D883)","v":0}]
[null,873,null,null,{"$f":"IF(ISNUMBER($D$6),D884*$D$6,#REF!*D884)","v":0}]
[null,874,null,null,{"$f":"IF(ISNUMBER($D$6),D885*$D$6,#REF!*D885)","v":0}]
[null,875,null,null,{"$f":"IF(ISNUMBER($D$6),D886*$D$6,#REF!*D886)","v":0}]
[null,876,null,null,{"$f":"IF(ISNUMBER($D$6),D887*$D$6,#REF!*D887)","v":0}]
[null,877,null,null,{"$f":"IF(ISNUMBER($D$6),D888*$D$6,#REF!*D888)","v":0}]
[null,878,null,null,{"$f":"IF(ISNUMBER($D$6),D889*$D$6,#REF!*D889)","v":0}]
[null,879,null,null,{"$f":"IF(ISNUMBER($D$6),D890*$D$6,#REF!*D890)","v":0}]
[null,880,null,null,{"$f":"IF(ISNUMBER($D$6),D891*$D$6,#REF!*D891)","v":0}]
[null,881,null,null,{"$f":"IF(ISNUMBER($D$6),D892*$D$6,#REF!*D892)","v":0}]
[null,882,null,null,{"$f":"IF(ISNUMBER($D$6),D893*$D$6,#REF!*D893)","v":0}]
[null,883,null,null,{"$f":"IF(ISNUMBER($D$6),D894*$D$6,#REF!*D894)","v":0}]
[null,884,null,null,{"$f":"IF(ISNUMBER($D$6),D895*$D$6,#REF!*D895)","v":0}]
[null,885,null,null,{"$f":"IF(ISNUMBER($D$6),D896*$D$6,#REF!*D896)","v":0}]
[null,886,null,null,{"$f":"IF(ISNUMBER($D$6),D897*$D$6,#REF!*D897)","v":0}]
[null,887,null,null,{"$f":"IF(ISNUMBER($D$6),D898*$D$6,#REF!*D898)","v":0}]
[null,888,null,null,{"$f":"IF(ISNUMBER($D$6),D899*$D$6,#REF!*D899)","v":0}]
[null,889,null,null,{"$f":"IF(ISNUMBER($D$6),D900*$D$6,#REF!*D900)","v":0}]
[null,890,null,null,{"$f":"IF(ISNUMBER($D$6),D901*$D$6,#REF!*D901)","v":0}]
[null,891,null,null,{"$f":"IF(ISNUMBER($D$6),D902*$D$6,#REF!*D902)","v":0}]
[null,892,null,null,{"$f":"IF(ISNUMBER($D$6),D903*$D$6,#REF!*D903)","v":0}]
[null,893,null,null,{"$f":"IF(ISNUMBER($D$6),D904*$D$6,#REF!*D904)","v":0}]
[null,894,null,null,{"$f":"IF(ISNUMBER($D$6),D905*$D$6,#REF!*D905)","v":0}]
[null,895,null,null,{"$f":"IF(ISNUMBER($D$6),D906*$D$6,#REF!*D906)","v":0}]
[null,896,null,null,{"$f":"IF(ISNUMBER($D$6),D907*$D$6,#REF!*D907)","v":0}]
[null,897,null,null,{"$f":"IF(ISNUMBER($D$6),D908*$D$6,#REF!*D908)","v":0}]
[null,898,null,null,{"$f":"IF(ISNUMBER($D$6),D909*$D$6,#REF!*D909)","v":0}]
[null,899,null,null,{"$f":"IF(ISNUMBER($D$6),D910*$D$6,#REF!*D910)","v":0}]
[null,900,null,null,{"$f":"IF(ISNUMBER($D$6),D911*$D$6,#REF!*D911)","v":0}]
[null,901,null,null,{"$f":"IF(ISNUMBER($D$6),D912*$D$6,#REF!*D912)","v":0}]
[null,902,null,null,{"$f":"IF(ISNUMBER($D$6),D913*$D$6,#REF!*D913)","v":0}]
[null,903,null,null,{"$f":"IF(ISNUMBER($D$6),D914*$D$6,#REF!*D914)","v":0}]
[null,904,null,null,{"$f":"IF(ISNUMBER($D$6),D915*$D$6,#REF!*D915)","v":0}]
[null,{"$f":"+B915+1","v":905},null,null,{"$f":"IF(ISNUMBER($D$6),D916*$D$6,#REF!*D916)","v":0}]
[null,906,null,null,{"$f":"IF(ISNUMBER($D$6),D917*$D$6,#REF!*D917)","v":0}]
[null,907,null,null,{"$f":"IF(ISNUMBER($D$6),D918*$D$6,#REF!*D918)","v":0}]
[null,908,null,null,{"$f":"IF(ISNUMBER($D$6),D919*$D$6,#REF!*D919)","v":0}]
[null,909,null,null,{"$f":"IF(ISNUMBER($D$6),D920*$D$6,#REF!*D920)","v":0}]
[null,910,null,null,{"$f":"IF(ISNUMBER($D$6),D921*$D$6,#REF!*D921)","v":0}]
[null,911,null,null,{"$f":"IF(ISNUMBER($D$6),D922*$D$6,#REF!*D922)","v":0}]
[null,912,null,null,{"$f":"IF(ISNUMBER($D$6),D923*$D$6,#REF!*D923)","v":0}]
[null,913,null,null,{"$f":"IF(ISNUMBER($D$6),D924*$D$6,#REF!*D924)","v":0}]
[null,914,null,null,{"$f":"IF(ISNUMBER($D$6),D925*$D$6,#REF!*D925)","v":0}]
[null,915,null,null,{"$f":"IF(ISNUMBER($D$6),D926*$D$6,#REF!*D926)","v":0}]
[null,916,null,null,{"$f":"IF(ISNUMBER($D$6),D927*$D$6,#REF!*D927)","v":0}]
[null,917,null,null,{"$f":"IF(ISNUMBER($D$6),D928*$D$6,#REF!*D928)","v":0}]
[null,918,null,null,{"$f":"IF(ISNUMBER($D$6),D929*$D$6,#REF!*D929)","v":0}]
[null,919,null,null,{"$f":"IF(ISNUMBER($D$6),D930*$D$6,#REF!*D930)","v":0}]
[null,920,null,null,{"$f":"IF(ISNUMBER($D$6),D931*$D$6,#REF!*D931)","v":0}]
[null,921,null,null,{"$f":"IF(ISNUMBER($D$6),D932*$D$6,#REF!*D932)","v":0}]
[null,922,null,null,{"$f":"IF(ISNUMBER($D$6),D933*$D$6,#REF!*D933)","v":0}]
[null,923,null,null,{"$f":"IF(ISNUMBER($D$6),D934*$D$6,#REF!*D934)","v":0}]
[null,924,null,null,{"$f":"IF(ISNUMBER($D$6),D935*$D$6,#REF!*D935)","v":0}]
[null,925,null,null,{"$f":"IF(ISNUMBER($D$6),D936*$D$6,#REF!*D936)","v":0}]
[null,926,null,null,{"$f":"IF(ISNUMBER($D$6),D937*$D$6,#REF!*D937)","v":0}]
[null,927,null,null,{"$f":"IF(ISNUMBER($D$6),D938*$D$6,#REF!*D938)","v":0}]
[null,928,null,null,{"$f":"IF(ISNUMBER($D$6),D939*$D$6,#REF!*D939)","v":0}]
[null,929,null,null,{"$f":"IF(ISNUMBER($D$6),D940*$D$6,#REF!*D940)","v":0}]
[null,930,null,null,{"$f":"IF(ISNUMBER($D$6),D941*$D$6,#REF!*D941)","v":0}]
[null,931,null,null,{"$f":"IF(ISNUMBER($D$6),D942*$D$6,#REF!*D942)","v":0}]
[null,932,null,null,{"$f":"IF(ISNUMBER($D$6),D943*$D$6,#REF!*D943)","v":0}]
[null,933,null,null,{"$f":"IF(ISNUMBER($D$6),D944*$D$6,#REF!*D944)","v":0}]
[null,934,null,null,{"$f":"IF(ISNUMBER($D$6),D945*$D$6,#REF!*D945)","v":0}]
[null,935,null,null,{"$f":"IF(ISNUMBER($D$6),D946*$D$6,#REF!*D946)","v":0}]
[null,936,null,null,{"$f":"IF(ISNUMBER($D$6),D947*$D$6,#REF!*D947)","v":0}]
[null,937,null,null,{"$f":"IF(ISNUMBER($D$6),D948*$D$6,#REF!*D948)","v":0}]
[null,938,null,null,{"$f":"IF(ISNUMBER($D$6),D949*$D$6,#REF!*D949)","v":0}]
[null,939,null,null,{"$f":"IF(ISNUMBER($D$6),D950*$D$6,#REF!*D950)","v":0}]
[null,940,null,null,{"$f":"IF(ISNUMBER($D$6),D951*$D$6,#REF!*D951)","v":0}]
[null,941,null,null,{"$f":"IF(ISNUMBER($D$6),D952*$D$6,#REF!*D952)","v":0}]
[null,942,null,null,{"$f":"IF(ISNUMBER($D$6),D953*$D$6,#REF!*D953)","v":0}]
[null,943,null,null,{"$f":"IF(ISNUMBER($D$6),D954*$D$6,#REF!*D954)","v":0}]
[null,944,null,null,{"$f":"IF(ISNUMBER($D$6),D955*$D$6,#REF!*D955)","v":0}]
[null,945,null,null,{"$f":"IF(ISNUMBER($D$6),D956*$D$6,#REF!*D956)","v":0}]
[null,946,null,null,{"$f":"IF(ISNUMBER($D$6),D957*$D$6,#REF!*D957)","v":0}]
[null,947,null,null,{"$f":"IF(ISNUMBER($D$6),D958*$D$6,#REF!*D958)","v":0}]
[null,948,null,null,{"$f":"IF(ISNUMBER($D$6),D959*$D$6,#REF!*D959)","v":0}]
[null,949,null,null,{"$f":"IF(ISNUMBER($D$6),D960*$D$6,#REF!*D960)","v":0}]
[null,950,null,null,{"$f":"IF(ISNUMBER($D$6),D961*$D$6,#REF!*D961)","v":0}]
[null,951,null,null,{"$f":"IF(ISNUMBER($D$6),D962*$D$6,#REF!*D962)","v":0}]
[null,952,null,null,{"$f":"IF(ISNUMBER($D$6),D963*$D$6,#REF!*D963)","v":0}]
[null,953,null,null,{"$f":"IF(ISNUMBER($D$6),D964*$D$6,#REF!*D964)","v":0}]
[null,954,null,null,{"$f":"IF(ISNUMBER($D$6),D965*$D$6,#REF!*D965)","v":0}]
[null,955,null,null,{"$f":"IF(ISNUMBER($D$6),D966*$D$6,#REF!*D966)","v":0}]
[null,956,null,null,{"$f":"IF(ISNUMBER($D$6),D967*$D$6,#REF!*D967)","v":0}]
[null,957,null,null,{"$f":"IF(ISNUMBER($D$6),D968*$D$6,#REF!*D968)","v":0}]
[null,958,null,null,{"$f":"IF(ISNUMBER($D$6),D969*$D$6,#REF!*D969)","v":0}]
[null,959,null,null,{"$f":"IF(ISNUMBER($D$6),D970*$D$6,#REF!*D970)","v":0}]
[null,960,null,null,{"$f":"IF(ISNUMBER($D$6),D971*$D$6,#REF!*D971)","v":0}]
[null,961,null,null,{"$f":"IF(ISNUMBER($D$6),D972*$D$6,#REF!*D972)","v":0}]
[null,962,null,null,{"$f":"IF(ISNUMBER($D$6),D973*$D$6,#REF!*D973)","v":0}]
[null,963,null,null,{"$f":"IF(ISNUMBER($D$6),D974*$D$6,#REF!*D974)","v":0}]
[null,964,null,null,{"$f":"IF(ISNUMBER($D$6),D975*$D$6,#REF!*D975)","v":0}]
[null,965,null,null,{"$f":"IF(ISNUMBER($D$6),D976*$D$6,#REF!*D976)","v":0}]
[null,966,null,null,{"$f":"IF(ISNUMBER($D$6),D977*$D$6,#REF!*D977)","v":0}]
[null,967,null,null,{"$f":"IF(ISNUMBER($D$6),D978*$D$6,#REF!*D978)","v":0}]
[null,968,null,null,{"$f":"IF(ISNUMBER($D$6),D979*$D$6,#REF!*D979)","v":0}]
[null,{"$f":"+B979+1","v":969},null,null,{"$f":"IF(ISNUMBER($D$6),D980*$D$6,#REF!*D980)","v":0}]
[null,970,null,null,{"$f":"IF(ISNUMBER($D$6),D981*$D$6,#REF!*D981)","v":0}]
[null,971,null,null,{"$f":"IF(ISNUMBER($D$6),D982*$D$6,#REF!*D982)","v":0}]
[null,972,null,null,{"$f":"IF(ISNUMBER($D$6),D983*$D$6,#REF!*D983)","v":0}]
[null,973,null,null,{"$f":"IF(ISNUMBER($D$6),D984*$D$6,#REF!*D984)","v":0}]
[null,974,null,null,{"$f":"IF(ISNUMBER($D$6),D985*$D$6,#REF!*D985)","v":0}]
[null,975,null,null,{"$f":"IF(ISNUMBER($D$6),D986*$D$6,#REF!*D986)","v":0}]
[null,976,null,null,{"$f":"IF(ISNUMBER($D$6),D987*$D$6,#REF!*D987)","v":0}]
[null,977,null,null,{"$f":"IF(ISNUMBER($D$6),D988*$D$6,#REF!*D988)","v":0}]
[null,978,null,null,{"$f":"IF(ISNUMBER($D$6),D989*$D$6,#REF!*D989)","v":0}]
[null,979,null,null,{"$f":"IF(ISNUMBER($D$6),D990*$D$6,#REF!*D990)","v":0}]
[null,980,null,null,{"$f":"IF(ISNUMBER($D$6),D991*$D$6,#REF!*D991)","v":0}]
[null,981,null,null,{"$f":"IF(ISNUMBER($D$6),D992*$D$6,#REF!*D992)","v":0}]
[null,982,null,null,{"$f":"IF(ISNUMBER($D$6),D993*$D$6,#REF!*D993)","v":0}]
[null,983,null,null,{"$f":"IF(ISNUMBER($D$6),D994*$D$6,#REF!*D994)","v":0}]
[null,984,null,null,{"$f":"IF(ISNUMBER($D$6),D995*$D$6,#REF!*D995)","v":0}]
[null,985,null,null,{"$f":"IF(ISNUMBER($D$6),D996*$D$6,#REF!*D996)","v":0}]
[null,986,null,null,{"$f":"IF(ISNUMBER($D$6),D997*$D$6,#REF!*D997)","v":0}]
[null,987,null,null,{"$f":"IF(ISNUMBER($D$6),D998*$D$6,#REF!*D998)","v":0}]
[null,988,null,null,{"$f":"IF(ISNUMBER($D$6),D999*$D$6,#REF!*D999)","v":0}]
[null,989,null,null,{"$f":"IF(ISNUMBER($D$6),D1000*$D$6,#REF!*D1000)","v":0}]
[null,990,null,null,{"$f":"IF(ISNUMBER($D$6),D1001*$D$6,#REF!*D1001)","v":0}]
[null,991,null,null,{"$f":"IF(ISNUMBER($D$6),D1002*$D$6,#REF!*D1002)","v":0}]
[null,992,null,null,{"$f":"IF(ISNUMBER($D$6),D1003*$D$6,#REF!*D1003)","v":0}]
[null,993,null,null,{"$f":"IF(ISNUMBER($D$6),D1004*$D$6,#REF!*D1004)","v":0}]
[null,994,null,null,{"$f":"IF(ISNUMBER($D$6),D1005*$D$6,#REF!*D1005)","v":0}]
[null,995,null,null,{"$f":"IF(ISNUMBER($D$6),D1006*$D$6,#REF!*D1006)","v":0}]
[null,996,null,null,{"$f":"IF(ISNUMBER($D$6),D1007*$D$6,#REF!*D1007)","v":0}]
[null,997,null,null,{"$f":"IF(ISNUMBER($D$6),D1008*$D$6,#REF!*D1008)","v":0}]
[null,998,null,null,{"$f":"IF(ISNUMBER($D$6),D1009*$D$6,#REF!*D1009)","v":0}]
[null,999,null,null,{"$f":"IF(ISNUMBER($D$6),D1010*$D$6,#REF!*D1010)","v":0}]
[null,1000,null,null,{"$f":"IF(ISNUMBER($D$6),D1011*$D$6,#REF!*D1011)","v":0}]

{"sheet":"Pontos de Monitorização3","index":6,"n_rows":1011,"n_cols":5,"rows_kept":1011,"cut":false,"hidden":true,"merged":[[1,1,2,4],[4,1,4,2],[5,1,5,2],[7,1,7,2]]}
[]
[null,"SISTEMAS DE QUANTIFICAÇÃO, MONITORIZAÇÃO CONTÍNUA E GESTÃO DE ENERGIA"]
[]
[]
[null,"Identifique a fonte de energia:",null,{"$f":"+Economias!E35","v":0},"(t)"]
[null,"Fator de conversão:",null,{"$f":"+Economias!E38","v":0},{"$f":"\"tep/\"&$E$5&\"\"","v":"tep/(t)"}]
[]
[null,"Indique o número total de pontos a monitorizar:"]
[]
[]
[null,"número do ponto de monitorização","Identificação do ponto de monitorização",{"$f":"IF(D5=\"Energia elétrica\",\"Utilização anual de \"&$D$5&\" (kWh/ano)\",\"Utilização anual de \"&$D$5&\" (t/ano)\")","v":"Utilização anual de 0 (t/ano)"},"Consumo energético referente ao ano de referência (tep/ano)"]
[null,1,null,null,{"$f":"IF(ISNUMBER($D$6),D12*$D$6,#REF!*D12)","v":0}]
[null,{"$f":"+B12+1","v":2},null,null,{"$f":"IF(ISNUMBER($D$6),D13*$D$6,#REF!*D13)","v":0}]
[null,{"$f":"+B13+1","v":3},null,null,{"$f":"IF(ISNUMBER($D$6),D14*$D$6,#REF!*D14)","v":0}]
[null,4,null,null,{"$f":"IF(ISNUMBER($D$6),D15*$D$6,#REF!*D15)","v":0}]
[null,5,null,null,{"$f":"IF(ISNUMBER($D$6),D16*$D$6,#REF!*D16)","v":0}]
[null,6,null,null,{"$f":"IF(ISNUMBER($D$6),D17*$D$6,#REF!*D17)","v":0}]
[null,7,null,null,{"$f":"IF(ISNUMBER($D$6),D18*$D$6,#REF!*D18)","v":0}]
[null,8,null,null,{"$f":"IF(ISNUMBER($D$6),D19*$D$6,#REF!*D19)","v":0}]
[null,9,null,null,{"$f":"IF(ISNUMBER($D$6),D20*$D$6,#REF!*D20)","v":0}]
[null,10,null,null,{"$f":"IF(ISNUMBER($D$6),D21*$D$6,#REF!*D21)","v":0}]
[null,11,null,null,{"$f":"IF(ISNUMBER($D$6),D22*$D$6,#REF!*D22)","v":0}]
[null,12,null,null,{"$f":"IF(ISNUMBER($D$6),D23*$D$6,#REF!*D23)","v":0}]
[null,13,null,null,{"$f":"IF(ISNUMBER($D$6),D24*$D$6,#REF!*D24)","v":0}]
[null,14,null,null,{"$f":"IF(ISNUMBER($D$6),D25*$D$6,#REF!*D25)","v":0}]
[null,15,null,null,{"$f":"IF(ISNUMBER($D$6),D26*$D$6,#REF!*D26)","v":0}]
[null,16,null,null,{"$f":"IF(ISNUMBER($D$6),D27*$D$6,#REF!*D27)","v":0}]
[null,17,null,null,{"$f":"IF(ISNUMBER($D$6),D28*$D$6,#REF!*D28)","v":0}]
[null,18,null,null,{"$f":"IF(ISNUMBER($D$6),D29*$D$6,#REF!*D29)","v":0}]
[null,19,null,null,{"$f":"IF(ISNUMBER($D$6),D30*$D$6,#REF!*D30)","v":0}]
[null,20,null,null,{"$f":"IF(ISNUMBER($D$6),D31*$D$6,#REF!*D31)","v":0}]
[null,21,null,null,{"$f":"IF(ISNUMBER($D$6),D32*$D$6,#REF!*D32)","v":0}]
[null,22,null,null,{"$f":"IF(ISNUMBER($D$6),D33*$D$6,#REF!*D33)","v":0}]
[null,23,null,null,{"$f":"IF(ISNUMBER($D$6),D34*$D$6,#REF!*D34)","v":0}]
[null,24,null,null,{"$f":"IF(ISNUMBER($D$6),D35*$D$6,#REF!*D35)","v":0}]
[null,25,null,null,{"$f":"IF(ISNUMBER($D$6),D36*$D$6,#REF!*D36)","v":0}]
[null,26,null,null,{"$f":"IF(ISNUMBER($D$6),D37*$D$6,#REF!*D37)","v":0}]
[null,27,null,null,{"$f":"IF(ISNUMBER($D$6),D38*$D$6,#REF!*D38)","v":0}]
[null,28,null,null,{"$f":"IF(ISNUMBER($D$6),D39*$D$6,#REF!*D39)","v":0}]
[null,29,null,null,{"$f":"IF(ISNUMBER($D$6),D40*$D$6,#REF!*D40)","v":0}]
[null,30,null,null,{"$f":"IF(ISNUMBER($D$6),D41*$D$6,#REF!*D41)","v":0}]
[null,31,null,null,{"$f":"IF(ISNUMBER($D$6),D42*$D$6,#REF!*D42)","v":0}]
[null,32,null,null,{"$f":"IF(ISNUMBER($D$6),D43*$D$6,#REF!*D43)","v":0}]
[null,33,null,null,{"$f":"IF(ISNUMBER($D$6),D44*$D$6,#REF!*D44)","v":0}]
[null,34,null,null,{"$f":"IF(ISNUMBER($D$6),D45*$D$6,#REF!*D45)","v":0}]
[null,35,null,null,{"$f":"IF(ISNUMBER($D$6),D46*$D$6,#REF!*D46)","v":0}]
[null,36,null,null,{"$f":"IF(ISNUMBER($D$6),D47*$D$6,#REF!*D47)","v":0}]
[null,37,null,null,{"$f":"IF(ISNUMBER($D$6),D48*$D$6,#REF!*D48)","v":0}]
[null,38,null,null,{"$f":"IF(ISNUMBER($D$6),D49*$D$6,#REF!*D49)","v":0}]
[null,39,null,null,{"$f":"IF(ISNUMBER($D$6),D50*$D$6,#REF!*D50)","v":0}]
[null,40,null,null,{"$f":"IF(ISNUMBER($D$6),D51*$D$6,#REF!*D51)","v":0}]
[null,41,null,null,{"$f":"IF(ISNUMBER($D$6),D52*$D$6,#REF!*D52)","v":0}]
[null,42,null,null,{"$f":"IF(ISNUMBER($D$6),D53*$D$6,#REF!*D53)","v":0}]
[null,43,null,null,{"$f":"IF(ISNUMBER($D$6),D54*$D$6,#REF!*D54)","v":0}]
[null,44,null,null,{"$f":"IF(ISNUMBER($D$6),D55*$D$6,#REF!*D55)","v":0}]
[null,45,null,null,{"$f":"IF(ISNUMBER($D$6),D56*$D$6,#REF!*D56)","v":0}]
[null,46,null,null,{"$f":"IF(ISNUMBER($D$6),D57*$D$6,#REF!*D57)","v":0}]
[null,47,null,null,{"$f":"IF(ISNUMBER($D$6),D58*$D$6,#REF!*D58)","v":0}]
[null,48,null,null,{"$f":"IF(ISNUMBER($D$6),D59*$D$6,#REF!*D59)","v":0}]
[null,49,null,null,{"$f":"IF(ISNUMBER($D$6),D60*$D$6,#REF!*D60)","v":0}]
[null,50,null,null,{"$f":"IF(ISNUMBER($D$6),D61*$D$6,#REF!*D61)","v":0}]
[null,51,null,null,{"$f":"IF(ISNUMBER($D$6),D62*$D$6,#REF!*D62)","v":0}]
[null,52,null,null,{"$f":"IF(ISNUMBER($D$6),D63*$D$6,#REF!*D63)","v":0}]
[null,53,null,null,{"$f":"IF(ISNUMBER($D$6),D64*$D$6,#REF!*D64)","v":0}]
[null,54,null,null,{"$f":"IF(ISNUMBER($D$6),D65*$D$6,#REF!*D65)","v":0}]
[null,55,null,null,{"$f":"IF(ISNUMBER($D$6),D66*$D$6,#REF!*D66)","v":0}]
[null,56,null,null,{"$f":"IF(ISNUMBER($D$6),D67*$D$6,#REF!*D67)","v":0}]
[null,57,null,null,{"$f":"IF(ISNUMBER($D$6),D68*$D$6,#REF!*D68)","v":0}]
[null,58,null,null,{"$f":"IF(ISNUMBER($D$6),D69*$D$6,#REF!*D69)","v":0}]
[null,59,null,null,{"$f":"IF(ISNUMBER($D$6),D70*$D$6,#REF!*D70)","v":0}]
[null,60,null,null,{"$f":"IF(ISNUMBER($D$6),D71*$D$6,#REF!*D71)","v":0}]
[null,61,null,null,{"$f":"IF(ISNUMBER($D$6),D72*$D$6,#REF!*D72)","v":0}]
[null,62,null,null,{"$f":"IF(ISNUMBER($D$6),D73*$D$6,#REF!*D73)","v":0}]
[null,63,null,null,{"$f":"IF(ISNUMBER($D$6),D74*$D$6,#REF!*D74)","v":0}]
[null,64,null,null,{"$f":"IF(ISNUMBER($D$6),D75*$D$6,#REF!*D75)","v":0}]
[null,65,null,null,{"$f":"IF(ISNUMBER($D$6),D76*$D$6,#REF!*D76)","v":0}]
[null,66,null,null,{"$f":"IF(ISNUMBER($D$6),D77*$D$6,#REF!*D77)","v":0}]
[null,{"$f":"+B77+1","v":67},null,null,{"$f":"IF(ISNUMBER($D$6),D78*$D$6,#REF!*D78)","v":0}]
[null,68,null,null,{"$f":"IF(ISNUMBER($D$6),D79*$D$6,#REF!*D79)","v":0}]
[null,69,null,null,{"$f":"IF(ISNUMBER($D$6),D80*$D$6,#REF!*D80)","v":0}]
[null,70,null,null,{"$f":"IF(ISNUMBER($D$6),D81*$D$6,#REF!*D81)","v":0}]
[null,71,null,null,{"$f":"IF(ISNUMBER($D$6),D82*$D$6,#REF!*D82)","v":0}]
[null,72,null,null,{"$f":"IF(ISNUMBER($D$6),D83*$D$6,#REF!*D83)","v":0}]
[null,73,null,null,{"$f":"IF(ISNUMBER($D$6),D84*$D$6,#REF!*D84)","v":0}]
[null,74,null,null,{"$f":"IF(ISNUMBER($D$6),D85*$D$6,#REF!*D85)","v":0}]
[null,75,null,null,{"$f":"IF(ISNUMBER($D$6),D86*$D$6,#REF!*D86)","v":0}]
[null,76,null,null,{"$f":"IF(ISNUMBER($D$6),D87*$D$6,#REF!*D87)","v":0}]
[null,77,null,null,{"$f":"IF(ISNUMBER($D$6),D88*$D$6,#REF!*D88)","v":0}]
[null,78,null,null,{"$f":"IF(ISNUMBER($D$6),D89*$D$6,#REF!*D89)","v":0}]
[null,79,null,null,{"$f":"IF(ISNUMBER($D$6),D90*$D$6,#REF!*D90)","v":0}]
[null,80,null,null,{"$f":"IF(ISNUMBER($D$6),D91*$D$6,#REF!*D91)","v":0}]
[null,81,null,null,{"$f":"IF(ISNUMBER($D$6),D92*$D$6,#REF!*D92)","v":0}]
[null,82,null,null,{"$f":"IF(ISNUMBER($D$6),D93*$D$6,#REF!*D93)","v":0}]
[null,83,null,null,{"$f":"IF(ISNUMBER($D$6),D94*$D$6,#REF!*D94)","v":0}]
[null,84,null,null,{"$f":"IF(ISNUMBER($D$6),D95*$D$6,#REF!*D95)","v":0}]
[null,85,null,null,{"$f":"IF(ISNUMBER($D$6),D96*$D$6,#REF!*D96)","v":0}]
[null,86,null,null,{"$f":"IF(ISNUMBER($D$6),D97*$D$6,#REF!*D97)","v":0}]
[null,87,null,null,{"$f":"IF(ISNUMBER($D$6),D98*$D$6,#REF!*D98)","v":0}]
[null,88,null,null,{"$f":"IF(ISNUMBER($D$6),D99*$D$6,#REF!*D99)","v":0}]
[null,89,null,null,{"$f":"IF(ISNUMBER($D$6),D100*$D$6,#REF!*D100)","v":0}]
[null,90,null,null,{"$f":"IF(ISNUMBER($D$6),D101*$D$6,#REF!*D101)","v":0}]
[null,91,null,null,{"$f":"IF(ISNUMBER($D$6),D102*$D$6,#REF!*D102)","v":0}]
[null,92,null,null,{"$f":"IF(ISNUMBER($D$6),D103*$D$6,#REF!*D103)","v":0}]
[null,93,null,null,{"$f":"IF(ISNUMBER($D$6),D104*$D$6,#REF!*D104)","v":0}]
[null,94,null,null,{"$f":"IF(ISNUMBER($D$6),D105*$D$6,#REF!*D105)","v":0}]
[null,95,null,null,{"$f":"IF(ISNUMBER($D$6),D106*$D$6,#REF!*D106)","v":0}]
[null,96,null,null,{"$f":"IF(ISNUMBER($D$6),D107*$D$6,#REF!*D107)","v":0}]
[null,97,null,null,{"$f":"IF(ISNUMBER($D$6),D108*$D$6,#REF!*D108)","v":0}]
[null,98,null,null,{"$f":"IF(ISNUMBER($D$6),D109*$D$6,#REF!*D109)","v":0}]
[null,99,null,null,{"$f":"IF(ISNUMBER($D$6),D110*$D$6,#REF!*D110)","v":0}]
[null,100,null,null,{"$f":"IF(ISNUMBER($D$6),D111*$D$6,#REF!*D111)","v":0}]
[null,101,null,null,{"$f":"IF(ISNUMBER($D$6),D112*$D$6,#REF!*D112)","v":0}]
[null,102,null,null,{"$f":"IF(ISNUMBER($D$6),D113*$D$6,#REF!*D113)","v":0}]
[null,103,null,null,{"$f":"IF(ISNUMBER($D$6),D114*$D$6,#REF!*D114)","v":0}]
[null,104,null,null,{"$f":"IF(ISNUMBER($D$6),D115*$D$6,#REF!*D115)","v":0}]
[null,105,null,null,{"$f":"IF(ISNUMBER($D$6),D116*$D$6,#REF!*D116)","v":0}]
[null,106,null,null,{"$f":"IF(ISNUMBER($D$6),D117*$D$6,#REF!*D117)","v":0}]
[null,107,null,null,{"$f":"IF(ISNUMBER($D$6),D118*$D$6,#REF!*D118)","v":0}]
[null,108,null,null,{"$f":"IF(ISNUMBER($D$6),D119*$D$6,#REF!*D119)","v":0}]
[null,109,null,null,{"$f":"IF(ISNUMBER($D$6),D120*$D$6,#REF!*D120)","v":0}]
[null,110,null,null,{"$f":"IF(ISNUMBER($D$6),D121*$D$6,#REF!*D121)","v":0}]
[null,111,null,null,{"$f":"IF(ISNUMBER($D$6),D122*$D$6,#REF!*D122)","v":0}]
[null,112,null,null,{"$f":"IF(ISNUMBER($D$6),D123*$D$6,#REF!*D123)","v":0}]
[null,113,null,null,{"$f":"IF(ISNUMBER($D$6),D124*$D$6,#REF!*D124)","v":0}]
[null,114,null,null,{"$f":"IF(ISNUMBER($D$6),D125*$D$6,#REF!*D125)","v":0}]
[null,115,null,null,{"$f":"IF(ISNUMBER($D$6),D126*$D$6,#REF!*D126)","v":0}]
[null,116,null,null,{"$f":"IF(ISNUMBER($D$6),D127*$D$6,#REF!*D127)","v":0}]
[null,117,null,null,{"$f":"IF(ISNUMBER($D$6),D128*$D$6,#REF!*D128)","v":0}]
[null,118,null,null,{"$f":"IF(ISNUMBER($D$6),D129*$D$6,#REF!*D129)","v":0}]
[null,119,null,null,{"$f":"IF(ISNUMBER($D$6),D130*$D$6,#REF!*D130)","v":0}]
[null,120,null,null,{"$f":"IF(ISNUMBER($D$6),D131*$D$6,#REF!*D131)","v":0}]
[null,121,null,null,{"$f":"IF(ISNUMBER($D$6),D132*$D$6,#REF!*D132)","v":0}]
[null,122,null,null,{"$f":"IF(ISNUMBER($D$6),D133*$D$6,#REF!*D133)","v":0}]
[null,123,null,null,{"$f":"IF(ISNUMBER($D$6),D134*$D$6,#REF!*D134)","v":0}]
[null,124,null,null,{"$f":"IF(ISNUMBER($D$6),D135*$D$6,#REF!*D135)","v":0}]
[null,125,null,null,{"$f":"IF(ISNUMBER($D$6),D136*$D$6,#REF!*D136)","v":0}]
[null,126,null,null,{"$f":"IF(ISNUMBER($D$6),D137*$D$6,#REF!*D137)","v":0}]
[null,127,null,null,{"$f":"IF(ISNUMBER($D$6),D138*$D$6,#REF!*D138)","v":0}]
[null,128,null,null,{"$f":"IF(ISNUMBER($D$6),D139*$D$6,#REF!*D139)","v":0}]
[null,129,null,null,{"$f":"IF(ISNUMBER($D$6),D140*$D$6,#REF!*D140)","v":0}]
[null,130,null,null,{"$f":"IF(ISNUMBER($D$6),D141*$D$6,#REF!*D141)","v":0}]
[null,{"$f":"+B141+1","v":131},null,null,{"$f":"IF(ISNUMBER($D$6),D142*$D$6,#REF!*D142)","v":0}]
[null,132,null,null,{"$f":"IF(ISNUMBER($D$6),D143*$D$6,#REF!*D143)","v":0}]
[null,133,null,null,{"$f":"IF(ISNUMBER($D$6),D144*$D$6,#REF!*D144)","v":0}]
[null,134,null,null,{"$f":"IF(ISNUMBER($D$6),D145*$D$6,#REF!*D145)","v":0}]
[null,135,null,null,{"$f":"IF(ISNUMBER($D$6),D146*$D$6,#REF!*D146)","v":0}]
[null,136,null,null,{"$f":"IF(ISNUMBER($D$6),D147*$D$6,#REF!*D147)","v":0}]
[null,137,null,null,{"$f":"IF(ISNUMBER($D$6),D148*$D$6,#REF!*D148)","v":0}]
[null,138,null,null,{"$f":"IF(ISNUMBER($D$6),D149*$D$6,#REF!*D149)","v":0}]
[null,139,null,null,{"$f":"IF(ISNUMBER($D$6),D150*$D$6,#REF!*D150)","v":0}]
[null,140,null,null,{"$f":"IF(ISNUMBER($D$6),D151*$D$6,#REF!*D151)","v":0}]
[null,141,null,null,{"$f":"IF(ISNUMBER($D$6),D152*$D$6,#REF!*D152)","v":0}]
[null,142,null,null,{"$f":"IF(ISNUMBER($D$6),D153*$D$6,#REF!*D153)","v":0}]
[null,143,null,null,{"$f":"IF(ISNUMBER($D$6),D154*$D$6,#REF!*D154)","v":0}]
[null,144,null,null,{"$f":"IF(ISNUMBER($D$6),D155*$D$6,#REF!*D155)","v":0}]
[null,145,null,null,{"$f":"IF(ISNUMBER($D$6),D156*$D$6,#REF!*D156)","v":0}]
[null,146,null,null,{"$f":"IF(ISNUMBER($D$6),D157*$D$6,#REF!*D157)","v":0}]
[null,147,null,null,{"$f":"IF(ISNUMBER($D$6),D158*$D$6,#REF!*D158)","v":0}]
[null,148,null,null,{"$f":"IF(ISNUMBER($D$6),D159*$D$6,#REF!*D159)","v":0}]
[null,149,null,null,{"$f":"IF(ISNUMBER($D$6),D160*$D$6,#REF!*D160)","v":0}]
[null,150,null,null,{"$f":"IF(ISNUMBER($D$6),D161*$D$6,#REF!*D161)","v":0}]
[null,151,null,null,{"$f":"IF(ISNUMBER($D$6),D162*$D$6,#REF!*D162)","v":0}]
[null,152,null,null,{"$f":"IF(ISNUMBER($D$6),D163*$D$6,#REF!*D163)","v":0}]
[null,153,null,null,{"$f":"IF(ISNUMBER($D$6),D164*$D$6,#REF!*D164)","v":0}]
[null,154,null,null,{"$f":"IF(ISNUMBER($D$6),D165*$D$6,#REF!*D165)","v":0}]
[null,155,null,null,{"$f":"IF(ISNUMBER($D$6),D166*$D$6,#REF!*D166)","v":0}]
[null,156,null,null,{"$f":"IF(ISNUMBER($D$6),D167*$D$6,#REF!*D167)","v":0}]
[null,157,null,null,{"$f":"IF(ISNUMBER($D$6),D168*$D$6,#REF!*D168)","v":0}]
[null,158,null,null,{"$f":"IF(ISNUMBER($D$6),D169*$D$6,#REF!*D169)","v":0}]
[null,159,null,null,{"$f":"IF(ISNUMBER($D$6),D170*$D$6,#REF!*D170)","v":0}]
[null,160,null,null,{"$f":"IF(ISNUMBER($D$6),D171*$D$6,#REF!*D171)","v":0}]
[null,161,null,null,{"$f":"IF(ISNUMBER($D$6),D172*$D$6,#REF!*D172)","v":0}]
[null,162,null,null,{"$f":"IF(ISNUMBER($D$6),D173*$D$6,#REF!*D173)","v":0}]
[null,163,null,null,{"$f":"IF(ISNUMBER($D$6),D174*$D$6,#REF!*D174)","v":0}]
[null,164,null,null,{"$f":"IF(ISNUMBER($D$6),D175*$D$6,#REF!*D175)","v":0}]
[null,165,null,null,{"$f":"IF(ISNUMBER($D$6),D176*$D$6,#REF!*D176)","v":0}]
[null,166,null,null,{"$f":"IF(ISNUMBER($D$6),D177*$D$6,#REF!*D177)","v":0}]
[null,167,null,null,{"$f":"IF(ISNUMBER($D$6),D178*$D$6,#REF!*D178)","v":0}]
[null,168,null,null,{"$f":"IF(ISNUMBER($D$6),D179*$D$6,#REF!*D179)","v":0}]
[null,169,null,null,{"$f":"IF(ISNUMBER($D$6),D180*$D$6,#REF!*D180)","v":0}]
[null,170,null,null,{"$f":"IF(ISNUMBER($D$6),D181*$D$6,#REF!*D181)","v":0}]
[null,171,null,null,{"$f":"IF(ISNUMBER($D$6),D182*$D$6,#REF!*D182)","v":0}]
[null,172,null,null,{"$f":"IF(ISNUMBER($D$6),D183*$D$6,#REF!*D183)","v":0}]
[null,173,null,null,{"$f":"IF(ISNUMBER($D$6),D184*$D$6,#REF!*D184)","v":0}]
[null,174,null,null,{"$f":"IF(ISNUMBER($D$6),D185*$D$6,#REF!*D185)","v":0}]
[null,175,null,null,{"$f":"IF(ISNUMBER($D$6),D186*$D$6,#REF!*D186)","v":0}]
[null,176,null,null,{"$f":"IF(ISNUMBER($D$6),D187*$D$6,#REF!*D187)","v":0}]
[null,177,null,null,{"$f":"IF(ISNUMBER($D$6),D188*$D$6,#REF!*D188)","v":0}]
[null,178,null,null,{"$f":"IF(ISNUMBER($D$6),D189*$D$6,#REF!*D189)","v":0}]
[null,179,null,null,{"$f":"IF(ISNUMBER($D$6),D190*$D$6,#REF!*D190)","v":0}]
[null,180,null,null,{"$f":"IF(ISNUMBER($D$6),D191*$D$6,#REF!*D191)","v":0}]
[null,181,null,null,{"$f":"IF(ISNUMBER($D$6),D192*$D$6,#REF!*D192)","v":0}]
[null,182,null,null,{"$f":"IF(ISNUMBER($D$6),D193*$D$6,#REF!*D193)","v":0}]
[null,183,null,null,{"$f":"IF(ISNUMBER($D$6),D194*$D$6,#REF!*D194)","v":0}]
[null,184,null,null,{"$f":"IF(ISNUMBER($D$6),D195*$D$6,#REF!*D195)","v":0}]
[null,185,null,null,{"$f":"IF(ISNUMBER($D$6),D196*$D$6,#REF!*D196)","v":0}]
[null,186,null,null,{"$f":"IF(ISNUMBER($D$6),D197*$D$6,#REF!*D197)","v":0}]
[null,187,null,null,{"$f":"IF(ISNUMBER($D$6),D198*$D$6,#REF!*D198)","v":0}]
[null,188,null,null,{"$f":"IF(ISNUMBER($D$6),D199*$D$6,#REF!*D199)","v":0}]
[null,189,null,null,{"$f":"IF(ISNUMBER($D$6),D200*$D$6,#REF!*D200)","v":0}]
[null,190,null,null,{"$f":"IF(ISNUMBER($D$6),D201*$D$6,#REF!*D201)","v":0}]
[null,191,null,null,{"$f":"IF(ISNUMBER($D$6),D202*$D$6,#REF!*D202)","v":0}]
[null,192,null,null,{"$f":"IF(ISNUMBER($D$6),D203*$D$6,#REF!*D203)","v":0}]
[null,193,null,null,{"$f":"IF(ISNUMBER($D$6),D204*$D$6,#REF!*D204)","v":0}]
[null,194,null,null,{"$f":"IF(ISNUMBER($D$6),D205*$D$6,#REF!*D205)","v":0}]
[null,{"$f":"+B205+1","v":195},null,null,{"$f":"IF(ISNUMBER($D$6),D206*$D$6,#REF!*D206)","v":0}]
[null,196,null,null,{"$f":"IF(ISNUMBER($D$6),D207*$D$6,#REF!*D207)","v":0}]
[null,197,null,null,{"$f":"IF(ISNUMBER($D$6),D208*$D$6,#REF!*D208)","v":0}]
[null,198,null,null,{"$f":"IF(ISNUMBER($D$6),D209*$D$6,#REF!*D209)","v":0}]
[null,199,null,null,{"$f":"IF(ISNUMBER($D$6),D210*$D$6,#REF!*D210)","v":0}]
[null,200,null,null,{"$f":"IF(ISNUMBER($D$6),D211*$D$6,#REF!*D211)","v":0}]
[null,201,null,null,{"$f":"IF(ISNUMBER($D$6),D212*$D$6,#REF!*D212)","v":0}]
[null,202,null,null,{"$f":"IF(ISNUMBER($D$6),D213*$D$6,#REF!*D213)","v":0}]
[null,203,null,null,{"$f":"IF(ISNUMBER($D$6),D214*$D$6,#REF!*D214)","v":0}]
[null,204,null,null,{"$f":"IF(ISNUMBER($D$6),D215*$D$6,#REF!*D215)","v":0}]
[null,205,null,null,{"$f":"IF(ISNUMBER($D$6),D216*$D$6,#REF!*D216)","v":0}]
[null,206,null,null,{"$f":"IF(ISNUMBER($D$6),D217*$D$6,#REF!*D217)","v":0}]
[null,207,null,null,{"$f":"IF(ISNUMBER($D$6),D218*$D$6,#REF!*D218)","v":0}]
[null,208,null,null,{"$f":"IF(ISNUMBER($D$6),D219*$D$6,#REF!*D219)","v":0}]
[null,209,null,null,{"$f":"IF(ISNUMBER($D$6),D220*$D$6,#REF!*D220)","v":0}]
[null,210,null,null,{"$f":"IF(ISNUMBER($D$6),D221*$D$6,#REF!*D221)","v":0}]
[null,211,null,null,{"$f":"IF(ISNUMBER($D$6),D222*$D$6,#REF!*D222)","v":0}]
[null,212,null,null,{"$f":"IF(ISNUMBER($D$6),D223*$D$6,#REF!*D223)","v":0}]
[null,213,null,null,{"$f":"IF(ISNUMBER($D$6),D224*$D$6,#REF!*D224)","v":0}]
[null,214,null,null,{"$f":"IF(ISNUMBER($D$6),D225*$D$6,#REF!*D225)","v":0}]
[null,215,null,null,{"$f":"IF(ISNUMBER($D$6),D226*$D$6,#REF!*D226)","v":0}]
[null,216,null,null,{"$f":"IF(ISNUMBER($D$6),D227*$D$6,#REF!*D227)","v":0}]
[null,217,null,null,{"$f":"IF(ISNUMBER($D$6),D228*$D$6,#REF!*D228)","v":0}]
[null,218,null,null,{"$f":"IF(ISNUMBER($D$6),D229*$D$6,#REF!*D229)","v":0}]
[null,219,null,null,{"$f":"IF(ISNUMBER($D$6),D230*$D$6,#REF!*D230)","v":0}]
[null,220,null,null,{"$f":"IF(ISNUMBER($D$6),D231*$D$6,#REF!*D231)","v":0}]
[null,221,null,null,{"$f":"IF(ISNUMBER($D$6),D232*$D$6,#REF!*D232)","v":0}]
[null,222,null,null,{"$f":"IF(ISNUMBER($D$6),D233*$D$6,#REF!*D233)","v":0}]
[null,223,null,null,{"$f":"IF(ISNUMBER($D$6),D234*$D$6,#REF!*D234)","v":0}]
[null,224,null,null,{"$f":"IF(ISNUMBER($D$6),D235*$D$6,#REF!*D235)","v":0}]
[null,225,null,null,{"$f":"IF(ISNUMBER($D$6),D236*$D$6,#REF!*D236)","v":0}]
[null,226,null,null,{"$f":"IF(ISNUMBER($D$6),D237*$D$6,#REF!*D237)","v":0}]
[null,227,null,null,{"$f":"IF(ISNUMBER($D$6),D238*$D$6,#REF!*D238)","v":0}]
[null,228,null,null,{"$f":"IF(ISNUMBER($D$6),D239*$D$6,#REF!*D239)","v":0}]
[null,229,null,null,{"$f":"IF(ISNUMBER($D$6),D240*$D$6,#REF!*D240)","v":0}]
[null,230,null,null,{"$f":"IF(ISNUMBER($D$6),D241*$D$6,#REF!*D241)","v":0}]
[null,231,null,null,{"$f":"IF(ISNUMBER($D$6),D242*$D$6,#REF!*D242)","v":0}]
[null,232,null,null,{"$f":"IF(ISNUMBER($D$6),D243*$D$6,#REF!*D243)","v":0}]
[null,233,null,null,{"$f":"IF(ISNUMBER($D$6),D244*$D$6,#REF!*D244)","v":0}]
[null,234,null,null,{"$f":"IF(ISNUMBER($D$6),D245*$D$6,#REF!*D245)","v":0}]
[null,235,null,null,{"$f":"IF(ISNUMBER($D$6),D246*$D$6,#REF!*D246)","v":0}]
[null,236,null,null,{"$f":"IF(ISNUMBER($D$6),D247*$D$6,#REF!*D247)","v":0}]
[null,237,null,null,{"$f":"IF(ISNUMBER($D$6),D248*$D$6,#REF!*D248)","v":0}]
[null,238,null,null,{"$f":"IF(ISNUMBER($D$6),D249*$D$6,#REF!*D249)","v":0}]
[null,239,null,null,{"$f":"IF(ISNUMBER($D$6),D250*$D$6,#REF!*D250)","v":0}]
[null,240,null,null,{"$f":"IF(ISNUMBER($D$6),D251*$D$6,#REF!*D251)","v":0}]
[null,241,null,null,{"$f":"IF(ISNUMBER($D$6),D252*$D$6,#REF!*D252)","v":0}]
[null,242,null,null,{"$f":"IF(ISNUMBER($D$6),D253*$D$6,#REF!*D253)","v":0}]
[null,243,null,null,{"$f":"IF(ISNUMBER($D$6),D254*$D$6,#REF!*D254)","v":0}]
[null,244,null,null,{"$f":"IF(ISNUMBER($D$6),D255*$D$6,#REF!*D255)","v":0}]
[null,245,null,null,{"$f":"IF(ISNUMBER($D$6),D256*$D$6,#REF!*D256)","v":0}]
[null,246,null,null,{"$f":"IF(ISNUMBER($D$6),D257*$D$6,#REF!*D257)","v":0}]
[null,247,null,null,{"$f":"IF(ISNUMBER($D$6),D258*$D$6,#REF!*D258)","v":0}]
[null,248,null,null,{"$f":"IF(ISNUMBER($D$6),D259*$D$6,#REF!*D259)","v":0}]
[null,249,null,null,{"$f":"IF(ISNUMBER($D$6),D260*$D$6,#REF!*D260)","v":0}]
[null,250,null,null,{"$f":"IF(ISNUMBER($D$6),D261*$D$6,#REF!*D261)","v":0}]
[null,251,null,null,{"$f":"IF(ISNUMBER($D$6),D262*$D$6,#REF!*D262)","v":0}]
[null,252,null,null,{"$f":"IF(ISNUMBER($D$6),D263*$D$6,#REF!*D263)","v":0}]
[null,253,null,null,{"$f":"IF(ISNUMBER($D$6),D264*$D$6,#REF!*D264)","v":0}]
[null,254,null,null,{"$f":"IF(ISNUMBER($D$6),D265*$D$6,#REF!*D265)","v":0}]
[null,255,null,null,{"$f":"IF(ISNUMBER($D$6),D266*$D$6,#REF!*D266)","v":0}]
[null,256,null,null,{"$f":"IF(ISNUMBER($D$6),D267*$D$6,#REF!*D267)","v":0}]
[null,257,null,null,{"$f":"IF(ISNUMBER($D$6),D268*$D$6,#REF!*D268)","v":0}]
[null,258,null,null,{"$f":"IF(ISNUMBER($D$6),D269*$D$6,#REF!*D269)","v":0}]
[null,{"$f":"+B269+1","v":259},null,null,{"$f":"IF(ISNUMBER($D$6),D270*$D$6,#REF!*D270)","v":0}]
[null,260,null,null,{"$f":"IF(ISNUMBER($D$6),D271*$D$6,#REF!*D271)","v":0}]
[null,261,null,null,{"$f":"IF(ISNUMBER($D$6),D272*$D$6,#REF!*D272)","v":0}]
[null,262,null,null,{"$f":"IF(ISNUMBER($D$6),D273*$D$6,#REF!*D273)","v":0}]
[null,263,null,null,{"$f":"IF(ISNUMBER($D$6),D274*$D$6,#REF!*D274)","v":0}]
[null,264,null,null,{"$f":"IF(ISNUMBER($D$6),D275*$D$6,#REF!*D275)","v":0}]
[null,265,null,null,{"$f":"IF(ISNUMBER($D$6),D276*$D$6,#REF!*D276)","v":0}]
[null,266,null,null,{"$f":"IF(ISNUMBER($D$6),D277*$D$6,#REF!*D277)","v":0}]
[null,267,null,null,{"$f":"IF(ISNUMBER($D$6),D278*$D$6,#REF!*D278)","v":0}]
[null,268,null,null,{"$f":"IF(ISNUMBER($D$6),D279*$D$6,#REF!*D279)","v":0}]
[null,269,null,null,{"$f":"IF(ISNUMBER($D$6),D280*$D$6,#REF!*D280)","v":0}]
[null,270,null,null,{"$f":"IF(ISNUMBER($D$6),D281*$D$6,#REF!*D281)","v":0}]
[null,271,null,null,{"$f":"IF(ISNUMBER($D$6),D282*$D$6,#REF!*D282)","v":0}]
[null,272,null,null,{"$f":"IF(ISNUMBER($D$6),D283*$D$6,#REF!*D283)","v":0}]
[null,273,null,null,{"$f":"IF(ISNUMBER($D$6),D284*$D$6,#REF!*D284)","v":0}]
[null,274,null,null,{"$f":"IF(ISNUMBER($D$6),D285*$D$6,#REF!*D285)","v":0}]
[null,275,null,null,{"$f":"IF(ISNUMBER($D$6),D286*$D$6,#REF!*D286)","v":0}]
[null,276,null,null,{"$f":"IF(ISNUMBER($D$6),D287*$D$6,#REF!*D287)","v":0}]
[null,277,null,null,{"$f":"IF(ISNUMBER($D$6),D288*$D$6,#REF!*D288)","v":0}]
[null,278,null,null,{"$f":"IF(ISNUMBER($D$6),D289*$D$6,#REF!*D289)","v":0}]
[null,279,null,null,{"$f":"IF(ISNUMBER($D$6),D290*$D$6,#REF!*D290)","v":0}]
[null,280,null,null,{"$f":"IF(ISNUMBER($D$6),D291*$D$6,#REF!*D291)","v":0}]
[null,281,null,null,{"$f":"IF(ISNUMBER($D$6),D292*$D$6,#REF!*D292)","v":0}]
[null,282,null,null,{"$f":"IF(ISNUMBER($D$6),D293*$D$6,#REF!*D293)","v":0}]
[null,283,null,null,{"$f":"IF(ISNUMBER($D$6),D294*$D$6,#REF!*D294)","v":0}]
[null,284,null,null,{"$f":"IF(ISNUMBER($D$6),D295*$D$6,#REF!*D295)","v":0}]
[null,285,null,null,{"$f":"IF(ISNUMBER($D$6),D296*$D$6,#REF!*D296)","v":0}]
[null,286,null,null,{"$f":"IF(ISNUMBER($D$6),D297*$D$6,#REF!*D297)","v":0}]
[null,287,null,null,{"$f":"IF(ISNUMBER($D$6),D298*$D$6,#REF!*D298)","v":0}]
[null,288,null,null,{"$f":"IF(ISNUMBER($D$6),D299*$D$6,#REF!*D299)","v":0}]
[null,289,null,null,{"$f":"IF(ISNUMBER($D$6),D300*$D$6,#REF!*D300)","v":0}]
[null,290,null,null,{"$f":"IF(ISNUMBER($D$6),D301*$D$6,#REF!*D301)","v":0}]
[null,291,null,null,{"$f":"IF(ISNUMBER($D$6),D302*$D$6,#REF!*D302)","v":0}]
[null,292,null,null,{"$f":"IF(ISNUMBER($D$6),D303*$D$6,#REF!*D303)","v":0}]
[null,293,null,null,{"$f":"IF(ISNUMBER($D$6),D304*$D$6,#REF!*D304)","v":0}]
[null,294,null,null,{"$f":"IF(ISNUMBER($D$6),D305*$D$6,#REF!*D305)","v":0}]
[null,295,null,null,{"$f":"IF(ISNUMBER($D$6),D306*$D$6,#REF!*D306)","v":0}]
[null,296,null,null,{"$f":"IF(ISNUMBER($D$6),D307*$D$6,#REF!*D307)","v":0}]
[null,297,null,null,{"$f":"IF(ISNUMBER($D$6),D308*$D$6,#REF!*D308)","v":0}]
[null,298,null,null,{"$f":"IF(ISNUMBER($D$6),D309*$D$6,#REF!*D309)","v":0}]
[null,299,null,null,{"$f":"IF(ISNUMBER($D$6),D310*$D$6,#REF!*D310)","v":0}]
[null,300,null,null,{"$f":"IF(ISNUMBER($D$6),D311*$D$6,#REF!*D311)","v":0}]
[null,301,null,null,{"$f":"IF(ISNUMBER($D$6),D312*$D$6,#REF!*D312)","v":0}]
[null,302,null,null,{"$f":"IF(ISNUMBER($D$6),D313*$D$6,#REF!*D313)","v":0}]
[null,303,null,null,{"$f":"IF(ISNUMBER($D$6),D314*$D$6,#REF!*D314)","v":0}]
[null,304,null,null,{"$f":"IF(ISNUMBER($D$6),D315*$D$6,#REF!*D315)","v":0}]
[null,305,null,null,{"$f":"IF(ISNUMBER($D$6),D316*$D$6,#REF!*D316)","v":0}]
[null,306,null,null,{"$f":"IF(ISNUMBER($D$6),D317*$D$6,#REF!*D317)","v":0}]
[null,307,null,null,{"$f":"IF(ISNUMBER($D$6),D318*$D$6,#REF!*D318)","v":0}]
[null,308,null,null,{"$f":"IF(ISNUMBER($D$6),D319*$D$6,#REF!*D319)","v":0}]
[null,309,null,null,{"$f":"IF(ISNUMBER($D$6),D320*$D$6,#REF!*D320)","v":0}]
[null,310,null,null,{"$f":"IF(ISNUMBER($D$6),D321*$D$6,#REF!*D321)","v":0}]
[null,311,null,null,{"$f":"IF(ISNUMBER($D$6),D322*$D$6,#REF!*D322)","v":0}]
[null,312,null,null,{"$f":"IF(ISNUMBER($D$6),D323*$D$6,#REF!*D323)","v":0}]
[null,313,null,null,{"$f":"IF(ISNUMBER($D$6),D324*$D$6,#REF!*D324)","v":0}]
[null,314,null,null,{"$f":"IF(ISNUMBER($D$6),D325*$D$6,#REF!*D325)","v":0}]
[null,315,null,null,{"$f":"IF(ISNUMBER($D$6),D326*$D$6,#REF!*D326)","v":0}]
[null,316,null,null,{"$f":"IF(ISNUMBER($D$6),D327*$D$6,#REF!*D327)","v":0}]
[null,317,null,null,{"$f":"IF(ISNUMBER($D$6),D328*$D$6,#REF!*D328)","v":0}]
[null,318,null,null,{"$f":"IF(ISNUMBER($D$6),D329*$D$6,#REF!*D329)","v":0}]
[null,319,null,null,{"$f":"IF(ISNUMBER($D$6),D330*$D$6,#REF!*D330)","v":0}]
[null,320,null,null,{"$f":"IF(ISNUMBER($D$6),D331*$D$6,#REF!*D331)","v":0}]
[null,321,null,null,{"$f":"IF(ISNUMBER($D$6),D332*$D$6,#REF!*D332)","v":0}]
[null,322,null,null,{"$f":"IF(ISNUMBER($D$6),D333*$D$6,#REF!*D333)","v":0}]
[null,{"$f":"+B333+1","v":323},null,null,{"$f":"IF(ISNUMBER($D$6),D334*$D$6,#REF!*D334)","v":0}]
[null,324,null,null,{"$f":"IF(ISNUMBER($D$6),D335*$D$6,#REF!*D335)","v":0}]
[null,325,null,null,{"$f":"IF(ISNUMBER($D$6),D336*$D$6,#REF!*D336)","v":0}]
[null,326,null,null,{"$f":"IF(ISNUMBER($D$6),D337*$D$6,#REF!*D337)","v":0}]
[null,327,null,null,{"$f":"IF(ISNUMBER($D$6),D338*$D$6,#REF!*D338)","v":0}]
[null,328,null,null,{"$f":"IF(ISNUMBER($D$6),D339*$D$6,#REF!*D339)","v":0}]
[null,329,null,null,{"$f":"IF(ISNUMBER($D$6),D340*$D$6,#REF!*D340)","v":0}]
[null,330,null,null,{"$f":"IF(ISNUMBER($D$6),D341*$D$6,#REF!*D341)","v":0}]
[null,331,null,null,{"$f":"IF(ISNUMBER($D$6),D342*$D$6,#REF!*D342)","v":0}]
[null,332,null,null,{"$f":"IF(ISNUMBER($D$6),D343*$D$6,#REF!*D343)","v":0}]
[null,333,null,null,{"$f":"IF(ISNUMBER($D$6),D344*$D$6,#REF!*D344)","v":0}]
[null,334,null,null,{"$f":"IF(ISNUMBER($D$6),D345*$D$6,#REF!*D345)","v":0}]
[null,335,null,null,{"$f":"IF(ISNUMBER($D$6),D346*$D$6,#REF!*D346)","v":0}]
[null,336,null,null,{"$f":"IF(ISNUMBER($D$6),D347*$D$6,#REF!*D347)","v":0}]
[null,337,null,null,{"$f":"IF(ISNUMBER($D$6),D348*$D$6,#REF!*D348)","v":0}]
[null,338,null,null,{"$f":"IF(ISNUMBER($D$6),D349*$D$6,#REF!*D349)","v":0}]
[null,339,null,null,{"$f":"IF(ISNUMBER($D$6),D350*$D$6,#REF!*D350)","v":0}]
[null,340,null,null,{"$f":"IF(ISNUMBER($D$6),D351*$D$6,#REF!*D351)","v":0}]
[null,341,null,null,{"$f":"IF(ISNUMBER($D$6),D352*$D$6,#REF!*D352)","v":0}]
[null,342,null,null,{"$f":"IF(ISNUMBER($D$6),D353*$D$6,#REF!*D353)","v":0}]
[null,343,null,null,{"$f":"IF(ISNUMBER($D$6),D354*$D$6,#REF!*D354)","v":0}]
[null,344,null,null,{"$f":"IF(ISNUMBER($D$6),D355*$D$6,#REF!*D355)","v":0}]
[null,345,null,null,{"$f":"IF(ISNUMBER($D$6),D356*$D$6,#REF!*D356)","v":0}]
[null,346,null,null,{"$f":"IF(ISNUMBER($D$6),D357*$D$6,#REF!*D357)","v":0}]
[null,347,null,null,{"$f":"IF(ISNUMBER($D$6),D358*$D$6,#REF!*D358)","v":0}]
[null,348,null,null,{"$f":"IF(ISNUMBER($D$6),D359*$D$6,#REF!*D359)","v":0}]
[null,349,null,null,{"$f":"IF(ISNUMBER($D$6),D360*$D$6,#REF!*D360)","v":0}]
[null,350,null,null,{"$f":"IF(ISNUMBER($D$6),D361*$D$6,#REF!*D361)","v":0}]
[null,351,null,null,{"$f":"IF(ISNUMBER($D$6),D362*$D$6,#REF!*D362)","v":0}]
[null,352,null,null,{"$f":"IF(ISNUMBER($D$6),D363*$D$6,#REF!*D363)","v":0}]
[null,353,null,null,{"$f":"IF(ISNUMBER($D$6),D364*$D$6,#REF!*D364)","v":0}]
[null,354,null,null,{"$f":"IF(ISNUMBER($D$6),D365*$D$6,#REF!*D365)","v":0}]
[null,355,null,null,{"$f":"IF(ISNUMBER($D$6),D366*$D$6,#REF!*D366)","v":0}]
[null,356,null,null,{"$f":"IF(ISNUMBER($D$6),D367*$D$6,#REF!*D367)","v":0}]
[null,357,null,null,{"$f":"IF(ISNUMBER($D$6),D368*$D$6,#REF!*D368)","v":0}]
[null,358,null,null,{"$f":"IF(ISNUMBER($D$6),D369*$D$6,#REF!*D369)","v":0}]
[null,359,null,null,{"$f":"IF(ISNUMBER($D$6),D370*$D$6,#REF!*D370)","v":0}]
[null,360,null,null,{"$f":"IF(ISNUMBER($D$6),D371*$D$6,#REF!*D371)","v":0}]
[null,361,null,null,{"$f":"IF(ISNUMBER($D$6),D372*$D$6,#REF!*D372)","v":0}]
[null,362,null,null,{"$f":"IF(ISNUMBER($D$6),D373*$D$6,#REF!*D373)","v":0}]
[null,363,null,null,{"$f":"IF(ISNUMBER($D$6),D374*$D$6,#REF!*D374)","v":0}]
[null,364,null,null,{"$f":"IF(ISNUMBER($D$6),D375*$D$6,#REF!*D375)","v":0}]
[null,365,null,null,{"$f":"IF(ISNUMBER($D$6),D376*$D$6,#REF!*D376)","v":0}]
[null,366,null,null,{"$f":"IF(ISNUMBER($D$6),D377*$D$6,#REF!*D377)","v":0}]
[null,367,null,null,{"$f":"IF(ISNUMBER($D$6),D378*$D$6,#REF!*D378)","v":0}]
[null,368,null,null,{"$f":"IF(ISNUMBER($D$6),D379*$D$6,#REF!*D379)","v":0}]
[null,369,null,null,{"$f":"IF(ISNUMBER($D$6),D380*$D$6,#REF!*D380)","v":0}]
[null,370,null,null,{"$f":"IF(ISNUMBER($D$6),D381*$D$6,#REF!*D381)","v":0}]
[null,371,null,null,{"$f":"IF(ISNUMBER($D$6),D382*$D$6,#REF!*D382)","v":0}]
[null,372,null,null,{"$f":"IF(ISNUMBER($D$6),D383*$D$6,#REF!*D383)","v":0}]
[null,373,null,null,{"$f":"IF(ISNUMBER($D$6),D384*$D$6,#REF!*D384)","v":0}]
[null,374,null,null,{"$f":"IF(ISNUMBER($D$6),D385*$D$6,#REF!*D385)","v":0}]
[null,375,null,null,{"$f":"IF(ISNUMBER($D$6),D386*$D$6,#REF!*D386)","v":0}]
[null,376,null,null,{"$f":"IF(ISNUMBER($D$6),D387*$D$6,#REF!*D387)","v":0}]
[null,377,null,null,{"$f":"IF(ISNUMBER($D$6),D388*$D$6,#REF!*D388)","v":0}]
[null,378,null,null,{"$f":"IF(ISNUMBER($D$6),D389*$D$6,#REF!*D389)","v":0}]
[null,379,null,null,{"$f":"IF(ISNUMBER($D$6),D390*$D$6,#REF!*D390)","v":0}]
[null,380,null,null,{"$f":"IF(ISNUMBER($D$6),D391*$D$6,#REF!*D391)","v":0}]
[null,381,null,null,{"$f":"IF(ISNUMBER($D$6),D392*$D$6,#REF!*D392)","v":0}]
[null,382,null,null,{"$f":"IF(ISNUMBER($D$6),D393*$D$6,#REF!*D393)","v":0}]
[null,383,null,null,{"$f":"IF(ISNUMBER($D$6),D394*$D$6,#REF!*D394)","v":0}]
[null,384,null,null,{"$f":"IF(ISNUMBER($D$6),D395*$D$6,#REF!*D395)","v":0}]
[null,385,null,null,{"$f":"IF(ISNUMBER($D$6),D396*$D$6,#REF!*D396)","v":0}]
[null,386,null,null,{"$f":"IF(ISNUMBER($D$6),D397*$D$6,#REF!*D397)","v":0}]
[null,{"$f":"+B397+1","v":387},null,null,{"$f":"IF(ISNUMBER($D$6),D398*$D$6,#REF!*D398)","v":0}]
[null,388,null,null,{"$f":"IF(ISNUMBER($D$6),D399*$D$6,#REF!*D399)","v":0}]
[null,389,null,null,{"$f":"IF(ISNUMBER($D$6),D400*$D$6,#REF!*D400)","v":0}]
[null,390,null,null,{"$f":"IF(ISNUMBER($D$6),D401*$D$6,#REF!*D401)","v":0}]
[null,391,null,null,{"$f":"IF(ISNUMBER($D$6),D402*$D$6,#REF!*D402)","v":0}]
[null,392,null,null,{"$f":"IF(ISNUMBER($D$6),D403*$D$6,#REF!*D403)","v":0}]
[null,393,null,null,{"$f":"IF(ISNUMBER($D$6),D404*$D$6,#REF!*D404)","v":0}]
[null,394,null,null,{"$f":"IF(ISNUMBER($D$6),D405*$D$6,#REF!*D405)","v":0}]
[null,395,null,null,{"$f":"IF(ISNUMBER($D$6),D406*$D$6,#REF!*D406)","v":0}]
[null,396,null,null,{"$f":"IF(ISNUMBER($D$6),D407*$D$6,#REF!*D407)","v":0}]
[null,397,null,null,{"$f":"IF(ISNUMBER($D$6),D408*$D$6,#REF!*D408)","v":0}]
[null,398,null,null,{"$f":"IF(ISNUMBER($D$6),D409*$D$6,#REF!*D409)","v":0}]
[null,399,null,null,{"$f":"IF(ISNUMBER($D$6),D410*$D$6,#REF!*D410)","v":0}]
[null,400,null,null,{"$f":"IF(ISNUMBER($D$6),D411*$D$6,#REF!*D411)","v":0}]
[null,401,null,null,{"$f":"IF(ISNUMBER($D$6),D412*$D$6,#REF!*D412)","v":0}]
[null,402,null,null,{"$f":"IF(ISNUMBER($D$6),D413*$D$6,#REF!*D413)","v":0}]
[null,403,null,null,{"$f":"IF(ISNUMBER($D$6),D414*$D$6,#REF!*D414)","v":0}]
[null,404,null,null,{"$f":"IF(ISNUMBER($D$6),D415*$D$6,#REF!*D415)","v":0}]
[null,405,null,null,{"$f":"IF(ISNUMBER($D$6),D416*$D$6,#REF!*D416)","v":0}]
[null,406,null,null,{"$f":"IF(ISNUMBER($D$6),D417*$D$6,#REF!*D417)","v":0}]
[null,407,null,null,{"$f":"IF(ISNUMBER($D$6),D418*$D$6,#REF!*D418)","v":0}]
[null,408,null,null,{"$f":"IF(ISNUMBER($D$6),D419*$D$6,#REF!*D419)","v":0}]
[null,409,null,null,{"$f":"IF(ISNUMBER($D$6),D420*$D$6,#REF!*D420)","v":0}]
[null,410,null,null,{"$f":"IF(ISNUMBER($D$6),D421*$D$6,#REF!*D421)","v":0}]
[null,411,null,null,{"$f":"IF(ISNUMBER($D$6),D422*$D$6,#REF!*D422)","v":0}]
[null,412,null,null,{"$f":"IF(ISNUMBER($D$6),D423*$D$6,#REF!*D423)","v":0}]
[null,413,null,null,{"$f":"IF(ISNUMBER($D$6),D424*$D$6,#REF!*D424)","v":0}]
[null,414,null,null,{"$f":"IF(ISNUMBER($D$6),D425*$D$6,#REF!*D425)","v":0}]
[null,415,null,null,{"$f":"IF(ISNUMBER($D$6),D426*$D$6,#REF!*D426)","v":0}]
[null,416,null,null,{"$f":"IF(ISNUMBER($D$6),D427*$D$6,#REF!*D427)","v":0}]
[null,417,null,null,{"$f":"IF(ISNUMBER($D$6),D428*$D$6,#REF!*D428)","v":0}]
[null,418,null,null,{"$f":"IF(ISNUMBER($D$6),D429*$D$6,#REF!*D429)","v":0}]
[null,419,null,null,{"$f":"IF(ISNUMBER($D$6),D430*$D$6,#REF!*D430)","v":0}]
[null,420,null,null,{"$f":"IF(ISNUMBER($D$6),D431*$D$6,#REF!*D431)","v":0}]
[null,421,null,null,{"$f":"IF(ISNUMBER($D$6),D432*$D$6,#REF!*D432)","v":0}]
[null,422,null,null,{"$f":"IF(ISNUMBER($D$6),D433*$D$6,#REF!*D433)","v":0}]
[null,423,null,null,{"$f":"IF(ISNUMBER($D$6),D434*$D$6,#REF!*D434)","v":0}]
[null,424,null,null,{"$f":"IF(ISNUMBER($D$6),D435*$D$6,#REF!*D435)","v":0}]
[null,425,null,null,{"$f":"IF(ISNUMBER($D$6),D436*$D$6,#REF!*D436)","v":0}]
[null,426,null,null,{"$f":"IF(ISNUMBER($D$6),D437*$D$6,#REF!*D437)","v":0}]
[null,427,null,null,{"$f":"IF(ISNUMBER($D$6),D438*$D$6,#REF!*D438)","v":0}]
[null,428,null,null,{"$f":"IF(ISNUMBER($D$6),D439*$D$6,#REF!*D439)","v":0}]
[null,429,null,null,{"$f":"IF(ISNUMBER($D$6),D440*$D$6,#REF!*D440)","v":0}]
[null,430,null,null,{"$f":"IF(ISNUMBER($D$6),D441*$D$6,#REF!*D441)","v":0}]
[null,431,null,null,{"$f":"IF(ISNUMBER($D$6),D442*$D$6,#REF!*D442)","v":0}]
[null,432,null,null,{"$f":"IF(ISNUMBER($D$6),D443*$D$6,#REF!*D443)","v":0}]
[null,433,null,null,{"$f":"IF(ISNUMBER($D$6),D444*$D$6,#REF!*D444)","v":0}]
[null,434,null,null,{"$f":"IF(ISNUMBER($D$6),D445*$D$6,#REF!*D445)","v":0}]
[null,435,null,null,{"$f":"IF(ISNUMBER($D$6),D446*$D$6,#REF!*D446)","v":0}]
[null,436,null,null,{"$f":"IF(ISNUMBER($D$6),D447*$D$6,#REF!*D447)","v":0}]
[null,437,null,null,{"$f":"IF(ISNUMBER($D$6),D448*$D$6,#REF!*D448)","v":0}]
[null,438,null,null,{"$f":"IF(ISNUMBER($D$6),D449*$D$6,#REF!*D449)","v":0}]
[null,439,null,null,{"$f":"IF(ISNUMBER($D$6),D450*$D$6,#REF!*D450)","v":0}]
[null,440,null,null,{"$f":"IF(ISNUMBER($D$6),D451*$D$6,#REF!*D451)","v":0}]
[null,441,null,null,{"$f":"IF(ISNUMBER($D$6),D452*$D$6,#REF!*D452)","v":0}]
[null,442,null,null,{"$f":"IF(ISNUMBER($D$6),D453*$D$6,#REF!*D453)","v":0}]
[null,443,null,null,{"$f":"IF(ISNUMBER($D$6),D454*$D$6,#REF!*D454)","v":0}]
[null,444,null,null,{"$f":"IF(ISNUMBER($D$6),D455*$D$6,#REF!*D455)","v":0}]
[null,445,null,null,{"$f":"IF(ISNUMBER($D$6),D456*$D$6,#REF!*D456)","v":0}]
[null,446,null,null,{"$f":"IF(ISNUMBER($D$6),D457*$D$6,#REF!*D457)","v":0}]
[null,447,null,null,{"$f":"IF(ISNUMBER($D$6),D458*$D$6,#REF!*D458)","v":0}]
[null,448,null,null,{"$f":"IF(ISNUMBER($D$6),D459*$D$6,#REF!*D459)","v":0}]
[null,449,null,null,{"$f":"IF(ISNUMBER($D$6),D460*$D$6,#REF!*D460)","v":0}]
[null,450,null,null,{"$f":"IF(ISNUMBER($D$6),D461*$D$6,#REF!*D461)","v":0}]
[null,{"$f":"+B461+1","v":451},null,null,{"$f":"IF(ISNUMBER($D$6),D462*$D$6,#REF!*D462)","v":0}]
[null,452,null,null,{"$f":"IF(ISNUMBER($D$6),D463*$D$6,#REF!*D463)","v":0}]
[null,453,null,null,{"$f":"IF(ISNUMBER($D$6),D464*$D$6,#REF!*D464)","v":0}]
[null,454,null,null,{"$f":"IF(ISNUMBER($D$6),D465*$D$6,#REF!*D465)","v":0}]
[null,455,null,null,{"$f":"IF(ISNUMBER($D$6),D466*$D$6,#REF!*D466)","v":0}]
[null,456,null,null,{"$f":"IF(ISNUMBER($D$6),D467*$D$6,#REF!*D467)","v":0}]
[null,457,null,null,{"$f":"IF(ISNUMBER($D$6),D468*$D$6,#REF!*D468)","v":0}]
[null,458,null,null,{"$f":"IF(ISNUMBER($D$6),D469*$D$6,#REF!*D469)","v":0}]
[null,459,null,null,{"$f":"IF(ISNUMBER($D$6),D470*$D$6,#REF!*D470)","v":0}]
[null,460,null,null,{"$f":"IF(ISNUMBER($D$6),D471*$D$6,#REF!*D471)","v":0}]
[null,461,null,null,{"$f":"IF(ISNUMBER($D$6),D472*$D$6,#REF!*D472)","v":0}]
[null,462,null,null,{"$f":"IF(ISNUMBER($D$6),D473*$D$6,#REF!*D473)","v":0}]
[null,463,null,null,{"$f":"IF(ISNUMBER($D$6),D474*$D$6,#REF!*D474)","v":0}]
[null,464,null,null,{"$f":"IF(ISNUMBER($D$6),D475*$D$6,#REF!*D475)","v":0}]
[null,465,null,null,{"$f":"IF(ISNUMBER($D$6),D476*$D$6,#REF!*D476)","v":0}]
[null,466,null,null,{"$f":"IF(ISNUMBER($D$6),D477*$D$6,#REF!*D477)","v":0}]
[null,467,null,null,{"$f":"IF(ISNUMBER($D$6),D478*$D$6,#REF!*D478)","v":0}]
[null,468,null,null,{"$f":"IF(ISNUMBER($D$6),D479*$D$6,#REF!*D479)","v":0}]
[null,469,null,null,{"$f":"IF(ISNUMBER($D$6),D480*$D$6,#REF!*D480)","v":0}]
[null,470,null,null,{"$f":"IF(ISNUMBER($D$6),D481*$D$6,#REF!*D481)","v":0}]
[null,471,null,null,{"$f":"IF(ISNUMBER($D$6),D482*$D$6,#REF!*D482)","v":0}]
[null,472,null,null,{"$f":"IF(ISNUMBER($D$6),D483*$D$6,#REF!*D483)","v":0}]
[null,473,null,null,{"$f":"IF(ISNUMBER($D$6),D484*$D$6,#REF!*D484)","v":0}]
[null,474,null,null,{"$f":"IF(ISNUMBER($D$6),D485*$D$6,#REF!*D485)","v":0}]
[null,475,null,null,{"$f":"IF(ISNUMBER($D$6),D486*$D$6,#REF!*D486)","v":0}]
[null,476,null,null,{"$f":"IF(ISNUMBER($D$6),D487*$D$6,#REF!*D487)","v":0}]
[null,477,null,null,{"$f":"IF(ISNUMBER($D$6),D488*$D$6,#REF!*D488)","v":0}]
[null,478,null,null,{"$f":"IF(ISNUMBER($D$6),D489*$D$6,#REF!*D489)","v":0}]
[null,479,null,null,{"$f":"IF(ISNUMBER($D$6),D490*$D$6,#REF!*D490)","v":0}]
[null,480,null,null,{"$f":"IF(ISNUMBER($D$6),D491*$D$6,#REF!*D491)","v":0}]
[null,481,null,null,{"$f":"IF(ISNUMBER($D$6),D492*$D$6,#REF!*D492)","v":0}]
[null,482,null,null,{"$f":"IF(ISNUMBER($D$6),D493*$D$6,#REF!*D493)","v":0}]
[null,483,null,null,{"$f":"IF(ISNUMBER($D$6),D494*$D$6,#REF!*D494)","v":0}]
[null,484,null,null,{"$f":"IF(ISNUMBER($D$6),D495*$D$6,#REF!*D495)","v":0}]
[null,485,null,null,{"$f":"IF(ISNUMBER($D$6),D496*$D$6,#REF!*D496)","v":0}]
[null,486,null,null,{"$f":"IF(ISNUMBER($D$6),D497*$D$6,#REF!*D497)","v":0}]
[null,487,null,null,{"$f":"IF(ISNUMBER($D$6),D498*$D$6,#REF!*D498)","v":0}]
[null,488,null,null,{"$f":"IF(ISNUMBER($D$6),D499*$D$6,#REF!*D499)","v":0}]
[null,489,null,null,{"$f":"IF(ISNUMBER($D$6),D500*$D$6,#REF!*D500)","v":0}]
[null,490,null,null,{"$f":"IF(ISNUMBER($D$6),D501*$D$6,#REF!*D501)","v":0}]
[null,491,null,null,{"$f":"IF(ISNUMBER($D$6),D502*$D$6,#REF!*D502)","v":0}]
[null,492,null,null,{"$f":"IF(ISNUMBER($D$6),D503*$D$6,#REF!*D503)","v":0}]
[null,493,null,null,{"$f":"IF(ISNUMBER($D$6),D504*$D$6,#REF!*D504)","v":0}]
[null,494,null,null,{"$f":"IF(ISNUMBER($D$6),D505*$D$6,#REF!*D505)","v":0}]
[null,495,null,null,{"$f":"IF(ISNUMBER($D$6),D506*$D$6,#REF!*D506)","v":0}]
[null,496,null,null,{"$f":"IF(ISNUMBER($D$6),D507*$D$6,#REF!*D507)","v":0}]
[null,497,null,null,{"$f":"IF(ISNUMBER($D$6),D508*$D$6,#REF!*D508)","v":0}]
[null,498,null,null,{"$f":"IF(ISNUMBER($D$6),D509*$D$6,#REF!*D509)","v":0}]
[null,499,null,null,{"$f":"IF(ISNUMBER($D$6),D510*$D$6,#REF!*D510)","v":0}]
[null,500,null,null,{"$f":"IF(ISNUMBER($D$6),D511*$D$6,#REF!*D511)","v":0}]
[null,501,null,null,{"$f":"IF(ISNUMBER($D$6),D512*$D$6,#REF!*D512)","v":0}]
[null,502,null,null,{"$f":"IF(ISNUMBER($D$6),D513*$D$6,#REF!*D513)","v":0}]
[null,503,null,null,{"$f":"IF(ISNUMBER($D$6),D514*$D$6,#REF!*D514)","v":0}]
[null,504,null,null,{"$f":"IF(ISNUMBER($D$6),D515*$D$6,#REF!*D515)","v":0}]
[null,505,null,null,{"$f":"IF(ISNUMBER($D$6),D516*$D$6,#REF!*D516)","v":0}]
[null,506,null,null,{"$f":"IF(ISNUMBER($D$6),D517*$D$6,#REF!*D517)","v":0}]
[null,507,null,null,{"$f":"IF(ISNUMBER($D$6),D518*$D$6,#REF!*D518)","v":0}]
[null,508,null,null,{"$f":"IF(ISNUMBER($D$6),D519*$D$6,#REF!*D519)","v":0}]
[null,509,null,null,{"$f":"IF(ISNUMBER($D$6),D520*$D$6,#REF!*D520)","v":0}]
[null,510,null,null,{"$f":"IF(ISNUMBER($D$6),D521*$D$6,#REF!*D521)","v":0}]
[null,511,null,null,{"$f":"IF(ISNUMBER($D$6),D522*$D$6,#REF!*D522)","v":0}]
[null,512,null,null,{"$f":"IF(ISNUMBER($D$6),D523*$D$6,#REF!*D523)","v":0}]
[null,513,null,null,{"$f":"IF(ISNUMBER($D$6),D524*$D$6,#REF!*D524)","v":0}]
[null,514,null,null,{"$f":"IF(ISNUMBER($D$6),D525*$D$6,#REF!*D525)","v":0}]
[null,{"$f":"+B525+1","v":515},null,null,{"$f":"IF(ISNUMBER($D$6),D526*$D$6,#REF!*D526)","v":0}]
[null,516,null,null,{"$f":"IF(ISNUMBER($D$6),D527*$D$6,#REF!*D527)","v":0}]
[null,517,null,null,{"$f":"IF(ISNUMBER($D$6),D528*$D$6,#REF!*D528)","v":0}]
[null,518,null,null,{"$f":"IF(ISNUMBER($D$6),D529*$D$6,#REF!*D529)","v":0}]
[null,519,null,null,{"$f":"IF(ISNUMBER($D$6),D530*$D$6,#REF!*D530)","v":0}]
[null,520,null,null,{"$f":"IF(ISNUMBER($D$6),D531*$D$6,#REF!*D531)","v":0}]
[null,521,null,null,{"$f":"IF(ISNUMBER($D$6),D532*$D$6,#REF!*D532)","v":0}]
[null,522,null,null,{"$f":"IF(ISNUMBER($D$6),D533*$D$6,#REF!*D533)","v":0}]
[null,523,null,null,{"$f":"IF(ISNUMBER($D$6),D534*$D$6,#REF!*D534)","v":0}]
[null,524,null,null,{"$f":"IF(ISNUMBER($D$6),D535*$D$6,#REF!*D535)","v":0}]
[null,525,null,null,{"$f":"IF(ISNUMBER($D$6),D536*$D$6,#REF!*D536)","v":0}]
[null,526,null,null,{"$f":"IF(ISNUMBER($D$6),D537*$D$6,#REF!*D537)","v":0}]
[null,527,null,null,{"$f":"IF(ISNUMBER($D$6),D538*$D$6,#REF!*D538)","v":0}]
[null,528,null,null,{"$f":"IF(ISNUMBER($D$6),D539*$D$6,#REF!*D539)","v":0}]
[null,529,null,null,{"$f":"IF(ISNUMBER($D$6),D540*$D$6,#REF!*D540)","v":0}]
[null,530,null,null,{"$f":"IF(ISNUMBER($D$6),D541*$D$6,#REF!*D541)","v":0}]
[null,531,null,null,{"$f":"IF(ISNUMBER($D$6),D542*$D$6,#REF!*D542)","v":0}]
[null,532,null,null,{"$f":"IF(ISNUMBER($D$6),D543*$D$6,#REF!*D543)","v":0}]
[null,533,null,null,{"$f":"IF(ISNUMBER($D$6),D544*$D$6,#REF!*D544)","v":0}]
[null,534,null,null,{"$f":"IF(ISNUMBER($D$6),D545*$D$6,#REF!*D545)","v":0}]
[null,535,null,null,{"$f":"IF(ISNUMBER($D$6),D546*$D$6,#REF!*D546)","v":0}]
[null,536,null,null,{"$f":"IF(ISNUMBER($D$6),D547*$D$6,#REF!*D547)","v":0}]
[null,537,null,null,{"$f":"IF(ISNUMBER($D$6),D548*$D$6,#REF!*D548)","v":0}]
[null,538,null,null,{"$f":"IF(ISNUMBER($D$6),D549*$D$6,#REF!*D549)","v":0}]
[null,539,null,null,{"$f":"IF(ISNUMBER($D$6),D550*$D$6,#REF!*D550)","v":0}]
[null,540,null,null,{"$f":"IF(ISNUMBER($D$6),D551*$D$6,#REF!*D551)","v":0}]
[null,541,null,null,{"$f":"IF(ISNUMBER($D$6),D552*$D$6,#REF!*D552)","v":0}]
[null,542,null,null,{"$f":"IF(ISNUMBER($D$6),D553*$D$6,#REF!*D553)","v":0}]
[null,543,null,null,{"$f":"IF(ISNUMBER($D$6),D554*$D$6,#REF!*D554)","v":0}]
[null,544,null,null,{"$f":"IF(ISNUMBER($D$6),D555*$D$6,#REF!*D555)","v":0}]
[null,545,null,null,{"$f":"IF(ISNUMBER($D$6),D556*$D$6,#REF!*D556)","v":0}]
[null,546,null,null,{"$f":"IF(ISNUMBER($D$6),D557*$D$6,#REF!*D557)","v":0}]
[null,547,null,null,{"$f":"IF(ISNUMBER($D$6),D558*$D$6,#REF!*D558)","v":0}]
[null,548,null,null,{"$f":"IF(ISNUMBER($D$6),D559*$D$6,#REF!*D559)","v":0}]
[null,549,null,null,{"$f":"IF(ISNUMBER($D$6),D560*$D$6,#REF!*D560)","v":0}]
[null,550,null,null,{"$f":"IF(ISNUMBER($D$6),D561*$D$6,#REF!*D561)","v":0}]
[null,551,null,null,{"$f":"IF(ISNUMBER($D$6),D562*$D$6,#REF!*D562)","v":0}]
[null,552,null,null,{"$f":"IF(ISNUMBER($D$6),D563*$D$6,#REF!*D563)","v":0}]
[null,553,null,null,{"$f":"IF(ISNUMBER($D$6),D564*$D$6,#REF!*D564)","v":0}]
[null,554,null,null,{"$f":"IF(ISNUMBER($D$6),D565*$D$6,#REF!*D565)","v":0}]
[null,555,null,null,{"$f":"IF(ISNUMBER($D$6),D566*$D$6,#REF!*D566)","v":0}]
[null,556,null,null,{"$f":"IF(ISNUMBER($D$6),D567*$D$6,#REF!*D567)","v":0}]
[null,557,null,null,{"$f":"IF(ISNUMBER($D$6),D568*$D$6,#REF!*D568)","v":0}]
[null,558,null,null,{"$f":"IF(ISNUMBER($D$6),D569*$D$6,#REF!*D569)","v":0}]
[null,559,null,null,{"$f":"IF(ISNUMBER($D$6),D570*$D$6,#REF!*D570)","v":0}]
[null,560,null,null,{"$f":"IF(ISNUMBER($D$6),D571*$D$6,#REF!*D571)","v":0}]
[null,561,null,null,{"$f":"IF(ISNUMBER($D$6),D572*$D$6,#REF!*D572)","v":0}]
[null,562,null,null,{"$f":"IF(ISNUMBER($D$6),D573*$D$6,#REF!*D573)","v":0}]
[null,563,null,null,{"$f":"IF(ISNUMBER($D$6),D574*$D$6,#REF!*D574)","v":0}]
[null,564,null,null,{"$f":"IF(ISNUMBER($D$6),D575*$D$6,#REF!*D575)","v":0}]
[null,565,null,null,{"$f":"IF(ISNUMBER($D$6),D576*$D$6,#REF!*D576)","v":0}]
[null,566,null,null,{"$f":"IF(ISNUMBER($D$6),D577*$D$6,#REF!*D577)","v":0}]
[null,567,null,null,{"$f":"IF(ISNUMBER($D$6),D578*$D$6,#REF!*D578)","v":0}]
[null,568,null,null,{"$f":"IF(ISNUMBER($D$6),D579*$D$6,#REF!*D579)","v":0}]
[null,569,null,null,{"$f":"IF(ISNUMBER($D$6),D580*$D$6,#REF!*D580)","v":0}]
[null,570,null,null,{"$f":"IF(ISNUMBER($D$6),D581*$D$6,#REF!*D581)","v":0}]
[null,571,null,null,{"$f":"IF(ISNUMBER($D$6),D582*$D$6,#REF!*D582)","v":0}]
[null,572,null,null,{"$f":"IF(ISNUMBER($D$6),D583*$D$6,#REF!*D583)","v":0}]
[null,573,null,null,{"$f":"IF(ISNUMBER($D$6),D584*$D$6,#REF!*D584)","v":0}]
[null,574,null,null,{"$f":"IF(ISNUMBER($D$6),D585*$D$6,#REF!*D585)","v":0}]
[null,575,null,null,{"$f":"IF(ISNUMBER($D$6),D586*$D$6,#REF!*D586)","v":0}]
[null,576,null,null,{"$f":"IF(ISNUMBER($D$6),D587*$D$6,#REF!*D587)","v":0}]
[null,577,null,null,{"$f":"IF(ISNUMBER($D$6),D588*$D$6,#REF!*D588)","v":0}]
[null,578,null,null,{"$f":"IF(ISNUMBER($D$6),D589*$D$6,#REF!*D589)","v":0}]
[null,{"$f":"+B589+1","v":579},null,null,{"$f":"IF(ISNUMBER($D$6),D590*$D$6,#REF!*D590)","v":0}]
[null,580,null,null,{"$f":"IF(ISNUMBER($D$6),D591*$D$6,#REF!*D591)","v":0}]
[null,581,null,null,{"$f":"IF(ISNUMBER($D$6),D592*$D$6,#REF!*D592)","v":0}]
[null,582,null,null,{"$f":"IF(ISNUMBER($D$6),D593*$D$6,#REF!*D593)","v":0}]
[null,583,null,null,{"$f":"IF(ISNUMBER($D$6),D594*$D$6,#REF!*D594)","v":0}]
[null,584,null,null,{"$f":"IF(ISNUMBER($D$6),D595*$D$6,#REF!*D595)","v":0}]
[null,585,null,null,{"$f":"IF(ISNUMBER($D$6),D596*$D$6,#REF!*D596)","v":0}]
[null,586,null,null,{"$f":"IF(ISNUMBER($D$6),D597*$D$6,#REF!*D597)","v":0}]
[null,587,null,null,{"$f":"IF(ISNUMBER($D$6),D598*$D$6,#REF!*D598)","v":0}]
[null,588,null,null,{"$f":"IF(ISNUMBER($D$6),D599*$D$6,#REF!*D599)","v":0}]
[null,589,null,null,{"$f":"IF(ISNUMBER($D$6),D600*$D$6,#REF!*D600)","v":0}]
[null,590,null,null,{"$f":"IF(ISNUMBER($D$6),D601*$D$6,#REF!*D601)","v":0}]
[null,591,null,null,{"$f":"IF(ISNUMBER($D$6),D602*$D$6,#REF!*D602)","v":0}]
[null,592,null,null,{"$f":"IF(ISNUMBER($D$6),D603*$D$6,#REF!*D603)","v":0}]
[null,593,null,null,{"$f":"IF(ISNUMBER($D$6),D604*$D$6,#REF!*D604)","v":0}]
[null,594,null,null,{"$f":"IF(ISNUMBER($D$6),D605*$D$6,#REF!*D605)","v":0}]
[null,595,null,null,{"$f":"IF(ISNUMBER($D$6),D606*$D$6,#REF!*D606)","v":0}]
[null,596,null,null,{"$f":"IF(ISNUMBER($D$6),D607*$D$6,#REF!*D607)","v":0}]
[null,597,null,null,{"$f":"IF(ISNUMBER($D$6),D608*$D$6,#REF!*D608)","v":0}]
[null,598,null,null,{"$f":"IF(ISNUMBER($D$6),D609*$D$6,#REF!*D609)","v":0}]
[null,599,null,null,{"$f":"IF(ISNUMBER($D$6),D610*$D$6,#REF!*D610)","v":0}]
[null,600,null,null,{"$f":"IF(ISNUMBER($D$6),D611*$D$6,#REF!*D611)","v":0}]
[null,601,null,null,{"$f":"IF(ISNUMBER($D$6),D612*$D$6,#REF!*D612)","v":0}]
[null,602,null,null,{"$f":"IF(ISNUMBER($D$6),D613*$D$6,#REF!*D613)","v":0}]
[null,603,null,null,{"$f":"IF(ISNUMBER($D$6),D614*$D$6,#REF!*D614)","v":0}]
[null,604,null,null,{"$f":"IF(ISNUMBER($D$6),D615*$D$6,#REF!*D615)","v":0}]
[null,605,null,null,{"$f":"IF(ISNUMBER($D$6),D616*$D$6,#REF!*D616)","v":0}]
[null,606,null,null,{"$f":"IF(ISNUMBER($D$6),D617*$D$6,#REF!*D617)","v":0}]
[null,607,null,null,{"$f":"IF(ISNUMBER($D$6),D618*$D$6,#REF!*D618)","v":0}]
[null,608,null,null,{"$f":"IF(ISNUMBER($D$6),D619*$D$6,#REF!*D619)","v":0}]
[null,609,null,null,{"$f":"IF(ISNUMBER($D$6),D620*$D$6,#REF!*D620)","v":0}]
[null,610,null,null,{"$f":"IF(ISNUMBER($D$6),D621*$D$6,#REF!*D621)","v":0}]
[null,611,null,null,{"$f":"IF(ISNUMBER($D$6),D622*$D$6,#REF!*D622)","v":0}]
[null,612,null,null,{"$f":"IF(ISNUMBER($D$6),D623*$D$6,#REF!*D623)","v":0}]
[null,613,null,null,{"$f":"IF(ISNUMBER($D$6),D624*$D$6,#REF!*D624)","v":0}]
[null,614,null,null,{"$f":"IF(ISNUMBER($D$6),D625*$D$6,#REF!*D625)","v":0}]
[null,615,null,null,{"$f":"IF(ISNUMBER($D$6),D626*$D$6,#REF!*D626)","v":0}]
[null,616,null,null,{"$f":"IF(ISNUMBER($D$6),D627*$D$6,#REF!*D627)","v":0}]
[null,617,null,null,{"$f":"IF(ISNUMBER($D$6),D628*$D$6,#REF!*D628)","v":0}]
[null,618,null,null,{"$f":"IF(ISNUMBER($D$6),D629*$D$6,#REF!*D629)","v":0}]
[null,619,null,null,{"$f":"IF(ISNUMBER($D$6),D630*$D$6,#REF!*D630)","v":0}]
[null,620,null,null,{"$f":"IF(ISNUMBER($D$6),D631*$D$6,#REF!*D631)","v":0}]
[null,621,null,null,{"$f":"IF(ISNUMBER($D$6),D632*$D$6,#REF!*D632)","v":0}]
[null,622,null,null,{"$f":"IF(ISNUMBER($D$6),D633*$D$6,#REF!*D633)","v":0}]
[null,623,null,null,{"$f":"IF(ISNUMBER($D$6),D634*$D$6,#REF!*D634)","v":0}]
[null,624,null,null,{"$f":"IF(ISNUMBER($D$6),D635*$D$6,#REF!*D635)","v":0}]
[null,625,null,null,{"$f":"IF(ISNUMBER($D$6),D636*$D$6,#REF!*D636)","v":0}]
[null,626,null,null,{"$f":"IF(ISNUMBER($D$6),D637*$D$6,#REF!*D637)","v":0}]
[null,627,null,null,{"$f":"IF(ISNUMBER($D$6),D638*$D$6,#REF!*D638)","v":0}]
[null,628,null,null,{"$f":"IF(ISNUMBER($D$6),D639*$D$6,#REF!*D639)","v":0}]
[null,629,null,null,{"$f":"IF(ISNUMBER($D$6),D640*$D$6,#REF!*D640)","v":0}]
[null,630,null,null,{"$f":"IF(ISNUMBER($D$6),D641*$D$6,#REF!*D641)","v":0}]
[null,631,null,null,{"$f":"IF(ISNUMBER($D$6),D642*$D$6,#REF!*D642)","v":0}]
[null,632,null,null,{"$f":"IF(ISNUMBER($D$6),D643*$D$6,#REF!*D643)","v":0}]
[null,633,null,null,{"$f":"IF(ISNUMBER($D$6),D644*$D$6,#REF!*D644)","v":0}]
[null,634,null,null,{"$f":"IF(ISNUMBER($D$6),D645*$D$6,#REF!*D645)","v":0}]
[null,635,null,null,{"$f":"IF(ISNUMBER($D$6),D646*$D$6,#REF!*D646)","v":0}]
[null,636,null,null,{"$f":"IF(ISNUMBER($D$6),D647*$D$6,#REF!*D647)","v":0}]
[null,637,null,null,{"$f":"IF(ISNUMBER($D$6),D648*$D$6,#REF!*D648)","v":0}]
[null,638,null,null,{"$f":"IF(ISNUMBER($D$6),D649*$D$6,#REF!*D649)","v":0}]
[null,639,null,null,{"$f":"IF(ISNUMBER($D$6),D650*$D$6,#REF!*D650)","v":0}]
[null,640,null,null,{"$f":"IF(ISNUMBER($D$6),D651*$D$6,#REF!*D651)","v":0}]
[null,641,null,null,{"$f":"IF(ISNUMBER($D$6),D652*$D$6,#REF!*D652)","v":0}]
[null,642,null,null,{"$f":"IF(ISNUMBER($D$6),D653*$D$6,#REF!*D653)","v":0}]
[null,{"$f":"+B653+1","v":643},null,null,{"$f":"IF(ISNUMBER($D$6),D654*$D$6,#REF!*D654)","v":0}]
[null,644,null,null,{"$f":"IF(ISNUMBER($D$6),D655*$D$6,#REF!*D655)","v":0}]
[null,645,null,null,{"$f":"IF(ISNUMBER($D$6),D656*$D$6,#REF!*D656)","v":0}]
[null,646,null,null,{"$f":"IF(ISNUMBER($D$6),D657*$D$6,#REF!*D657)","v":0}]
[null,647,null,null,{"$f":"IF(ISNUMBER($D$6),D658*$D$6,#REF!*D658)","v":0}]
[null,648,null,null,{"$f":"IF(ISNUMBER($D$6),D659*$D$6,#REF!*D659)","v":0}]
[null,649,null,null,{"$f":"IF(ISNUMBER($D$6),D660*$D$6,#REF!*D660)","v":0}]
[null,650,null,null,{"$f":"IF(ISNUMBER($D$6),D661*$D$6,#REF!*D661)","v":0}]
[null,651,null,null,{"$f":"IF(ISNUMBER($D$6),D662*$D$6,#REF!*D662)","v":0}]
[null,652,null,null,{"$f":"IF(ISNUMBER($D$6),D663*$D$6,#REF!*D663)","v":0}]
[null,653,null,null,{"$f":"IF(ISNUMBER($D$6),D664*$D$6,#REF!*D664)","v":0}]
[null,654,null,null,{"$f":"IF(ISNUMBER($D$6),D665*$D$6,#REF!*D665)","v":0}]
[null,655,null,null,{"$f":"IF(ISNUMBER($D$6),D666*$D$6,#REF!*D666)","v":0}]
[null,656,null,null,{"$f":"IF(ISNUMBER($D$6),D667*$D$6,#REF!*D667)","v":0}]
[null,657,null,null,{"$f":"IF(ISNUMBER($D$6),D668*$D$6,#REF!*D668)","v":0}]
[null,658,null,null,{"$f":"IF(ISNUMBER($D$6),D669*$D$6,#REF!*D669)","v":0}]
[null,659,null,null,{"$f":"IF(ISNUMBER($D$6),D670*$D$6,#REF!*D670)","v":0}]
[null,660,null,null,{"$f":"IF(ISNUMBER($D$6),D671*$D$6,#REF!*D671)","v":0}]
[null,661,null,null,{"$f":"IF(ISNUMBER($D$6),D672*$D$6,#REF!*D672)","v":0}]
[null,662,null,null,{"$f":"IF(ISNUMBER($D$6),D673*$D$6,#REF!*D673)","v":0}]
[null,663,null,null,{"$f":"IF(ISNUMBER($D$6),D674*$D$6,#REF!*D674)","v":0}]
[null,664,null,null,{"$f":"IF(ISNUMBER($D$6),D675*$D$6,#REF!*D675)","v":0}]
[null,665,null,null,{"$f":"IF(ISNUMBER($D$6),D676*$D$6,#REF!*D676)","v":0}]
[null,666,null,null,{"$f":"IF(ISNUMBER($D$6),D677*$D$6,#REF!*D677)","v":0}]
[null,667,null,null,{"$f":"IF(ISNUMBER($D$6),D678*$D$6,#REF!*D678)","v":0}]
[null,668,null,null,{"$f":"IF(ISNUMBER($D$6),D679*$D$6,#REF!*D679)","v":0}]
[null,669,null,null,{"$f":"IF(ISNUMBER($D$6),D680*$D$6,#REF!*D680)","v":0}]
[null,670,null,null,{"$f":"IF(ISNUMBER($D$6),D681*$D$6,#REF!*D681)","v":0}]
[null,671,null,null,{"$f":"IF(ISNUMBER($D$6),D682*$D$6,#REF!*D682)","v":0}]
[null,672,null,null,{"$f":"IF(ISNUMBER($D$6),D683*$D$6,#REF!*D683)","v":0}]
[null,673,null,null,{"$f":"IF(ISNUMBER($D$6),D684*$D$6,#REF!*D684)","v":0}]
[null,674,null,null,{"$f":"IF(ISNUMBER($D$6),D685*$D$6,#REF!*D685)","v":0}]
[null,675,null,null,{"$f":"IF(ISNUMBER($D$6),D686*$D$6,#REF!*D686)","v":0}]
[null,676,null,null,{"$f":"IF(ISNUMBER($D$6),D687*$D$6,#REF!*D687)","v":0}]
[null,677,null,null,{"$f":"IF(ISNUMBER($D$6),D688*$D$6,#REF!*D688)","v":0}]
[null,678,null,null,{"$f":"IF(ISNUMBER($D$6),D689*$D$6,#REF!*D689)","v":0}]
[null,679,null,null,{"$f":"IF(ISNUMBER($D$6),D690*$D$6,#REF!*D690)","v":0}]
[null,680,null,null,{"$f":"IF(ISNUMBER($D$6),D691*$D$6,#REF!*D691)","v":0}]
[null,681,null,null,{"$f":"IF(ISNUMBER($D$6),D692*$D$6,#REF!*D692)","v":0}]
[null,682,null,null,{"$f":"IF(ISNUMBER($D$6),D693*$D$6,#REF!*D693)","v":0}]
[null,683,null,null,{"$f":"IF(ISNUMBER($D$6),D694*$D$6,#REF!*D694)","v":0}]
[null,684,null,null,{"$f":"IF(ISNUMBER($D$6),D695*$D$6,#REF!*D695)","v":0}]
[null,685,null,null,{"$f":"IF(ISNUMBER($D$6),D696*$D$6,#REF!*D696)","v":0}]
[null,686,null,null,{"$f":"IF(ISNUMBER($D$6),D697*$D$6,#REF!*D697)","v":0}]
[null,687,null,null,{"$f":"IF(ISNUMBER($D$6),D698*$D$6,#REF!*D698)","v":0}]
[null,688,null,null,{"$f":"IF(ISNUMBER($D$6),D699*$D$6,#REF!*D699)","v":0}]
[null,689,null,null,{"$f":"IF(ISNUMBER($D$6),D700*$D$6,#REF!*D700)","v":0}]
[null,690,null,null,{"$f":"IF(ISNUMBER($D$6),D701*$D$6,#REF!*D701)","v":0}]
[null,691,null,null,{"$f":"IF(ISNUMBER($D$6),D702*$D$6,#REF!*D702)","v":0}]
[null,692,null,null,{"$f":"IF(ISNUMBER($D$6),D703*$D$6,#REF!*D703)","v":0}]
[null,693,null,null,{"$f":"IF(ISNUMBER($D$6),D704*$D$6,#REF!*D704)","v":0}]
[null,694,null,null,{"$f":"IF(ISNUMBER($D$6),D705*$D$6,#REF!*D705)","v":0}]
[null,695,null,null,{"$f":"IF(ISNUMBER($D$6),D706*$D$6,#REF!*D706)","v":0}]
[null,696,null,null,{"$f":"IF(ISNUMBER($D$6),D707*$D$6,#REF!*D707)","v":0}]
[null,697,null,null,{"$f":"IF(ISNUMBER($D$6),D708*$D$6,#REF!*D708)","v":0}]
[null,698,null,null,{"$f":"IF(ISNUMBER($D$6),D709*$D$6,#REF!*D709)","v":0}]
[null,699,null,null,{"$f":"IF(ISNUMBER($D$6),D710*$D$6,#REF!*D710)","v":0}]
[null,700,null,null,{"$f":"IF(ISNUMBER($D$6),D711*$D$6,#REF!*D711)","v":0}]
[null,701,null,null,{"$f":"IF(ISNUMBER($D$6),D712*$D$6,#REF!*D712)","v":0}]
[null,702,null,null,{"$f":"IF(ISNUMBER($D$6),D713*$D$6,#REF!*D713)","v":0}]
[null,703,null,null,{"$f":"IF(ISNUMBER($D$6),D714*$D$6,#REF!*D714)","v":0}]
[null,704,null,null,{"$f":"IF(ISNUMBER($D$6),D715*$D$6,#REF!*D715)","v":0}]
[null,705,null,null,{"$f":"IF(ISNUMBER($D$6),D716*$D$6,#REF!*D716)","v":0}]
[null,706,null,null,{"$f":"IF(ISNUMBER($D$6),D717*$D$6,#REF!*D717)","v":0}]
[null,{"$f":"+B717+1","v":707},null,null,{"$f":"IF(ISNUMBER($D$6),D718*$D$6,#REF!*D718)","v":0}]
[null,708,null,null,{"$f":"IF(ISNUMBER($D$6),D719*$D$6,#REF!*D719)","v":0}]
[null,709,null,null,{"$f":"IF(ISNUMBER($D$6),D720*$D$6,#REF!*D720)","v":0}]
[null,710,null,null,{"$f":"IF(ISNUMBER($D$6),D721*$D$6,#REF!*D721)","v":0}]
[null,711,null,null,{"$f":"IF(ISNUMBER($D$6),D722*$D$6,#REF!*D722)","v":0}]
[null,712,null,null,{"$f":"IF(ISNUMBER($D$6),D723*$D$6,#REF!*D723)","v":0}]
[null,713,null,null,{"$f":"IF(ISNUMBER($D$6),D724*$D$6,#REF!*D724)","v":0}]
[null,714,null,null,{"$f":"IF(ISNUMBER($D$6),D725*$D$6,#REF!*D725)","v":0}]
[null,715,null,null,{"$f":"IF(ISNUMBER($D$6),D726*$D$6,#REF!*D726)","v":0}]
[null,716,null,null,{"$f":"IF(ISNUMBER($D$6),D727*$D$6,#REF!*D727)","v":0}]
[null,717,null,null,{"$f":"IF(ISNUMBER($D$6),D728*$D$6,#REF!*D728)","v":0}]
[null,718,null,null,{"$f":"IF(ISNUMBER($D$6),D729*$D$6,#REF!*D729)","v":0}]
[null,719,null,null,{"$f":"IF(ISNUMBER($D$6),D730*$D$6,#REF!*D730)","v":0}]
[null,720,null,null,{"$f":"IF(ISNUMBER($D$6),D731*$D$6,#REF!*D731)","v":0}]
[null,721,null,null,{"$f":"IF(ISNUMBER($D$6),D732*$D$6,#REF!*D732)","v":0}]
[null,722,null,null,{"$f":"IF(ISNUMBER($D$6),D733*$D$6,#REF!*D733)","v":0}]
[null,723,null,null,{"$f":"IF(ISNUMBER($D$6),D734*$D$6,#REF!*D734)","v":0}]
[null,724,null,null,{"$f":"IF(ISNUMBER($D$6),D735*$D$6,#REF!*D735)","v":0}]
[null,725,null,null,{"$f":"IF(ISNUMBER($D$6),D736*$D$6,#REF!*D736)","v":0}]
[null,726,null,null,{"$f":"IF(ISNUMBER($D$6),D737*$D$6,#REF!*D737)","v":0}]
[null,727,null,null,{"$f":"IF(ISNUMBER($D$6),D738*$D$6,#REF!*D738)","v":0}]
[null,728,null,null,{"$f":"IF(ISNUMBER($D$6),D739*$D$6,#REF!*D739)","v":0}]
[null,729,null,null,{"$f":"IF(ISNUMBER($D$6),D740*$D$6,#REF!*D740)","v":0}]
[null,730,null,null,{"$f":"IF(ISNUMBER($D$6),D741*$D$6,#REF!*D741)","v":0}]
[null,731,null,null,{"$f":"IF(ISNUMBER($D$6),D742*$D$6,#REF!*D742)","v":0}]
[null,732,null,null,{"$f":"IF(ISNUMBER($D$6),D743*$D$6,#REF!*D743)","v":0}]
[null,733,null,null,{"$f":"IF(ISNUMBER($D$6),D744*$D$6,#REF!*D744)","v":0}]
[null,734,null,null,{"$f":"IF(ISNUMBER($D$6),D745*$D$6,#REF!*D745)","v":0}]
[null,735,null,null,{"$f":"IF(ISNUMBER($D$6),D746*$D$6,#REF!*D746)","v":0}]
[null,736,null,null,{"$f":"IF(ISNUMBER($D$6),D747*$D$6,#REF!*D747)","v":0}]
[null,737,null,null,{"$f":"IF(ISNUMBER($D$6),D748*$D$6,#REF!*D748)","v":0}]
[null,738,null,null,{"$f":"IF(ISNUMBER($D$6),D749*$D$6,#REF!*D749)","v":0}]
[null,739,null,null,{"$f":"IF(ISNUMBER($D$6),D750*$D$6,#REF!*D750)","v":0}]
[null,740,null,null,{"$f":"IF(ISNUMBER($D$6),D751*$D$6,#REF!*D751)","v":0}]
[null,741,null,null,{"$f":"IF(ISNUMBER($D$6),D752*$D$6,#REF!*D752)","v":0}]
[null,742,null,null,{"$f":"IF(ISNUMBER($D$6),D753*$D$6,#REF!*D753)","v":0}]
[null,743,null,null,{"$f":"IF(ISNUMBER($D$6),D754*$D$6,#REF!*D754)","v":0}]
[null,744,null,null,{"$f":"IF(ISNUMBER($D$6),D755*$D$6,#REF!*D755)","v":0}]
[null,745,null,null,{"$f":"IF(ISNUMBER($D$6),D756*$D$6,#REF!*D756)","v":0}]
[null,746,null,null,{"$f":"IF(ISNUMBER($D$6),D757*$D$6,#REF!*D757)","v":0}]
[null,747,null,null,{"$f":"IF(ISNUMBER($D$6),D758*$D$6,#REF!*D758)","v":0}]
[null,748,null,null,{"$f":"IF(ISNUMBER($D$6),D759*$D$6,#REF!*D759)","v":0}]
[null,749,null,null,{"$f":"IF(ISNUMBER($D$6),D760*$D$6,#REF!*D760)","v":0}]
[null,750,null,null,{"$f":"IF(ISNUMBER($D$6),D761*$D$6,#REF!*D761)","v":0}]
[null,751,null,null,{"$f":"IF(ISNUMBER($D$6),D762*$D$6,#REF!*D762)","v":0}]
[null,752,null,null,{"$f":"IF(ISNUMBER($D$6),D763*$D$6,#REF!*D763)","v":0}]
[null,753,null,null,{"$f":"IF(ISNUMBER($D$6),D764*$D$6,#REF!*D764)","v":0}]
[null,754,null,null,{"$f":"IF(ISNUMBER($D$6),D765*$D$6,#REF!*D765)","v":0}]
[null,755,null,null,{"$f":"IF(ISNUMBER($D$6),D766*$D$6,#REF!*D766)","v":0}]
[null,756,null,null,{"$f":"IF(ISNUMBER($D$6),D767*$D$6,#REF!*D767)","v":0}]
[null,{"$f":"+B767+1","v":757},null,null,{"$f":"IF(ISNUMBER($D$6),D768*$D$6,#REF!*D768)","v":0}]
[null,{"$f":"+B768+1","v":758},null,null,{"$f":"IF(ISNUMBER($D$6),D769*$D$6,#REF!*D769)","v":0}]
[null,759,null,null,{"$f":"IF(ISNUMBER($D$6),D770*$D$6,#REF!*D770)","v":0}]
[null,760,null,null,{"$f":"IF(ISNUMBER($D$6),D771*$D$6,#REF!*D771)","v":0}]
[null,761,null,null,{"$f":"IF(ISNUMBER($D$6),D772*$D$6,#REF!*D772)","v":0}]
[null,762,null,null,{"$f":"IF(ISNUMBER($D$6),D773*$D$6,#REF!*D773)","v":0}]
[null,763,null,null,{"$f":"IF(ISNUMBER($D$6),D774*$D$6,#REF!*D774)","v":0}]
[null,764,null,null,{"$f":"IF(ISNUMBER($D$6),D775*$D$6,#REF!*D775)","v":0}]
[null,765,null,null,{"$f":"IF(ISNUMBER($D$6),D776*$D$6,#REF!*D776)","v":0}]
[null,766,null,null,{"$f":"IF(ISNUMBER($D$6),D777*$D$6,#REF!*D777)","v":0}]
[null,767,null,null,{"$f":"IF(ISNUMBER($D$6),D778*$D$6,#REF!*D778)","v":0}]
[null,768,null,null,{"$f":"IF(ISNUMBER($D$6),D779*$D$6,#REF!*D779)","v":0}]
[null,769,null,null,{"$f":"IF(ISNUMBER($D$6),D780*$D$6,#REF!*D780)","v":0}]
[null,770,null,null,{"$f":"IF(ISNUMBER($D$6),D781*$D$6,#REF!*D781)","v":0}]
[null,771,null,null,{"$f":"IF(ISNUMBER($D$6),D782*$D$6,#REF!*D782)","v":0}]
[null,772,null,null,{"$f":"IF(ISNUMBER($D$6),D783*$D$6,#REF!*D783)","v":0}]
[null,773,null,null,{"$f":"IF(ISNUMBER($D$6),D784*$D$6,#REF!*D784)","v":0}]
[null,774,null,null,{"$f":"IF(ISNUMBER($D$6),D785*$D$6,#REF!*D785)","v":0}]
[null,775,null,null,{"$f":"IF(ISNUMBER($D$6),D786*$D$6,#REF!*D786)","v":0}]
[null,{"$f":"+B786+1","v":776},null,null,{"$f":"IF(ISNUMBER($D$6),D787*$D$6,#REF!*D787)","v":0}]
[null,{"$f":"+B787+1","v":777},null,null,{"$f":"IF(ISNUMBER($D$6),D788*$D$6,#REF!*D788)","v":0}]
[null,778,null,null,{"$f":"IF(ISNUMBER($D$6),D789*$D$6,#REF!*D789)","v":0}]
[null,779,null,null,{"$f":"IF(ISNUMBER($D$6),D790*$D$6,#REF!*D790)","v":0}]
[null,780,null,null,{"$f":"IF(ISNUMBER($D$6),D791*$D$6,#REF!*D791)","v":0}]
[null,781,null,null,{"$f":"IF(ISNUMBER($D$6),D792*$D$6,#REF!*D792)","v":0}]
[null,782,null,null,{"$f":"IF(ISNUMBER($D$6),D793*$D$6,#REF!*D793)","v":0}]
[null,783,null,null,{"$f":"IF(ISNUMBER($D$6),D794*$D$6,#REF!*D794)","v":0}]
[null,784,null,null,{"$f":"IF(ISNUMBER($D$6),D795*$D$6,#REF!*D795)","v":0}]
[null,785,null,null,{"$f":"IF(ISNUMBER($D$6),D796*$D$6,#REF!*D796)","v":0}]
[null,786,null,null,{"$f":"IF(ISNUMBER($D$6),D797*$D$6,#REF!*D797)","v":0}]
[null,787,null,null,{"$f":"IF(ISNUMBER($D$6),D798*$D$6,#REF!*D798)","v":0}]
[null,788,null,null,{"$f":"IF(ISNUMBER($D$6),D799*$D$6,#REF!*D799)","v":0}]
[null,789,null,null,{"$f":"IF(ISNUMBER($D$6),D800*$D$6,#REF!*D800)","v":0}]
[null,790,null,null,{"$f":"IF(ISNUMBER($D$6),D801*$D$6,#REF!*D801)","v":0}]
[null,791,null,null,{"$f":"IF(ISNUMBER($D$6),D802*$D$6,#REF!*D802)","v":0}]
[null,792,null,null,{"$f":"IF(ISNUMBER($D$6),D803*$D$6,#REF!*D803)","v":0}]
[null,793,null,null,{"$f":"IF(ISNUMBER($D$6),D804*$D$6,#REF!*D804)","v":0}]
[null,794,null,null,{"$f":"IF(ISNUMBER($D$6),D805*$D$6,#REF!*D805)","v":0}]
[null,795,null,null,{"$f":"IF(ISNUMBER($D$6),D806*$D$6,#REF!*D806)","v":0}]
[null,796,null,null,{"$f":"IF(ISNUMBER($D$6),D807*$D$6,#REF!*D807)","v":0}]
[null,797,null,null,{"$f":"IF(ISNUMBER($D$6),D808*$D$6,#REF!*D808)","v":0}]
[null,798,null,null,{"$f":"IF(ISNUMBER($D$6),D809*$D$6,#REF!*D809)","v":0}]
[null,799,null,null,{"$f":"IF(ISNUMBER($D$6),D810*$D$6,#REF!*D810)","v":0}]
[null,800,null,null,{"$f":"IF(ISNUMBER($D$6),D811*$D$6,#REF!*D811)","v":0}]
[null,801,null,null,{"$f":"IF(ISNUMBER($D$6),D812*$D$6,#REF!*D812)","v":0}]
[null,802,null,null,{"$f":"IF(ISNUMBER($D$6),D813*$D$6,#REF!*D813)","v":0}]
[null,803,null,null,{"$f":"IF(ISNUMBER($D$6),D814*$D$6,#REF!*D814)","v":0}]
[null,804,null,null,{"$f":"IF(ISNUMBER($D$6),D815*$D$6,#REF!*D815)","v":0}]
[null,805,null,null,{"$f":"IF(ISNUMBER($D$6),D816*$D$6,#REF!*D816)","v":0}]
[null,806,null,null,{"$f":"IF(ISNUMBER($D$6),D817*$D$6,#REF!*D817)","v":0}]
[null,807,null,null,{"$f":"IF(ISNUMBER($D$6),D818*$D$6,#REF!*D818)","v":0}]
[null,808,null,null,{"$f":"IF(ISNUMBER($D$6),D819*$D$6,#REF!*D819)","v":0}]
[null,809,null,null,{"$f":"IF(ISNUMBER($D$6),D820*$D$6,#REF!*D820)","v":0}]
[null,810,null,null,{"$f":"IF(ISNUMBER($D$6),D821*$D$6,#REF!*D821)","v":0}]
[null,811,null,null,{"$f":"IF(ISNUMBER($D$6),D822*$D$6,#REF!*D822)","v":0}]
[null,812,null,null,{"$f":"IF(ISNUMBER($D$6),D823*$D$6,#REF!*D823)","v":0}]
[null,813,null,null,{"$f":"IF(ISNUMBER($D$6),D824*$D$6,#REF!*D824)","v":0}]
[null,814,null,null,{"$f":"IF(ISNUMBER($D$6),D825*$D$6,#REF!*D825)","v":0}]
[null,815,null,null,{"$f":"IF(ISNUMBER($D$6),D826*$D$6,#REF!*D826)","v":0}]
[null,816,null,null,{"$f":"IF(ISNUMBER($D$6),D827*$D$6,#REF!*D827)","v":0}]
[null,817,null,null,{"$f":"IF(ISNUMBER($D$6),D828*$D$6,#REF!*D828)","v":0}]
[null,818,null,null,{"$f":"IF(ISNUMBER($D$6),D829*$D$6,#REF!*D829)","v":0}]
[null,819,null,null,{"$f":"IF(ISNUMBER($D$6),D830*$D$6,#REF!*D830)","v":0}]
[null,820,null,null,{"$f":"IF(ISNUMBER($D$6),D831*$D$6,#REF!*D831)","v":0}]
[null,821,null,null,{"$f":"IF(ISNUMBER($D$6),D832*$D$6,#REF!*D832)","v":0}]
[null,822,null,null,{"$f":"IF(ISNUMBER($D$6),D833*$D$6,#REF!*D833)","v":0}]
[null,823,null,null,{"$f":"IF(ISNUMBER($D$6),D834*$D$6,#REF!*D834)","v":0}]
[null,824,null,null,{"$f":"IF(ISNUMBER($D$6),D835*$D$6,#REF!*D835)","v":0}]
[null,825,null,null,{"$f":"IF(ISNUMBER($D$6),D836*$D$6,#REF!*D836)","v":0}]
[null,826,null,null,{"$f":"IF(ISNUMBER($D$6),D837*$D$6,#REF!*D837)","v":0}]
[null,827,null,null,{"$f":"IF(ISNUMBER($D$6),D838*$D$6,#REF!*D838)","v":0}]
[null,828,null,null,{"$f":"IF(ISNUMBER($D$6),D839*$D$6,#REF!*D839)","v":0}]
[null,829,null,null,{"$f":"IF(ISNUMBER($D$6),D840*$D$6,#REF!*D840)","v":0}]
[null,830,null,null,{"$f":"IF(ISNUMBER($D$6),D841*$D$6,#REF!*D841)","v":0}]
[null,831,null,null,{"$f":"IF(ISNUMBER($D$6),D842*$D$6,#REF!*D842)","v":0}]
[null,832,null,null,{"$f":"IF(ISNUMBER($D$6),D843*$D$6,#REF!*D843)","v":0}]
[null,833,null,null,{"$f":"IF(ISNUMBER($D$6),D844*$D$6,#REF!*D844)","v":0}]
[null,834,null,null,{"$f":"IF(ISNUMBER($D$6),D845*$D$6,#REF!*D845)","v":0}]
[null,835,null,null,{"$f":"IF(ISNUMBER($D$6),D846*$D$6,#REF!*D846)","v":0}]
[null,836,null,null,{"$f":"IF(ISNUMBER($D$6),D847*$D$6,#REF!*D847)","v":0}]
[null,837,null,null,{"$f":"IF(ISNUMBER($D$6),D848*$D$6,#REF!*D848)","v":0}]
[null,838,null,null,{"$f":"IF(ISNUMBER($D$6),D849*$D$6,#REF!*D849)","v":0}]
[null,839,null,null,{"$f":"IF(ISNUMBER($D$6),D850*$D$6,#REF!*D850)","v":0}]
[null,840,null,null,{"$f":"IF(ISNUMBER($D$6),D851*$D$6,#REF!*D851)","v":0}]
[null,{"$f":"+B851+1","v":841},null,null,{"$f":"IF(ISNUMBER($D$6),D852*$D$6,#REF!*D852)","v":0}]
[null,842,null,null,{"$f":"IF(ISNUMBER($D$6),D853*$D$6,#REF!*D853)","v":0}]
[null,843,null,null,{"$f":"IF(ISNUMBER($D$6),D854*$D$6,#REF!*D854)","v":0}]
[null,844,null,null,{"$f":"IF(ISNUMBER($D$6),D855*$D$6,#REF!*D855)","v":0}]
[null,845,null,null,{"$f":"IF(ISNUMBER($D$6),D856*$D$6,#REF!*D856)","v":0}]
[null,846,null,null,{"$f":"IF(ISNUMBER($D$6),D857*$D$6,#REF!*D857)","v":0}]
[null,847,null,null,{"$f":"IF(ISNUMBER($D$6),D858*$D$6,#REF!*D858)","v":0}]
[null,848,null,null,{"$f":"IF(ISNUMBER($D$6),D859*$D$6,#REF!*D859)","v":0}]
[null,849,null,null,{"$f":"IF(ISNUMBER($D$6),D860*$D$6,#REF!*D860)","v":0}]
[null,850,null,null,{"$f":"IF(ISNUMBER($D$6),D861*$D$6,#REF!*D861)","v":0}]
[null,851,null,null,{"$f":"IF(ISNUMBER($D$6),D862*$D$6,#REF!*D862)","v":0}]
[null,852,null,null,{"$f":"IF(ISNUMBER($D$6),D863*$D$6,#REF!*D863)","v":0}]
[null,853,null,null,{"$f":"IF(ISNUMBER($D$6),D864*$D$6,#REF!*D864)","v":0}]
[null,854,null,null,{"$f":"IF(ISNUMBER($D$6),D865*$D$6,#REF!*D865)","v":0}]
[null,855,null,null,{"$f":"IF(ISNUMBER($D$6),D866*$D$6,#REF!*D866)","v":0}]
[null,856,null,null,{"$f":"IF(ISNUMBER($D$6),D867*$D$6,#REF!*D867)","v":0}]
[null,857,null,null,{"$f":"IF(ISNUMBER($D$6),D868*$D$6,#REF!*D868)","v":0}]
[null,858,null,null,{"$f":"IF(ISNUMBER($D$6),D869*$D$6,#REF!*D869)","v":0}]
[null,859,null,null,{"$f":"IF(ISNUMBER($D$6),D870*$D$6,#REF!*D870)","v":0}]
[null,860,null,null,{"$f":"IF(ISNUMBER($D$6),D871*$D$6,#REF!*D871)","v":0}]
[null,861,null,null,{"$f":"IF(ISNUMBER($D$6),D872*$D$6,#REF!*D872)","v":0}]
[null,862,null,null,{"$f":"IF(ISNUMBER($D$6),D873*$D$6,#REF!*D873)","v":0}]
[null,863,null,null,{"$f":"IF(ISNUMBER($D$6),D874*$D$6,#REF!*D874)","v":0}]
[null,864,null,null,{"$f":"IF(ISNUMBER($D$6),D875*$D$6,#REF!*D875)","v":0}]
[null,865,null,null,{"$f":"IF(ISNUMBER($D$6),D876*$D$6,#REF!*D876)","v":0}]
[null,866,null,null,{"$f":"IF(ISNUMBER($D$6),D877*$D$6,#REF!*D877)","v":0}]
[null,867,null,null,{"$f":"IF(ISNUMBER($D$6),D878*$D$6,#REF!*D878)","v":0}]
[null,868,null,null,{"$f":"IF(ISNUMBER($D$6),D879*$D$6,#REF!*D879)","v":0}]
[null,869,null,null,{"$f":"IF(ISNUMBER($D$6),D880*$D$6,#REF!*D880)","v":0}]
[null,870,null,null,{"$f":"IF(ISNUMBER($D$6),D881*$D$6,#REF!*D881)","v":0}]
[null,871,null,null,{"$f":"IF(ISNUMBER($D$6),D882*$D$6,#REF!*D882)","v":0}]
[null,872,null,null,{"$f":"IF(ISNUMBER($D$6),D883*$D$6,#REF!*D883)","v":0}]
[null,873,null,null,{"$f":"IF(ISNUMBER($D$6),D884*$D$6,#REF!*D884)","v":0}]
[null,874,null,null,{"$f":"IF(ISNUMBER($D$6),D885*$D$6,#REF!*D885)","v":0}]
[null,875,null,null,{"$f":"IF(ISNUMBER($D$6),D886*$D$6,#REF!*D886)","v":0}]
[null,876,null,null,{"$f":"IF(ISNUMBER($D$6),D887*$D$6,#REF!*D887)","v":0}]
[null,877,null,null,{"$f":"IF(ISNUMBER($D$6),D888*$D$6,#REF!*D888)","v":0}]
[null,878,null,null,{"$f":"IF(ISNUMBER($D$6),D889*$D$6,#REF!*D889)","v":0}]
[null,879,null,null,{"$f":"IF(ISNUMBER($D$6),D890*$D$6,#REF!*D890)","v":0}]
[null,880,null,null,{"$f":"IF(ISNUMBER($D$6),D891*$D$6,#REF!*D891)","v":0}]
[null,881,null,null,{"$f":"IF(ISNUMBER($D$6),D892*$D$6,#REF!*D892)","v":0}]
[null,882,null,null,{"$f":"IF(ISNUMBER($D$6),D893*$D$6,#REF!*D893)","v":0}]
[null,883,null,null,{"$f":"IF(ISNUMBER($D$6),D894*$D$6,#REF!*D894)","v":0}]
[null,884,null,null,{"$f":"IF(ISNUMBER($D$6),D895*$D$6,#REF!*D895)","v":0}]
[null,885,null,null,{"$f":"IF(ISNUMBER($D$6),D896*$D$6,#REF!*D896)","v":0}]
[null,886,null,null,{"$f":"IF(ISNUMBER($D$6),D897*$D$6,#REF!*D897)","v":0}]
[null,887,null,null,{"$f":"IF(ISNUMBER($D$6),D898*$D$6,#REF!*D898)","v":0}]
[null,888,null,null,{"$f":"IF(ISNUMBER($D$6),D899*$D$6,#REF!*D899)","v":0}]
[null,889,null,null,{"$f":"IF(ISNUMBER($D$6),D900*$D$6,#REF!*D900)","v":0}]
[null,890,null,null,{"$f":"IF(ISNUMBER($D$6),D901*$D$6,#REF!*D901)","v":0}]
[null,891,null,null,{"$f":"IF(ISNUMBER($D$6),D902*$D$6,#REF!*D902)","v":0}]
[null,892,null,null,{"$f":"IF(ISNUMBER($D$6),D903*$D$6,#REF!*D903)","v":0}]
[null,893,null,null,{"$f":"IF(ISNUMBER($D$6),D904*$D$6,#REF!*D904)","v":0}]
[null,894,null,null,{"$f":"IF(ISNUMBER($D$6),D905*$D$6,#REF!*D905)","v":0}]
[null,895,null,null,{"$f":"IF(ISNUMBER($D$6),D906*$D$6,#REF!*D906)","v":0}]
[null,896,null,null,{"$f":"IF(ISNUMBER($D$6),D907*$D$6,#REF!*D907)","v":0}]
[null,897,null,null,{"$f":"IF(ISNUMBER($D$6),D908*$D$6,#REF!*D908)","v":0}]
[null,898,null,null,{"$f":"IF(ISNUMBER($D$6),D909*$D$6,#REF!*D909)","v":0}]
[null,899,null,null,{"$f":"IF(ISNUMBER($D$6),D910*$D$6,#REF!*D910)","v":0}]
[null,900,null,null,{"$f":"IF(ISNUMBER($D$6),D911*$D$6,#REF!*D911)","v":0}]
[null,901,null,null,{"$f":"IF(ISNUMBER($D$6),D912*$D$6,#REF!*D912)","v":0}]
[null,902,null,null,{"$f":"IF(ISNUMBER($D$6),D913*$D$6,#REF!*D913)","v":0}]
[null,903,null,null,{"$f":"IF(ISNUMBER($D$6),D914*$D$6,#REF!*D914)","v":0}]
[null,904,null,null,{"$f":"IF(ISNUMBER($D$6),D915*$D$6,#REF!*D915)","v":0}]
[null,{"$f":"+B915+1","v":905},null,null,{"$f":"IF(ISNUMBER($D$6),D916*$D$6,#REF!*D916)","v":0}]
[null,906,null,null,{"$f":"IF(ISNUMBER($D$6),D917*$D$6,#REF!*D917)","v":0}]
[null,907,null,null,{"$f":"IF(ISNUMBER($D$6),D918*$D$6,#REF!*D918)","v":0}]
[null,908,null,null,{"$f":"IF(ISNUMBER($D$6),D919*$D$6,#REF!*D919)","v":0}]
[null,909,null,null,{"$f":"IF(ISNUMBER($D$6),D920*$D$6,#REF!*D920)","v":0}]
[null,910,null,null,{"$f":"IF(ISNUMBER($D$6),D921*$D$6,#REF!*D921)","v":0}]
[null,911,null,null,{"$f":"IF(ISNUMBER($D$6),D922*$D$6,#REF!*D922)","v":0}]
[null,912,null,null,{"$f":"IF(ISNUMBER($D$6),D923*$D$6,#REF!*D923)","v":0}]
[null,913,null,null,{"$f":"IF(ISNUMBER($D$6),D924*$D$6,#REF!*D924)","v":0}]
[null,914,null,null,{"$f":"IF(ISNUMBER($D$6),D925*$D$6,#REF!*D925)","v":0}]
[null,915,null,null,{"$f":"IF(ISNUMBER($D$6),D926*$D$6,#REF!*D926)","v":0}]
[null,916,null,null,{"$f":"IF(ISNUMBER($D$6),D927*$D$6,#REF!*D927)","v":0}]
[null,917,null,null,{"$f":"IF(ISNUMBER($D$6),D928*$D$6,#REF!*D928)","v":0}]
[null,918,null,null,{"$f":"IF(ISNUMBER($D$6),D929*$D$6,#REF!*D929)","v":0}]
[null,919,null,null,{"$f":"IF(ISNUMBER($D$6),D930*$D$6,#REF!*D930)","v":0}]
[null,920,null,null,{"$f":"IF(ISNUMBER($D$6),D931*$D$6,#REF!*D931)","v":0}]
[null,921,null,null,{"$f":"IF(ISNUMBER($D$6),D932*$D$6,#REF!*D932)","v":0}]
[null,922,null,null,{"$f":"IF(ISNUMBER($D$6),D933*$D$6,#REF!*D933)","v":0}]
[null,923,null,null,{"$f":"IF(ISNUMBER($D$6),D934*$D$6,#REF!*D934)","v":0}]
[null,924,null,null,{"$f":"IF(ISNUMBER($D$6),D935*$D$6,#REF!*D935)","v":0}]
[null,925,null,null,{"$f":"IF(ISNUMBER($D$6),D936*$D$6,#REF!*D936)","v":0}]
[null,926,null,null,{"$f":"IF(ISNUMBER($D$6),D937*$D$6,#REF!*D937)","v":0}]
[null,927,null,null,{"$f":"IF(ISNUMBER($D$6),D938*$D$6,#REF!*D938)","v":0}]
[null,928,null,null,{"$f":"IF(ISNUMBER($D$6),D939*$D$6,#REF!*D939)","v":0}]
[null,929,null,null,{"$f":"IF(ISNUMBER($D$6),D940*$D$6,#REF!*D940)","v":0}]
[null,930,null,null,{"$f":"IF(ISNUMBER($D$6),D941*$D$6,#REF!*D941)","v":0}]
[null,931,null,null,{"$f":"IF(ISNUMBER($D$6),D942*$D$6,#REF!*D942)","v":0}]
[null,932,null,null,{"$f":"IF(ISNUMBER($D$6),D943*$D$6,#REF!*D943)","v":0}]
[null,933,null,null,{"$f":"IF(ISNUMBER($D$6),D944*$D$6,#REF!*D944)","v":0}]
[null,934,null,null,{"$f":"IF(ISNUMBER($D$6),D945*$D$6,#REF!*D945)","v":0}]
[null,935,null,null,{"$f":"IF(ISNUMBER($D$6),D946*$D$6,#REF!*D946)","v":0}]
[null,936,null,null,{"$f":"IF(ISNUMBER($D$6),D947*$D$6,#REF!*D947)","v":0}]
[null,937,null,null,{"$f":"IF(ISNUMBER($D$6),D948*$D$6,#REF!*D948)","v":0}]
[null,938,null,null,{"$f":"IF(ISNUMBER($D$6),D949*$D$6,#REF!*D949)","v":0}]
[null,939,null,null,{"$f":"IF(ISNUMBER($D$6),D950*$D$6,#REF!*D950)","v":0}]
[null,940,null,null,{"$f":"IF(ISNUMBER($D$6),D951*$D$6,#REF!*D951)","v":0}]
[null,941,null,null,{"$f":"IF(ISNUMBER($D$6),D952*$D$6,#REF!*D952)","v":0}]
[null,942,null,null,{"$f":"IF(ISNUMBER($D$6),D953*$D$6,#REF!*D953)","v":0}]
[null,943,null,null,{"$f":"IF(ISNUMBER($D$6),D954*$D$6,#REF!*D954)","v":0}]
[null,944,null,null,{"$f":"IF(ISNUMBER($D$6),D955*$D$6,#REF!*D955)","v":0}]
[null,945,null,null,{"$f":"IF(ISNUMBER($D$6),D956*$D$6,#REF!*D956)","v":0}]
[null,946,null,null,{"$f":"IF(ISNUMBER($D$6),D957*$D$6,#REF!*D957)","v":0}]
[null,947,null,null,{"$f":"IF(ISNUMBER($D$6),D958*$D$6,#REF!*D958)","v":0}]
[null,948,null,null,{"$f":"IF(ISNUMBER($D$6),D959*$D$6,#REF!*D959)","v":0}]
[null,949,null,null,{"$f":"IF(ISNUMBER($D$6),D960*$D$6,#REF!*D960)","v":0}]
[null,950,null,null,{"$f":"IF(ISNUMBER($D$6),D961*$D$6,#REF!*D961)","v":0}]
[null,951,null,null,{"$f":"IF(ISNUMBER($D$6),D962*$D$6,#REF!*D962)","v":0}]
[null,952,null,null,{"$f":"IF(ISNUMBER($D$6),D963*$D$6,#REF!*D963)","v":0}]
[null,953,null,null,{"$f":"IF(ISNUMBER($D$6),D964*$D$6,#REF!*D964)","v":0}]
[null,954,null,null,{"$f":"IF(ISNUMBER($D$6),D965*$D$6,#REF!*D965)","v":0}]
[null,955,null,null,{"$f":"IF(ISNUMBER($D$6),D966*$D$6,#REF!*D966)","v":0}]
[null,956,null,null,{"$f":"IF(ISNUMBER($D$6),D967*$D$6,#REF!*D967)","v":0}]
[null,957,null,null,{"$f":"IF(ISNUMBER($D$6),D968*$D$6,#REF!*D968)","v":0}]
[null,958,null,null,{"$f":"IF(ISNUMBER($D$6),D969*$D$6,#REF!*D969)","v":0}]
[null,959,null,null,{"$f":"IF(ISNUMBER($D$6),D970*$D$6,#REF!*D970)","v":0}]
[null,960,null,null,{"$f":"IF(ISNUMBER($D$6),D971*$D$6,#REF!*D971)","v":0}]
[null,961,null,null,{"$f":"IF(ISNUMBER($D$6),D972*$D$6,#REF!*D972)","v":0}]
[null,962,null,null,{"$f":"IF(ISNUMBER($D$6),D973*$D$6,#REF!*D973)","v":0}]
[null,963,null,null,{"$f":"IF(ISNUMBER($D$6),D974*$D$6,#REF!*D974)","v":0}]
[null,964,null,null,{"$f":"IF(ISNUMBER($D$6),D975*$D$6,#REF!*D975)","v":0}]
[null,965,null,null,{"$f":"IF(ISNUMBER($D$6),D976*$D$6,#REF!*D976)","v":0}]
[null,966,null,null,{"$f":"IF(ISNUMBER($D$6),D977*$D$6,#REF!*D977)","v":0}]
[null,967,null,null,{"$f":"IF(ISNUMBER($D$6),D978*$D$6,#REF!*D978)","v":0}]
[null,968,null,null,{"$f":"IF(ISNUMBER($D$6),D979*$D$6,#REF!*D979)","v":0}]
[null,{"$f":"+B979+1","v":969},null,null,{"$f":"IF(ISNUMBER($D$6),D980*$D$6,#REF!*D980)","v":0}]
[null,970,null,null,{"$f":"IF(ISNUMBER($D$6),D981*$D$6,#REF!*D981)","v":0}]
[null,971,null,null,{"$f":"IF(ISNUMBER($D$6),D982*$D$6,#REF!*D982)","v":0}]
[null,972,null,null,{"$f":"IF(ISNUMBER($D$6),D983*$D$6,#REF!*D983)","v":0}]
[null,973,null,null,{"$f":"IF(ISNUMBER($D$6),D984*$D$6,#REF!*D984)","v":0}]
[null,974,null,null,{"$f":"IF(ISNUMBER($D$6),D985*$D$6,#REF!*D985)","v":0}]
[null,975,null,null,{"$f":"IF(ISNUMBER($D$6),D986*$D$6,#REF!*D986)","v":0}]
[null,976,null,null,{"$f":"IF(ISNUMBER($D$6),D987*$D$6,#REF!*D987)","v":0}]
[null,977,null,null,{"$f":"IF(ISNUMBER($D$6),D988*$D$6,#REF!*D988)","v":0}]
[null,978,null,null,{"$f":"IF(ISNUMBER($D$6),D989*$D$6,#REF!*D989)","v":0}]
[null,979,null,null,{"$f":"IF(ISNUMBER($D$6),D990*$D$6,#REF!*D990)","v":0}]
[null,980,null,null,{"$f":"IF(ISNUMBER($D$6),D991*$D$6,#REF!*D991)","v":0}]
[null,981,null,null,{"$f":"IF(ISNUMBER($D$6),D992*$D$6,#REF!*D992)","v":0}]
[null,982,null,null,{"$f":"IF(ISNUMBER($D$6),D993*$D$6,#REF!*D993)","v":0}]
[null,983,null,null,{"$f":"IF(ISNUMBER($D$6),D994*$D$6,#REF!*D994)","v":0}]
[null,984,null,null,{"$f":"IF(ISNUMBER($D$6),D995*$D$6,#REF!*D995)","v":0}]
[null,985,null,null,{"$f":"IF(ISNUMBER($D$6),D996*$D$6,#REF!*D996)","v":0}]
[null,986,null,null,{"$f":"IF(ISNUMBER($D$6),D997*$D$6,#REF!*D997)","v":0}]
[null,987,null,null,{"$f":"IF(ISNUMBER($D$6),D998*$D$6,#REF!*D998)","v":0}]
[null,988,null,null,{"$f":"IF(ISNUMBER($D$6),D999*$D$6,#REF!*D999)","v":0}]
[null,989,null,null,{"$f":"IF(ISNUMBER($D$6),D1000*$D$6,#REF!*D1000)","v":0}]
[null,990,null,null,{"$f":"IF(ISNUMBER($D$6),D1001*$D$6,#REF!*D1001)","v":0}]
[null,991,null,null,{"$f":"IF(ISNUMBER($D$6),D1002*$D$6,#REF!*D1002)","v":0}]
[null,992,null,null,{"$f":"IF(ISNUMBER($D$6),D1003*$D$6,#REF!*D1003)","v":0}]
[null,993,null,null,{"$f":"IF(ISNUMBER($D$6),D1004*$D$6,#REF!*D1004)","v":0}]
[null,994,null,null,{"$f":"IF(ISNUMBER($D$6),D1005*$D$6,#REF!*D1005)","v":0}]
[null,995,null,null,{"$f":"IF(ISNUMBER($D$6),D1006*$D$6,#REF!*D1006)","v":0}]
[null,996,null,null,{"$f":"IF(ISNUMBER($D$6),D1007*$D$6,#REF!*D1007)","v":0}]
[null,997,null,null,{"$f":"IF(ISNUMBER($D$6),D1008*$D$6,#REF!*D1008)","v":0}]
[null,998,null,null,{"$f":"IF(ISNUMBER($D$6),D1009*$D$6,#REF!*D1009)","v":0}]
[null,999,null,null,{"$f":"IF(ISNUMBER($D$6),D1010*$D$6,#REF!*D1010)","v":0}]
[null,1000,null,null,{"$f":"IF(ISNUMBER($D$6),D1011*$D$6,#REF!*D1011)","v":0}]

{"sheet":"Pontos de Monitorização4","index":7,"n_rows":1011,"n_cols":5,"rows_kept":1011,"cut":false,"hidden":true,"merged":[[1,1,2,4],[4,1,4,2],[5,1,5,2],[7,1,7,2]]}
[]
[null,"SISTEMAS DE QUANTIFICAÇÃO, MONITORIZAÇÃO CONTÍNUA E GESTÃO DE ENERGIA"]
[]
[]
[null,"Identifique a fonte de energia:",null,{"$f":"+Economias!E49","v":0},"(t)"]
[null,"Fator de conversão:",null,{"$f":"+Economias!E52","v":0},{"$f":"\"tep/\"&$E$5&\"\"","v":"tep/(t)"}]
[]
[null,"Indique o número total de pontos a monitorizar:"]
[]
[]
[null,"número do ponto de monitorização","Identificação do ponto de monitorização",{"$f":"IF(D5=\"Energia elétrica\",\"Utilização anual de \"&$D$5&\" (kWh/ano)\",\"Utilização anual de \"&$D$5&\" (t/ano)\")","v":"Utilização anual de 0 (t/ano)"},"Consumo energético referente ao ano de referência (tep/ano)"]
[null,1,null,null,{"$f":"IF(ISNUMBER($D$6),D12*$D$6,#REF!*D12)","v":0}]
[null,{"$f":"+B12+1","v":2},null,null,{"$f":"IF(ISNUMBER($D$6),D13*$D$6,#REF!*D13)","v":0}]
[null,{"$f":"+B13+1","v":3},null,null,{"$f":"IF(ISNUMBER($D$6),D14*$D$6,#REF!*D14)","v":0}]
[null,4,null,null,{"$f":"IF(ISNUMBER($D$6),D15*$D$6,#REF!*D15)","v":0}]
[null,5,null,null,{"$f":"IF(ISNUMBER($D$6),D16*$D$6,#REF!*D16)","v":0}]
[null,6,null,null,{"$f":"IF(ISNUMBER($D$6),D17*$D$6,#REF!*D17)","v":0}]
[null,7,null,null,{"$f":"IF(ISNUMBER($D$6),D18*$D$6,#REF!*D18)","v":0}]
[null,8,null,null,{"$f":"IF(ISNUMBER($D$6),D19*$D$6,#REF!*D19)","v":0}]
[null,9,null,null,{"$f":"IF(ISNUMBER($D$6),D20*$D$6,#REF!*D20)","v":0}]
[null,10,null,null,{"$f":"IF(ISNUMBER($D$6),D21*$D$6,#REF!*D21)","v":0}]
[null,11,null,null,{"$f":"IF(ISNUMBER($D$6),D22*$D$6,#REF!*D22)","v":0}]
[null,12,null,null,{"$f":"IF(ISNUMBER($D$6),D23*$D$6,#REF!*D23)","v":0}]
[null,13,null,null,{"$f":"IF(ISNUMBER($D$6),D24*$D$6,#REF!*D24)","v":0}]
[null,14,null,null,{"$f":"IF(ISNUMBER($D$6),D25*$D$6,#REF!*D25)","v":0}]
[null,15,null,null,{"$f":"IF(ISNUMBER($D$6),D26*$D$6,#REF!*D26)","v":0}]
[null,16,null,null,{"$f":"IF(ISNUMBER($D$6),D27*$D$6,#REF!*D27)","v":0}]
[null,17,null,null,{"$f":"IF(ISNUMBER($D$6),D28*$D$6,#REF!*D28)","v":0}]
[null,18,null,null,{"$f":"IF(ISNUMBER($D$6),D29*$D$6,#REF!*D29)","v":0}]
[null,19,null,null,{"$f":"IF(ISNUMBER($D$6),D30*$D$6,#REF!*D30)","v":0}]
[null,20,null,null,{"$f":"IF(ISNUMBER($D$6),D31*$D$6,#REF!*D31)","v":0}]
[null,21,null,null,{"$f":"IF(ISNUMBER($D$6),D32*$D$6,#REF!*D32)","v":0}]
[null,22,null,null,{"$f":"IF(ISNUMBER($D$6),D33*$D$6,#REF!*D33)","v":0}]
[null,23,null,null,{"$f":"IF(ISNUMBER($D$6),D34*$D$6,#REF!*D34)","v":0}]
[null,24,null,null,{"$f":"IF(ISNUMBER($D$6),D35*$D$6,#REF!*D35)","v":0}]
[null,25,null,null,{"$f":"IF(ISNUMBER($D$6),D36*$D$6,#REF!*D36)","v":0}]
[null,26,null,null,{"$f":"IF(ISNUMBER($D$6),D37*$D$6,#REF!*D37)","v":0}]
[null,27,null,null,{"$f":"IF(ISNUMBER($D$6),D38*$D$6,#REF!*D38)","v":0}]
[null,28,null,null,{"$f":"IF(ISNUMBER($D$6),D39*$D$6,#REF!*D39)","v":0}]
[null,29,null,null,{"$f":"IF(ISNUMBER($D$6),D40*$D$6,#REF!*D40)","v":0}]
[null,30,null,null,{"$f":"IF(ISNUMBER($D$6),D41*$D$6,#REF!*D41)","v":0}]
[null,31,null,null,{"$f":"IF(ISNUMBER($D$6),D42*$D$6,#REF!*D42)","v":0}]
[null,32,null,null,{"$f":"IF(ISNUMBER($D$6),D43*$D$6,#REF!*D43)","v":0}]
[null,33,null,null,{"$f":"IF(ISNUMBER($D$6),D44*$D$6,#REF!*D44)","v":0}]
[null,34,null,null,{"$f":"IF(ISNUMBER($D$6),D45*$D$6,#REF!*D45)","v":0}]
[null,35,null,null,{"$f":"IF(ISNUMBER($D$6),D46*$D$6,#REF!*D46)","v":0}]
[null,36,null,null,{"$f":"IF(ISNUMBER($D$6),D47*$D$6,#REF!*D47)","v":0}]
[null,37,null,null,{"$f":"IF(ISNUMBER($D$6),D48*$D$6,#REF!*D48)","v":0}]
[null,38,null,null,{"$f":"IF(ISNUMBER($D$6),D49*$D$6,#REF!*D49)","v":0}]
[null,39,null,null,{"$f":"IF(ISNUMBER($D$6),D50*$D$6,#REF!*D50)","v":0}]
[null,40,null,null,{"$f":"IF(ISNUMBER($D$6),D51*$D$6,#REF!*D51)","v":0}]
[null,41,null,null,{"$f":"IF(ISNUMBER($D$6),D52*$D$6,#REF!*D52)","v":0}]
[null,42,null,null,{"$f":"IF(ISNUMBER($D$6),D53*$D$6,#REF!*D53)","v":0}]
[null,43,null,null,{"$f":"IF(ISNUMBER($D$6),D54*$D$6,#REF!*D54)","v":0}]
[null,44,null,null,{"$f":"IF(ISNUMBER($D$6),D55*$D$6,#REF!*D55)","v":0}]
[null,45,null,null,{"$f":"IF(ISNUMBER($D$6),D56*$D$6,#REF!*D56)","v":0}]
[null,46,null,null,{"$f":"IF(ISNUMBER($D$6),D57*$D$6,#REF!*D57)","v":0}]
[null,47,null,null,{"$f":"IF(ISNUMBER($D$6),D58*$D$6,#REF!*D58)","v":0}]
[null,48,null,null,{"$f":"IF(ISNUMBER($D$6),D59*$D$6,#REF!*D59)","v":0}]
[null,49,null,null,{"$f":"IF(ISNUMBER($D$6),D60*$D$6,#REF!*D60)","v":0}]
[null,50,null,null,{"$f":"IF(ISNUMBER($D$6),D61*$D$6,#REF!*D61)","v":0}]
[null,51,null,null,{"$f":"IF(ISNUMBER($D$6),D62*$D$6,#REF!*D62)","v":0}]
[null,52,null,null,{"$f":"IF(ISNUMBER($D$6),D63*$D$6,#REF!*D63)","v":0}]
[null,53,null,null,{"$f":"IF(ISNUMBER($D$6),D64*$D$6,#REF!*D64)","v":0}]
[null,54,null,null,{"$f":"IF(ISNUMBER($D$6),D65*$D$6,#REF!*D65)","v":0}]
[null,55,null,null,{"$f":"IF(ISNUMBER($D$6),D66*$D$6,#REF!*D66)","v":0}]
[null,56,null,null,{"$f":"IF(ISNUMBER($D$6),D67*$D$6,#REF!*D67)","v":0}]
[null,57,null,null,{"$f":"IF(ISNUMBER($D$6),D68*$D$6,#REF!*D68)","v":0}]
[null,58,null,null,{"$f":"IF(ISNUMBER($D$6),D69*$D$6,#REF!*D69)","v":0}]
[null,59,null,null,{"$f":"IF(ISNUMBER($D$6),D70*$D$6,#REF!*D70)","v":0}]
[null,60,null,null,{"$f":"IF(ISNUMBER($D$6),D71*$D$6,#REF!*D71)","v":0}]
[null,61,null,null,{"$f":"IF(ISNUMBER($D$6),D72*$D$6,#REF!*D72)","v":0}]
[null,62,null,null,{"$f":"IF(ISNUMBER($D$6),D73*$D$6,#REF!*D73)","v":0}]
[null,63,null,null,{"$f":"IF(ISNUMBER($D$6),D74*$D$6,#REF!*D74)","v":0}]
[null,64,null,null,{"$f":"IF(ISNUMBER($D$6),D75*$D$6,#REF!*D75)","v":0}]
[null,65,null,null,{"$f":"IF(ISNUMBER($D$6),D76*$D$6,#REF!*D76)","v":0}]
[null,66,null,null,{"$f":"IF(ISNUMBER($D$6),D77*$D$6,#REF!*D77)","v":0}]
[null,{"$f":"+B77+1","v":67},null,null,{"$f":"IF(ISNUMBER($D$6),D78*$D$6,#REF!*D78)","v":0}]
[null,68,null,null,{"$f":"IF(ISNUMBER($D$6),D79*$D$6,#REF!*D79)","v":0}]
[null,69,null,null,{"$f":"IF(ISNUMBER($D$6),D80*$D$6,#REF!*D80)","v":0}]
[null,70,null,null,{"$f":"IF(ISNUMBER($D$6),D81*$D$6,#REF!*D81)","v":0}]
[null,71,null,null,{"$f":"IF(ISNUMBER($D$6),D82*$D$6,#REF!*D82)","v":0}]
[null,72,null,null,{"$f":"IF(ISNUMBER($D$6),D83*$D$6,#REF!*D83)","v":0}]
[null,73,null,null,{"$f":"IF(ISNUMBER($D$6),D84*$D$6,#REF!*D84)","v":0}]
[null,74,null,null,{"$f":"IF(ISNUMBER($D$6),D85*$D$6,#REF!*D85)","v":0}]
[null,75,null,null,{"$f":"IF(ISNUMBER($D$6),D86*$D$6,#REF!*D86)","v":0}]
[null,76,null,null,{"$f":"IF(ISNUMBER($D$6),D87*$D$6,#REF!*D87)","v":0}]
[null,77,null,null,{"$f":"IF(ISNUMBER($D$6),D88*$D$6,#REF!*D88)","v":0}]
[null,78,null,null,{"$f":"IF(ISNUMBER($D$6),D89*$D$6,#REF!*D89)","v":0}]
[null,79,null,null,{"$f":"IF(ISNUMBER($D$6),D90*$D$6,#REF!*D90)","v":0}]
[null,80,null,null,{"$f":"IF(ISNUMBER($D$6),D91*$D$6,#REF!*D91)","v":0}]
[null,81,null,null,{"$f":"IF(ISNUMBER($D$6),D92*$D$6,#REF!*D92)","v":0}]
[null,82,null,null,{"$f":"IF(ISNUMBER($D$6),D93*$D$6,#REF!*D93)","v":0}]
[null,83,null,null,{"$f":"IF(ISNUMBER($D$6),D94*$D$6,#REF!*D94)","v":0}]
[null,84,null,null,{"$f":"IF(ISNUMBER($D$6),D95*$D$6,#REF!*D95)","v":0}]
[null,85,null,null,{"$f":"IF(ISNUMBER($D$6),D96*$D$6,#REF!*D96)","v":0}]
[null,86,null,null,{"$f":"IF(ISNUMBER($D$6),D97*$D$6,#REF!*D97)","v":0}]
[null,87,null,null,{"$f":"IF(ISNUMBER($D$6),D98*$D$6,#REF!*D98)","v":0}]
[null,88,null,null,{"$f":"IF(ISNUMBER($D$6),D99*$D$6,#REF!*D99)","v":0}]
[null,89,null,null,{"$f":"IF(ISNUMBER($D$6),D100*$D$6,#REF!*D100)","v":0}]
[null,90,null,null,{"$f":"IF(ISNUMBER($D$6),D101*$D$6,#REF!*D101)","v":0}]
[null,91,null,null,{"$f":"IF(ISNUMBER($D$6),D102*$D$6,#REF!*D102)","v":0}]
[null,92,null,null,{"$f":"IF(ISNUMBER($D$6),D103*$D$6,#REF!*D103)","v":0}]
[null,93,null,null,{"$f":"IF(ISNUMBER($D$6),D104*$D$6,#REF!*D104)","v":0}]
[null,94,null,null,{"$f":"IF(ISNUMBER($D$6),D105*$D$6,#REF!*D105)","v":0}]
[null,95,null,null,{"$f":"IF(ISNUMBER($D$6),D106*$D$6,#REF!*D106)","v":0}]
[null,96,null,null,{"$f":"IF(ISNUMBER($D$6),D107*$D$6,#REF!*D107)","v":0}]
[null,97,null,null,{"$f":"IF(ISNUMBER($D$6),D108*$D$6,#REF!*D108)","v":0}]
[null,98,null,null,{"$f":"IF(ISNUMBER($D$6),D109*$D$6,#REF!*D109)","v":0}]
[null,99,null,null,{"$f":"IF(ISNUMBER($D$6),D110*$D$6,#REF!*D110)","v":0}]
[null,100,null,null,{"$f":"IF(ISNUMBER($D$6),D111*$D$6,#REF!*D111)","v":0}]
[null,101,null,null,{"$f":"IF(ISNUMBER($D$6),D112*$D$6,#REF!*D112)","v":0}]
[null,102,null,null,{"$f":"IF(ISNUMBER($D$6),D113*$D$6,#REF!*D113)","v":0}]
[null,103,null,null,{"$f":"IF(ISNUMBER($D$6),D114*$D$6,#REF!*D114)","v":0}]
[null,104,null,null,{"$f":"IF(ISNUMBER($D$6),D115*$D$6,#REF!*D115)","v":0}]
[null,105,null,null,{"$f":"IF(ISNUMBER($D$6),D116*$D$6,#REF!*D116)","v":0}]
[null,106,null,null,{"$f":"IF(ISNUMBER($D$6),D117*$D$6,#REF!*D117)","v":0}]
[null,107,null,null,{"$f":"IF(ISNUMBER($D$6),D118*$D$6,#REF!*D118)","v":0}]
[null,108,null,null,{"$f":"IF(ISNUMBER($D$6),D119*$D$6,#REF!*D119)","v":0}]
[null,109,null,null,{"$f":"IF(ISNUMBER($D$6),D120*$D$6,#REF!*D120)","v":0}]
[null,110,null,null,{"$f":"IF(ISNUMBER($D$6),D121*$D$6,#REF!*D121)","v":0}]
[null,111,null,null,{"$f":"IF(ISNUMBER($D$6),D122*$D$6,#REF!*D122)","v":0}]
[null,112,null,null,{"$f":"IF(ISNUMBER($D$6),D123*$D$6,#REF!*D123)","v":0}]
[null,113,null,null,{"$f":"IF(ISNUMBER($D$6),D124*$D$6,#REF!*D124)","v":0}]
[null,114,null,null,{"$f":"IF(ISNUMBER($D$6),D125*$D$6,#REF!*D125)","v":0}]
[null,115,null,null,{"$f":"IF(ISNUMBER($D$6),D126*$D$6,#REF!*D126)","v":0}]
[null,116,null,null,{"$f":"IF(ISNUMBER($D$6),D127*$D$6,#REF!*D127)","v":0}]
[null,117,null,null,{"$f":"IF(ISNUMBER($D$6),D128*$D$6,#REF!*D128)","v":0}]
[null,118,null,null,{"$f":"IF(ISNUMBER($D$6),D129*$D$6,#REF!*D129)","v":0}]
[null,119,null,null,{"$f":"IF(ISNUMBER($D$6),D130*$D$6,#REF!*D130)","v":0}]
[null,120,null,null,{"$f":"IF(ISNUMBER($D$6),D131*$D$6,#REF!*D131)","v":0}]
[null,121,null,null,{"$f":"IF(ISNUMBER($D$6),D132*$D$6,#REF!*D132)","v":0}]
[null,122,null,null,{"$f":"IF(ISNUMBER($D$6),D133*$D$6,#REF!*D133)","v":0}]
[null,123,null,null,{"$f":"IF(ISNUMBER($D$6),D134*$D$6,#REF!*D134)","v":0}]
[null,124,null,null,{"$f":"IF(ISNUMBER($D$6),D135*$D$6,#REF!*D135)","v":0}]
[null,125,null,null,{"$f":"IF(ISNUMBER($D$6),D136*$D$6,#REF!*D136)","v":0}]
[null,126,null,null,{"$f":"IF(ISNUMBER($D$6),D137*$D$6,#REF!*D137)","v":0}]
[null,127,null,null,{"$f":"IF(ISNUMBER($D$6),D138*$D$6,#REF!*D138)","v":0}]
[null,128,null,null,{"$f":"IF(ISNUMBER($D$6),D139*$D$6,#REF!*D139)","v":0}]
[null,129,null,null,{"$f":"IF(ISNUMBER($D$6),D140*$D$6,#REF!*D140)","v":0}]
[null,130,null,null,{"$f":"IF(ISNUMBER($D$6),D141*$D$6,#REF!*D141)","v":0}]
[null,{"$f":"+B141+1","v":131},null,null,{"$f":"IF(ISNUMBER($D$6),D142*$D$6,#REF!*D142)","v":0}]
[null,132,null,null,{"$f":"IF(ISNUMBER($D$6),D143*$D$6,#REF!*D143)","v":0}]
[null,133,null,null,{"$f":"IF(ISNUMBER($D$6),D144*$D$6,#REF!*D144)","v":0}]
[null,134,null,null,{"$f":"IF(ISNUMBER($D$6),D145*$D$6,#REF!*D145)","v":0}]
[null,135,null,null,{"$f":"IF(ISNUMBER($D$6),D146*$D$6,#REF!*D146)","v":0}]
[null,136,null,null,{"$f":"IF(ISNUMBER($D$6),D147*$D$6,#REF!*D147)","v":0}]
[null,137,null,null,{"$f":"IF(ISNUMBER($D$6),D148*$D$6,#REF!*D148)","v":0}]
[null,138,null,null,{"$f":"IF(ISNUMBER($D$6),D149*$D$6,#REF!*D149)","v":0}]
[null,139,null,null,{"$f":"IF(ISNUMBER($D$6),D150*$D$6,#REF!*D150)","v":0}]
[null,140,null,null,{"$f":"IF(ISNUMBER($D$6),D151*$D$6,#REF!*D151)","v":0}]
[null,141,null,null,{"$f":"IF(ISNUMBER($D$6),D152*$D$6,#REF!*D152)","v":0}]
[null,142,null,null,{"$f":"IF(ISNUMBER($D$6),D153*$D$6,#REF!*D153)","v":0}]
[null,143,null,null,{"$f":"IF(ISNUMBER($D$6),D154*$D$6,#REF!*D154)","v":0}]
[null,144,null,null,{"$f":"IF(ISNUMBER($D$6),D155*$D$6,#REF!*D155)","v":0}]
[null,145,null,null,{"$f":"IF(ISNUMBER($D$6),D156*$D$6,#REF!*D156)","v":0}]
[null,146,null,null,{"$f":"IF(ISNUMBER($D$6),D157*$D$6,#REF!*D157)","v":0}]
[null,147,null,null,{"$f":"IF(ISNUMBER($D$6),D158*$D$6,#REF!*D158)","v":0}]
[null,148,null,null,{"$f":"IF(ISNUMBER($D$6),D159*$D$6,#REF!*D159)","v":0}]
[null,149,null,null,{"$f":"IF(ISNUMBER($D$6),D160*$D$6,#REF!*D160)","v":0}]
[null,150,null,null,{"$f":"IF(ISNUMBER($D$6),D161*$D$6,#REF!*D161)","v":0}]
[null,151,null,null,{"$f":"IF(ISNUMBER($D$6),D162*$D$6,#REF!*D162)","v":0}]
[null,152,null,null,{"$f":"IF(ISNUMBER($D$6),D163*$D$6,#REF!*D163)","v":0}]
[null,153,null,null,{"$f":"IF(ISNUMBER($D$6),D164*$D$6,#REF!*D164)","v":0}]
[null,154,null,null,{"$f":"IF(ISNUMBER($D$6),D165*$D$6,#REF!*D165)","v":0}]
[null,155,null,null,{"$f":"IF(ISNUMBER($D$6),D166*$D$6,#REF!*D166)","v":0}]
[null,156,null,null,{"$f":"IF(ISNUMBER($D$6),D167*$D$6,#REF!*D167)","v":0}]
[null,157,null,null,{"$f":"IF(ISNUMBER($D$6),D168*$D$6,#REF!*D168)","v":0}]
[null,158,null,null,{"$f":"IF(ISNUMBER($D$6),D169*$D$6,#REF!*D169)","v":0}]
[null,159,null,null,{"$f":"IF(ISNUMBER($D$6),D170*$D$6,#REF!*D170)","v":0}]
[null,160,null,null,{"$f":"IF(ISNUMBER($D$6),D171*$D$6,#REF!*D171)","v":0}]
[null,161,null,null,{"$f":"IF(ISNUMBER($D$6),D172*$D$6,#REF!*D172)","v":0}]
[null,162,null,null,{"$f":"IF(ISNUMBER($D$6),D173*$D$6,#REF!*D173)","v":0}]
[null,163,null,null,{"$f":"IF(ISNUMBER($D$6),D174*$D$6,#REF!*D174)","v":0}]
[null,164,null,null,{"$f":"IF(ISNUMBER($D$6),D175*$D$6,#REF!*D175)","v":0}]
[null,165,null,null,{"$f":"IF(ISNUMBER($D$6),D176*$D$6,#REF!*D176)","v":0}]
[null,166,null,null,{"$f":"IF(ISNUMBER($D$6),D177*$D$6,#REF!*D177)","v":0}]
[null,167,null,null,{"$f":"IF(ISNUMBER($D$6),D178*$D$6,#REF!*D178)","v":0}]
[null,168,null,null,{"$f":"IF(ISNUMBER($D$6),D179*$D$6,#REF!*D179)","v":0}]
[null,169,null,null,{"$f":"IF(ISNUMBER($D$6),D180*$D$6,#REF!*D180)","v":0}]
[null,170,null,null,{"$f":"IF(ISNUMBER($D$6),D181*$D$6,#REF!*D181)","v":0}]
[null,171,null,null,{"$f":"IF(ISNUMBER($D$6),D182*$D$6,#REF!*D182)","v":0}]
[null,172,null,null,{"$f":"IF(ISNUMBER($D$6),D183*$D$6,#REF!*D183)","v":0}]
[null,173,null,null,{"$f":"IF(ISNUMBER($D$6),D184*$D$6,#REF!*D184)","v":0}]
[null,174,null,null,{"$f":"IF(ISNUMBER($D$6),D185*$D$6,#REF!*D185)","v":0}]
[null,175,null,null,{"$f":"IF(ISNUMBER($D$6),D186*$D$6,#REF!*D186)","v":0}]
[null,176,null,null,{"$f":"IF(ISNUMBER($D$6),D187*$D$6,#REF!*D187)","v":0}]
[null,177,null,null,{"$f":"IF(ISNUMBER($D$6),D188*$D$6,#REF!*D188)","v":0}]
[null,178,null,null,{"$f":"IF(ISNUMBER($D$6),D189*$D$6,#REF!*D189)","v":0}]
[null,179,null,null,{"$f":"IF(ISNUMBER($D$6),D190*$D$6,#REF!*D190)","v":0}]
[null,180,null,null,{"$f":"IF(ISNUMBER($D$6),D191*$D$6,#REF!*D191)","v":0}]
[null,181,null,null,{"$f":"IF(ISNUMBER($D$6),D192*$D$6,#REF!*D192)","v":0}]
[null,182,null,null,{"$f":"IF(ISNUMBER($D$6),D193*$D$6,#REF!*D193)","v":0}]
[null,183,null,null,{"$f":"IF(ISNUMBER($D$6),D194*$D$6,#REF!*D194)","v":0}]
[null,184,null,null,{"$f":"IF(ISNUMBER($D$6),D195*$D$6,#REF!*D195)","v":0}]
[null,185,null,null,{"$f":"IF(ISNUMBER($D$6),D196*$D$6,#REF!*D196)","v":0}]
[null,186,null,null,{"$f":"IF(ISNUMBER($D$6),D197*$D$6,#REF!*D197)","v":0}]
[null,187,null,null,{"$f":"IF(ISNUMBER($D$6),D198*$D$6,#REF!*D198)","v":0}]
[null,188,null,null,{"$f":"IF(ISNUMBER($D$6),D199*$D$6,#REF!*D199)","v":0}]
[null,189,null,null,{"$f":"IF(ISNUMBER($D$6),D200*$D$6,#REF!*D200)","v":0}]
[null,190,null,null,{"$f":"IF(ISNUMBER($D$6),D201*$D$6,#REF!*D201)","v":0}]
[null,191,null,null,{"$f":"IF(ISNUMBER($D$6),D202*$D$6,#REF!*D202)","v":0}]
[null,192,null,null,{"$f":"IF(ISNUMBER($D$6),D203*$D$6,#REF!*D203)","v":0}]
[null,193,null,null,{"$f":"IF(ISNUMBER($D$6),D204*$D$6,#REF!*D204)","v":0}]
[null,194,null,null,{"$f":"IF(ISNUMBER($D$6),D205*$D$6,#REF!*D205)","v":0}]
[null,{"$f":"+B205+1","v":195},null,null,{"$f":"IF(ISNUMBER($D$6),D206*$D$6,#REF!*D206)","v":0}]
[null,196,null,null,{"$f":"IF(ISNUMBER($D$6),D207*$D$6,#REF!*D207)","v":0}]
[null,197,null,null,{"$f":"IF(ISNUMBER($D$6),D208*$D$6,#REF!*D208)","v":0}]
[null,198,null,null,{"$f":"IF(ISNUMBER($D$6),D209*$D$6,#REF!*D209)","v":0}]
[null,199,null,null,{"$f":"IF(ISNUMBER($D$6),D210*$D$6,#REF!*D210)","v":0}]
[null,200,null,null,{"$f":"IF(ISNUMBER($D$6),D211*$D$6,#REF!*D211)","v":0}]
[null,201,null,null,{"$f":"IF(ISNUMBER($D$6),D212*$D$6,#REF!*D212)","v":0}]
[null,202,null,null,{"$f":"IF(ISNUMBER($D$6),D213*$D$6,#REF!*D213)","v":0}]
[null,203,null,null,{"$f":"IF(ISNUMBER($D$6),D214*$D$6,#REF!*D214)","v":0}]
[null,204,null,null,{"$f":"IF(ISNUMBER($D$6),D215*$D$6,#REF!*D215)","v":0}]
[null,205,null,null,{"$f":"IF(ISNUMBER($D$6),D216*$D$6,#REF!*D216)","v":0}]
[null,206,null,null,{"$f":"IF(ISNUMBER($D$6),D217*$D$6,#REF!*D217)","v":0}]
[null,207,null,null,{"$f":"IF(ISNUMBER($D$6),D218*$D$6,#REF!*D218)","v":0}]
[null,208,null,null,{"$f":"IF(ISNUMBER($D$6),D219*$D$6,#REF!*D219)","v":0}]
[null,209,null,null,{"$f":"IF(ISNUMBER($D$6),D220*$D$6,#REF!*D220)","v":0}]
[null,210,null,null,{"$f":"IF(ISNUMBER($D$6),D221*$D$6,#REF!*D221)","v":0}]
[null,211,null,null,{"$f":"IF(ISNUMBER($D$6),D222*$D$6,#REF!*D222)","v":0}]
[null,212,null,null,{"$f":"IF(ISNUMBER($D$6),D223*$D$6,#REF!*D223)","v":0}]
[null,213,null,null,{"$f":"IF(ISNUMBER($D$6),D224*$D$6,#REF!*D224)","v":0}]
[null,214,null,null,{"$f":"IF(ISNUMBER($D$6),D225*$D$6,#REF!*D225)","v":0}]
[null,215,null,null,{"$f":"IF(ISNUMBER($D$6),D226*$D$6,#REF!*D226)","v":0}]
[null,216,null,null,{"$f":"IF(ISNUMBER($D$6),D227*$D$6,#REF!*D227)","v":0}]
[null,217,null,null,{"$f":"IF(ISNUMBER($D$6),D228*$D$6,#REF!*D228)","v":0}]
[null,218,null,null,{"$f":"IF(ISNUMBER($D$6),D229*$D$6,#REF!*D229)","v":0}]
[null,219,null,null,{"$f":"IF(ISNUMBER($D$6),D230*$D$6,#REF!*D230)","v":0}]
[null,220,null,null,{"$f":"IF(ISNUMBER($D$6),D231*$D$6,#REF!*D231)","v":0}]
[null,221,null,null,{"$f":"IF(ISNUMBER($D$6),D232*$D$6,#REF!*D232)","v":0}]
[null,222,null,null,{"$f":"IF(ISNUMBER($D$6),D233*$D$6,#REF!*D233)","v":0}]
[null,223,null,null,{"$f":"IF(ISNUMBER($D$6),D234*$D$6,#REF!*D234)","v":0}]
[null,224,null,null,{"$f":"IF(ISNUMBER($D$6),D235*$D$6,#REF!*D235)","v":0}]
[null,225,null,null,{"$f":"IF(ISNUMBER($D$6),D236*$D$6,#REF!*D236)","v":0}]
[null,226,null,null,{"$f":"IF(ISNUMBER($D$6),D237*$D$6,#REF!*D237)","v":0}]
[null,227,null,null,{"$f":"IF(ISNUMBER($D$6),D238*$D$6,#REF!*D238)","v":0}]
[null,228,null,null,{"$f":"IF(ISNUMBER($D$6),D239*$D$6,#REF!*D239)","v":0}]
[null,229,null,null,{"$f":"IF(ISNUMBER($D$6),D240*$D$6,#REF!*D240)","v":0}]
[null,230,null,null,{"$f":"IF(ISNUMBER($D$6),D241*$D$6,#REF!*D241)","v":0}]
[null,231,null,null,{"$f":"IF(ISNUMBER($D$6),D242*$D$6,#REF!*D242)","v":0}]
[null,232,null,null,{"$f":"IF(ISNUMBER($D$6),D243*$D$6,#REF!*D243)","v":0}]
[null,233,null,null,{"$f":"IF(ISNUMBER($D$6),D244*$D$6,#REF!*D244)","v":0}]
[null,234,null,null,{"$f":"IF(ISNUMBER($D$6),D245*$D$6,#REF!*D245)","v":0}]
[null,235,null,null,{"$f":"IF(ISNUMBER($D$6),D246*$D$6,#REF!*D246)","v":0}]
[null,236,null,null,{"$f":"IF(ISNUMBER($D$6),D247*$D$6,#REF!*D247)","v":0}]
[null,237,null,null,{"$f":"IF(ISNUMBER($D$6),D248*$D$6,#REF!*D248)","v":0}]
[null,238,null,null,{"$f":"IF(ISNUMBER($D$6),D249*$D$6,#REF!*D249)","v":0}]
[null,239,null,null,{"$f":"IF(ISNUMBER($D$6),D250*$D$6,#REF!*D250)","v":0}]
[null,240,null,null,{"$f":"IF(ISNUMBER($D$6),D251*$D$6,#REF!*D251)","v":0}]
[null,241,null,null,{"$f":"IF(ISNUMBER($D$6),D252*$D$6,#REF!*D252)","v":0}]
[null,242,null,null,{"$f":"IF(ISNUMBER($D$6),D253*$D$6,#REF!*D253)","v":0}]
[null,243,null,null,{"$f":"IF(ISNUMBER($D$6),D254*$D$6,#REF!*D254)","v":0}]
[null,244,null,null,{"$f":"IF(ISNUMBER($D$6),D255*$D$6,#REF!*D255)","v":0}]
[null,245,null,null,{"$f":"IF(ISNUMBER($D$6),D256*$D$6,#REF!*D256)","v":0}]
[null,246,null,null,{"$f":"IF(ISNUMBER($D$6),D257*$D$6,#REF!*D257)","v":0}]
[null,247,null,null,{"$f":"IF(ISNUMBER($D$6),D258*$D$6,#REF!*D258)","v":0}]
[null,248,null,null,{"$f":"IF(ISNUMBER($D$6),D259*$D$6,#REF!*D259)","v":0}]
[null,249,null,null,{"$f":"IF(ISNUMBER($D$6),D260*$D$6,#REF!*D260)","v":0}]
[null,250,null,null,{"$f":"IF(ISNUMBER($D$6),D261*$D$6,#REF!*D261)","v":0}]
[null,251,null,null,{"$f":"IF(ISNUMBER($D$6),D262*$D$6,#REF!*D262)","v":0}]
[null,252,null,null,{"$f":"IF(ISNUMBER($D$6),D263*$D$6,#REF!*D263)","v":0}]
[null,253,null,null,{"$f":"IF(ISNUMBER($D$6),D264*$D$6,#REF!*D264)","v":0}]
[null,254,null,null,{"$f":"IF(ISNUMBER($D$6),D265*$D$6,#REF!*D265)","v":0}]
[null,255,null,null,{"$f":"IF(ISNUMBER($D$6),D266*$D$6,#REF!*D266)","v":0}]
[null,256,null,null,{"$f":"IF(ISNUMBER($D$6),D267*$D$6,#REF!*D267)","v":0}]
[null,257,null,null,{"$f":"IF(ISNUMBER($D$6),D268*$D$6,#REF!*D268)","v":0}]
[null,258,null,null,{"$f":"IF(ISNUMBER($D$6),D269*$D$6,#REF!*D269)","v":0}]
[null,{"$f":"+B269+1","v":259},null,null,{"$f":"IF(ISNUMBER($D$6),D270*$D$6,#REF!*D270)","v":0}]
[null,260,null,null,{"$f":"IF(ISNUMBER($D$6),D271*$D$6,#REF!*D271)","v":0}]
[null,261,null,null,{"$f":"IF(ISNUMBER($D$6),D272*$D$6,#REF!*D272)","v":0}]
[null,262,null,null,{"$f":"IF(ISNUMBER($D$6),D273*$D$6,#REF!*D273)","v":0}]
[null,263,null,null,{"$f":"IF(ISNUMBER($D$6),D274*$D$6,#REF!*D274)","v":0}]
[null,264,null,null,{"$f":"IF(ISNUMBER($D$6),D275*$D$6,#REF!*D275)","v":0}]
[null,265,null,null,{"$f":"IF(ISNUMBER($D$6),D276*$D$6,#REF!*D276)","v":0}]
[null,266,null,null,{"$f":"IF(ISNUMBER($D$6),D277*$D$6,#REF!*D277)","v":0}]
[null,267,null,null,{"$f":"IF(ISNUMBER($D$6),D278*$D$6,#REF!*D278)","v":0}]
[null,268,null,null,{"$f":"IF(ISNUMBER($D$6),D279*$D$6,#REF!*D279)","v":0}]
[null,269,null,null,{"$f":"IF(ISNUMBER($D$6),D280*$D$6,#REF!*D280)","v":0}]
[null,270,null,null,{"$f":"IF(ISNUMBER($D$6),D281*$D$6,#REF!*D281)","v":0}]
[null,271,null,null,{"$f":"IF(ISNUMBER($D$6),D282*$D$6,#REF!*D282)","v":0}]
[null,272,null,null,{"$f":"IF(ISNUMBER($D$6),D283*$D$6,#REF!*D283)","v":0}]
[null,273,null,null,{"$f":"IF(ISNUMBER($D$6),D284*$D$6,#REF!*D284)","v":0}]
[null,274,null,null,{"$f":"IF(ISNUMBER($D$6),D285*$D$6,#REF!*D285)","v":0}]
[null,275,null,null,{"$f":"IF(ISNUMBER($D$6),D286*$D$6,#REF!*D286)","v":0}]
[null,276,null,null,{"$f":"IF(ISNUMBER($D$6),D287*$D$6,#REF!*D287)","v":0}]
[null,277,null,null,{"$f":"IF(ISNUMBER($D$6),D288*$D$6,#REF!*D288)","v":0}]
[null,278,null,null,{"$f":"IF(ISNUMBER($D$6),D289*$D$6,#REF!*D289)","v":0}]
[null,279,null,null,{"$f":"IF(ISNUMBER($D$6),D290*$D$6,#REF!*D290)","v":0}]
[null,280,null,null,{"$f":"IF(ISNUMBER($D$6),D291*$D$6,#REF!*D291)","v":0}]
[null,281,null,null,{"$f":"IF(ISNUMBER($D$6),D292*$D$6,#REF!*D292)","v":0}]
[null,282,null,null,{"$f":"IF(ISNUMBER($D$6),D293*$D$6,#REF!*D293)","v":0}]
[null,283,null,null,{"$f":"IF(ISNUMBER($D$6),D294*$D$6,#REF!*D294)","v":0}]
[null,284,null,null,{"$f":"IF(ISNUMBER($D$6),D295*$D$6,#REF!*D295)","v":0}]
[null,285,null,null,{"$f":"IF(ISNUMBER($D$6),D296*$D$6,#REF!*D296)","v":0}]
[null,286,null,null,{"$f":"IF(ISNUMBER($D$6),D297*$D$6,#REF!*D297)","v":0}]
[null,287,null,null,{"$f":"IF(ISNUMBER($D$6),D298*$D$6,#REF!*D298)","v":0}]
[null,288,null,null,{"$f":"IF(ISNUMBER($D$6),D299*$D$6,#REF!*D299)","v":0}]
[null,289,null,null,{"$f":"IF(ISNUMBER($D$6),D300*$D$6,#REF!*D300)","v":0}]
[null,290,null,null,{"$f":"IF(ISNUMBER($D$6),D301*$D$6,#REF!*D301)","v":0}]
[null,291,null,null,{"$f":"IF(ISNUMBER($D$6),D302*$D$6,#REF!*D302)","v":0}]
[null,292,null,null,{"$f":"IF(ISNUMBER($D$6),D303*$D$6,#REF!*D303)","v":0}]
[null,293,null,null,{"$f":"IF(ISNUMBER($D$6),D304*$D$6,#REF!*D304)","v":0}]
[null,294,null,null,{"$f":"IF(ISNUMBER($D$6),D305*$D$6,#REF!*D305)","v":0}]
[null,295,null,null,{"$f":"IF(ISNUMBER($D$6),D306*$D$6,#REF!*D306)","v":0}]
[null,296,null,null,{"$f":"IF(ISNUMBER($D$6),D307*$D$6,#REF!*D307)","v":0}]
[null,297,null,null,{"$f":"IF(ISNUMBER($D$6),D308*$D$6,#REF!*D308)","v":0}]
[null,298,null,null,{"$f":"IF(ISNUMBER($D$6),D309*$D$6,#REF!*D309)","v":0}]
[null,299,null,null,{"$f":"IF(ISNUMBER($D$6),D310*$D$6,#REF!*D310)","v":0}]
[null,300,null,null,{"$f":"IF(ISNUMBER($D$6),D311*$D$6,#REF!*D311)","v":0}]
[null,301,null,null,{"$f":"IF(ISNUMBER($D$6),D312*$D$6,#REF!*D312)","v":0}]
[null,302,null,null,{"$f":"IF(ISNUMBER($D$6),D313*$D$6,#REF!*D313)","v":0}]
[null,303,null,null,{"$f":"IF(ISNUMBER($D$6),D314*$D$6,#REF!*D314)","v":0}]
[null,304,null,null,{"$f":"IF(ISNUMBER($D$6),D315*$D$6,#REF!*D315)","v":0}]
[null,305,null,null,{"$f":"IF(ISNUMBER($D$6),D316*$D$6,#REF!*D316)","v":0}]
[null,306,null,null,{"$f":"IF(ISNUMBER($D$6),D317*$D$6,#REF!*D317)","v":0}]
[null,307,null,null,{"$f":"IF(ISNUMBER($D$6),D318*$D$6,#REF!*D318)","v":0}]
[null,308,null,null,{"$f":"IF(ISNUMBER($D$6),D319*$D$6,#REF!*D319)","v":0}]
[null,309,null,null,{"$f":"IF(ISNUMBER($D$6),D320*$D$6,#REF!*D320)","v":0}]
[null,310,null,null,{"$f":"IF(ISNUMBER($D$6),D321*$D$6,#REF!*D321)","v":0}]
[null,311,null,null,{"$f":"IF(ISNUMBER($D$6),D322*$D$6,#REF!*D322)","v":0}]
[null,312,null,null,{"$f":"IF(ISNUMBER($D$6),D323*$D$6,#REF!*D323)","v":0}]
[null,313,null,null,{"$f":"IF(ISNUMBER($D$6),D324*$D$6,#REF!*D324)","v":0}]
[null,314,null,null,{"$f":"IF(ISNUMBER($D$6),D325*$D$6,#REF!*D325)","v":0}]
[null,315,null,null,{"$f":"IF(ISNUMBER($D$6),D326*$D$6,#REF!*D326)","v":0}]
[null,316,null,null,{"$f":"IF(ISNUMBER($D$6),D327*$D$6,#REF!*D327)","v":0}]
[null,317,null,null,{"$f":"IF(ISNUMBER($D$6),D328*$D$6,#REF!*D328)","v":0}]
[null,318,null,null,{"$f":"IF(ISNUMBER($D$6),D329*$D$6,#REF!*D329)","v":0}]
[null,319,null,null,{"$f":"IF(ISNUMBER($D$6),D330*$D$6,#REF!*D330)","v":0}]
[null,320,null,null,{"$f":"IF(ISNUMBER($D$6),D331*$D$6,#REF!*D331)","v":0}]
[null,321,null,null,{"$f":"IF(ISNUMBER($D$6),D332*$D$6,#REF!*D332)","v":0}]
[null,322,null,null,{"$f":"IF(ISNUMBER($D$6),D333*$D$6,#REF!*D333)","v":0}]
[null,{"$f":"+B333+1","v":323},null,null,{"$f":"IF(ISNUMBER($D$6),D334*$D$6,#REF!*D334)","v":0}]
[null,324,null,null,{"$f":"IF(ISNUMBER($D$6),D335*$D$6,#REF!*D335)","v":0}]
[null,325,null,null,{"$f":"IF(ISNUMBER($D$6),D336*$D$6,#REF!*D336)","v":0}]
[null,326,null,null,{"$f":"IF(ISNUMBER($D$6),D337*$D$6,#REF!*D337)","v":0}]
[null,327,null,null,{"$f":"IF(ISNUMBER($D$6),D338*$D$6,#REF!*D338)","v":0}]
[null,328,null,null,{"$f":"IF(ISNUMBER($D$6),D339*$D$6,#REF!*D339)","v":0}]
[null,329,null,null,{"$f":"IF(ISNUMBER($D$6),D340*$D$6,#REF!*D340)","v":0}]
[null,330,null,null,{"$f":"IF(ISNUMBER($D$6),D341*$D$6,#REF!*D341)","v":0}]
[null,331,null,null,{"$f":"IF(ISNUMBER($D$6),D342*$D$6,#REF!*D342)","v":0}]
[null,332,null,null,{"$f":"IF(ISNUMBER($D$6),D343*$D$6,#REF!*D343)","v":0}]
[null,333,null,null,{"$f":"IF(ISNUMBER($D$6),D344*$D$6,#REF!*D344)","v":0}]
[null,334,null,null,{"$f":"IF(ISNUMBER($D$6),D345*$D$6,#REF!*D345)","v":0}]
[null,335,null,null,{"$f":"IF(ISNUMBER($D$6),D346*$D$6,#REF!*D346)","v":0}]
[null,336,null,null,{"$f":"IF(ISNUMBER($D$6),D347*$D$6,#REF!*D347)","v":0}]
[null,337,null,null,{"$f":"IF(ISNUMBER($D$6),D348*$D$6,#REF!*D348)","v":0}]
[null,338,null,null,{"$f":"IF(ISNUMBER($D$6),D349*$D$6,#REF!*D349)","v":0}]
[null,339,null,null,{"$f":"IF(ISNUMBER($D$6),D350*$D$6,#REF!*D350)","v":0}]
[null,340,null,null,{"$f":"IF(ISNUMBER($D$6),D351*$D$6,#REF!*D351)","v":0}]
[null,341,null,null,{"$f":"IF(ISNUMBER($D$6),D352*$D$6,#REF!*D352)","v":0}]
[null,342,null,null,{"$f":"IF(ISNUMBER($D$6),D353*$D$6,#REF!*D353)","v":0}]
[null,343,null,null,{"$f":"IF(ISNUMBER($D$6),D354*$D$6,#REF!*D354)","v":0}]
[null,344,null,null,{"$f":"IF(ISNUMBER($D$6),D355*$D$6,#REF!*D355)","v":0}]
[null,345,null,null,{"$f":"IF(ISNUMBER($D$6),D356*$D$6,#REF!*D356)","v":0}]
[null,346,null,null,{"$f":"IF(ISNUMBER($D$6),D357*$D$6,#REF!*D357)","v":0}]
[null,347,null,null,{"$f":"IF(ISNUMBER($D$6),D358*$D$6,#REF!*D358)","v":0}]
[null,348,null,null,{"$f":"IF(ISNUMBER($D$6),D359*$D$6,#REF!*D359)","v":0}]
[null,349,null,null,{"$f":"IF(ISNUMBER($D$6),D360*$D$6,#REF!*D360)","v":0}]
[null,350,null,null,{"$f":"IF(ISNUMBER($D$6),D361*$D$6,#REF!*D361)","v":0}]
[null,351,null,null,{"$f":"IF(ISNUMBER($D$6),D362*$D$6,#REF!*D362)","v":0}]
[null,352,null,null,{"$f":"IF(ISNUMBER($D$6),D363*$D$6,#REF!*D363)","v":0}]
[null,353,null,null,{"$f":"IF(ISNUMBER($D$6),D364*$D$6,#REF!*D364)","v":0}]
[null,354,null,null,{"$f":"IF(ISNUMBER($D$6),D365*$D$6,#REF!*D365)","v":0}]
[null,355,null,null,{"$f":"IF(ISNUMBER($D$6),D366*$D$6,#REF!*D366)","v":0}]
[null,356,null,null,{"$f":"IF(ISNUMBER($D$6),D367*$D$6,#REF!*D367)","v":0}]
[null,357,null,null,{"$f":"IF(ISNUMBER($D$6),D368*$D$6,#REF!*D368)","v":0}]
[null,358,null,null,{"$f":"IF(ISNUMBER($D$6),D369*$D$6,#REF!*D369)","v":0}]
[null,359,null,null,{"$f":"IF(ISNUMBER($D$6),D370*$D$6,#REF!*D370)","v":0}]
[null,360,null,null,{"$f":"IF(ISNUMBER($D$6),D371*$D$6,#REF!*D371)","v":0}]
[null,361,null,null,{"$f":"IF(ISNUMBER($D$6),D372*$D$6,#REF!*D372)","v":0}]
[null,362,null,null,{"$f":"IF(ISNUMBER($D$6),D373*$D$6,#REF!*D373)","v":0}]
[null,363,null,null,{"$f":"IF(ISNUMBER($D$6),D374*$D$6,#REF!*D374)","v":0}]
[null,364,null,null,{"$f":"IF(ISNUMBER($D$6),D375*$D$6,#REF!*D375)","v":0}]
[null,365,null,null,{"$f":"IF(ISNUMBER($D$6),D376*$D$6,#REF!*D376)","v":0}]
[null,366,null,null,{"$f":"IF(ISNUMBER($D$6),D377*$D$6,#REF!*D377)","v":0}]
[null,367,null,null,{"$f":"IF(ISNUMBER($D$6),D378*$D$6,#REF!*D378)","v":0}]
[null,368,null,null,{"$f":"IF(ISNUMBER($D$6),D379*$D$6,#REF!*D379)","v":0}]
[null,369,null,null,{"$f":"IF(ISNUMBER($D$6),D380*$D$6,#REF!*D380)","v":0}]
[null,370,null,null,{"$f":"IF(ISNUMBER($D$6),D381*$D$6,#REF!*D381)","v":0}]
[null,371,null,null,{"$f":"IF(ISNUMBER($D$6),D382*$D$6,#REF!*D382)","v":0}]
[null,372,null,null,{"$f":"IF(ISNUMBER($D$6),D383*$D$6,#REF!*D383)","v":0}]
[null,373,null,null,{"$f":"IF(ISNUMBER($D$6),D384*$D$6,#REF!*D384)","v":0}]
[null,374,null,null,{"$f":"IF(ISNUMBER($D$6),D385*$D$6,#REF!*D385)","v":0}]
[null,375,null,null,{"$f":"IF(ISNUMBER($D$6),D386*$D$6,#REF!*D386)","v":0}]
[null,376,null,null,{"$f":"IF(ISNUMBER($D$6),D387*$D$6,#REF!*D387)","v":0}]
[null,377,null,null,{"$f":"IF(ISNUMBER($D$6),D388*$D$6,#REF!*D388)","v":0}]
[null,378,null,null,{"$f":"IF(ISNUMBER($D$6),D389*$D$6,#REF!*D389)","v":0}]
[null,379,null,null,{"$f":"IF(ISNUMBER($D$6),D390*$D$6,#REF!*D390)","v":0}]
[null,380,null,null,{"$f":"IF(ISNUMBER($D$6),D391*$D$6,#REF!*D391)","v":0}]
[null,381,null,null,{"$f":"IF(ISNUMBER($D$6),D392*$D$6,#REF!*D392)","v":0}]
[null,382,null,null,{"$f":"IF(ISNUMBER($D$6),D393*$D$6,#REF!*D393)","v":0}]
[null,383,null,null,{"$f":"IF(ISNUMBER($D$6),D394*$D$6,#REF!*D394)","v":0}]
[null,384,null,null,{"$f":"IF(ISNUMBER($D$6),D395*$D$6,#REF!*D395)","v":0}]
[null,385,null,null,{"$f":"IF(ISNUMBER($D$6),D396*$D$6,#REF!*D396)","v":0}]
[null,386,null,null,{"$f":"IF(ISNUMBER($D$6),D397*$D$6,#REF!*D397)","v":0}]
[null,{"$f":"+B397+1","v":387},null,null,{"$f":"IF(ISNUMBER($D$6),D398*$D$6,#REF!*D398)","v":0}]
[null,388,null,null,{"$f":"IF(ISNUMBER($D$6),D399*$D$6,#REF!*D399)","v":0}]
[null,389,null,null,{"$f":"IF(ISNUMBER($D$6),D400*$D$6,#REF!*D400)","v":0}]
[null,390,null,null,{"$f":"IF(ISNUMBER($D$6),D401*$D$6,#REF!*D401)","v":0}]
[null,391,null,null,{"$f":"IF(ISNUMBER($D$6),D402*$D$6,#REF!*D402)","v":0}]
[null,392,null,null,{"$f":"IF(ISNUMBER($D$6),D403*$D$6,#REF!*D403)","v":0}]
[null,393,null,null,{"$f":"IF(ISNUMBER($D$6),D404*$D$6,#REF!*D404)","v":0}]
[null,394,null,null,{"$f":"IF(ISNUMBER($D$6),D405*$D$6,#REF!*D405)","v":0}]
[null,395,null,null,{"$f":"IF(ISNUMBER($D$6),D406*$D$6,#REF!*D406)","v":0}]
[null,396,null,null,{"$f":"IF(ISNUMBER($D$6),D407*$D$6,#REF!*D407)","v":0}]
[null,397,null,null,{"$f":"IF(ISNUMBER($D$6),D408*$D$6,#REF!*D408)","v":0}]
[null,398,null,null,{"$f":"IF(ISNUMBER($D$6),D409*$D$6,#REF!*D409)","v":0}]
[null,399,null,null,{"$f":"IF(ISNUMBER($D$6),D410*$D$6,#REF!*D410)","v":0}]
[null,400,null,null,{"$f":"IF(ISNUMBER($D$6),D411*$D$6,#REF!*D411)","v":0}]
[null,401,null,null,{"$f":"IF(ISNUMBER($D$6),D412*$D$6,#REF!*D412)","v":0}]
[null,402,null,null,{"$f":"IF(ISNUMBER($D$6),D413*$D$6,#REF!*D413)","v":0}]
[null,403,null,null,{"$f":"IF(ISNUMBER($D$6),D414*$D$6,#REF!*D414)","v":0}]
[null,404,null,null,{"$f":"IF(ISNUMBER($D$6),D415*$D$6,#REF!*D415)","v":0}]
[null,405,null,null,{"$f":"IF(ISNUMBER($D$6),D416*$D$6,#REF!*D416)","v":0}]
[null,406,null,null,{"$f":"IF(ISNUMBER($D$6),D417*$D$6,#REF!*D417)","v":0}]
[null,407,null,null,{"$f":"IF(ISNUMBER($D$6),D418*$D$6,#REF!*D418)","v":0}]
[null,408,null,null,{"$f":"IF(ISNUMBER($D$6),D419*$D$6,#REF!*D419)","v":0}]
[null,409,null,null,{"$f":"IF(ISNUMBER($D$6),D420*$D$6,#REF!*D420)","v":0}]
[null,410,null,null,{"$f":"IF(ISNUMBER($D$6),D421*$D$6,#REF!*D421)","v":0}]
[null,411,null,null,{"$f":"IF(ISNUMBER($D$6),D422*$D$6,#REF!*D422)","v":0}]
[null,412,null,null,{"$f":"IF(ISNUMBER($D$6),D423*$D$6,#REF!*D423)","v":0}]
[null,413,null,null,{"$f":"IF(ISNUMBER($D$6),D424*$D$6,#REF!*D424)","v":0}]
[null,414,null,null,{"$f":"IF(ISNUMBER($D$6),D425*$D$6,#REF!*D425)","v":0}]
[null,415,null,null,{"$f":"IF(ISNUMBER($D$6),D426*$D$6,#REF!*D426)","v":0}]
[null,416,null,null,{"$f":"IF(ISNUMBER($D$6),D427*$D$6,#REF!*D427)","v":0}]
[null,417,null,null,{"$f":"IF(ISNUMBER($D$6),D428*$D$6,#REF!*D428)","v":0}]
[null,418,null,null,{"$f":"IF(ISNUMBER($D$6),D429*$D$6,#REF!*D429)","v":0}]
[null,419,null,null,{"$f":"IF(ISNUMBER($D$6),D430*$D$6,#REF!*D430)","v":0}]
[null,420,null,null,{"$f":"IF(ISNUMBER($D$6),D431*$D$6,#REF!*D431)","v":0}]
[null,421,null,null,{"$f":"IF(ISNUMBER($D$6),D432*$D$6,#REF!*D432)","v":0}]
[null,422,null,null,{"$f":"IF(ISNUMBER($D$6),D433*$D$6,#REF!*D433)","v":0}]
[null,423,null,null,{"$f":"IF(ISNUMBER($D$6),D434*$D$6,#REF!*D434)","v":0}]
[null,424,null,null,{"$f":"IF(ISNUMBER($D$6),D435*$D$6,#REF!*D435)","v":0}]
[null,425,null,null,{"$f":"IF(ISNUMBER($D$6),D436*$D$6,#REF!*D436)","v":0}]
[null,426,null,null,{"$f":"IF(ISNUMBER($D$6),D437*$D$6,#REF!*D437)","v":0}]
[null,427,null,null,{"$f":"IF(ISNUMBER($D$6),D438*$D$6,#REF!*D438)","v":0}]
[null,428,null,null,{"$f":"IF(ISNUMBER($D$6),D439*$D$6,#REF!*D439)","v":0}]
[null,429,null,null,{"$f":"IF(ISNUMBER($D$6),D440*$D$6,#REF!*D440)","v":0}]
[null,430,null,null,{"$f":"IF(ISNUMBER($D$6),D441*$D$6,#REF!*D441)","v":0}]
[null,431,null,null,{"$f":"IF(ISNUMBER($D$6),D442*$D$6,#REF!*D442)","v":0}]
[null,432,null,null,{"$f":"IF(ISNUMBER($D$6),D443*$D$6,#REF!*D443)","v":0}]
[null,433,null,null,{"$f":"IF(ISNUMBER($D$6),D444*$D$6,#REF!*D444)","v":0}]
[null,434,null,null,{"$f":"IF(ISNUMBER($D$6),D445*$D$6,#REF!*D445)","v":0}]
[null,435,null,null,{"$f":"IF(ISNUMBER($D$6),D446*$D$6,#REF!*D446)","v":0}]
[null,436,null,null,{"$f":"IF(ISNUMBER($D$6),D447*$D$6,#REF!*D447)","v":0}]
[null,437,null,null,{"$f":"IF(ISNUMBER($D$6),D448*$D$6,#REF!*D448)","v":0}]
[null,438,null,null,{"$f":"IF(ISNUMBER($D$6),D449*$D$6,#REF!*D449)","v":0}]
[null,439,null,null,{"$f":"IF(ISNUMBER($D$6),D450*$D$6,#REF!*D450)","v":0}]
[null,440,null,null,{"$f":"IF(ISNUMBER($D$6),D451*$D$6,#REF!*D451)","v":0}]
[null,441,null,null,{"$f":"IF(ISNUMBER($D$6),D452*$D$6,#REF!*D452)","v":0}]
[null,442,null,null,{"$f":"IF(ISNUMBER($D$6),D453*$D$6,#REF!*D453)","v":0}]
[null,443,null,null,{"$f":"IF(ISNUMBER($D$6),D454*$D$6,#REF!*D454)","v":0}]
[null,444,null,null,{"$f":"IF(ISNUMBER($D$6),D455*$D$6,#REF!*D455)","v":0}]
[null,445,null,null,{"$f":"IF(ISNUMBER($D$6),D456*$D$6,#REF!*D456)","v":0}]
[null,446,null,null,{"$f":"IF(ISNUMBER($D$6),D457*$D$6,#REF!*D457)","v":0}]
[null,447,null,null,{"$f":"IF(ISNUMBER($D$6),D458*$D$6,#REF!*D458)","v":0}]
[null,448,null,null,{"$f":"IF(ISNUMBER($D$6),D459*$D$6,#REF!*D459)","v":0}]
[null,449,null,null,{"$f":"IF(ISNUMBER($D$6),D460*$D$6,#REF!*D460)","v":0}]
[null,450,null,null,{"$f":"IF(ISNUMBER($D$6),D461*$D$6,#REF!*D461)","v":0}]
[null,{"$f":"+B461+1","v":451},null,null,{"$f":"IF(ISNUMBER($D$6),D462*$D$6,#REF!*D462)","v":0}]
[null,452,null,null,{"$f":"IF(ISNUMBER($D$6),D463*$D$6,#REF!*D463)","v":0}]
[null,453,null,null,{"$f":"IF(ISNUMBER($D$6),D464*$D$6,#REF!*D464)","v":0}]
[null,454,null,null,{"$f":"IF(ISNUMBER($D$6),D465*$D$6,#REF!*D465)","v":0}]
[null,455,null,null,{"$f":"IF(ISNUMBER($D$6),D466*$D$6,#REF!*D466)","v":0}]
[null,456,null,null,{"$f":"IF(ISNUMBER($D$6),D467*$D$6,#REF!*D467)","v":0}]
[null,457,null,null,{"$f":"IF(ISNUMBER($D$6),D468*$D$6,#REF!*D468)","v":0}]
[null,458,null,null,{"$f":"IF(ISNUMBER($D$6),D469*$D$6,#REF!*D469)","v":0}]
[null,459,null,null,{"$f":"IF(ISNUMBER($D$6),D470*$D$6,#REF!*D470)","v":0}]
[null,460,null,null,{"$f":"IF(ISNUMBER($D$6),D471*$D$6,#REF!*D471)","v":0}]
[null,461,null,null,{"$f":"IF(ISNUMBER($D$6),D472*$D$6,#REF!*D472)","v":0}]
[null,462,null,null,{"$f":"IF(ISNUMBER($D$6),D473*$D$6,#REF!*D473)","v":0}]
[null,463,null,null,{"$f":"IF(ISNUMBER($D$6),D474*$D$6,#REF!*D474)","v":0}]
[null,464,null,null,{"$f":"IF(ISNUMBER($D$6),D475*$D$6,#REF!*D475)","v":0}]
[null,465,null,null,{"$f":"IF(ISNUMBER($D$6),D476*$D$6,#REF!*D476)","v":0}]
[null,466,null,null,{"$f":"IF(ISNUMBER($D$6),D477*$D$6,#REF!*D477)","v":0}]
[null,467,null,null,{"$f":"IF(ISNUMBER($D$6),D478*$D$6,#REF!*D478)","v":0}]
[null,468,null,null,{"$f":"IF(ISNUMBER($D$6),D479*$D$6,#REF!*D479)","v":0}]
[null,469,null,null,{"$f":"IF(ISNUMBER($D$6),D480*$D$6,#REF!*D480)","v":0}]
[null,470,null,null,{"$f":"IF(ISNUMBER($D$6),D481*$D$6,#REF!*D481)","v":0}]
[null,471,null,null,{"$f":"IF(ISNUMBER($D$6),D482*$D$6,#REF!*D482)","v":0}]
[null,472,null,null,{"$f":"IF(ISNUMBER($D$6),D483*$D$6,#REF!*D483)","v":0}]
[null,473,null,null,{"$f":"IF(ISNUMBER($D$6),D484*$D$6,#REF!*D484)","v":0}]
[null,474,null,null,{"$f":"IF(ISNUMBER($D$6),D485*$D$6,#REF!*D485)","v":0}]
[null,475,null,null,{"$f":"IF(ISNUMBER($D$6),D486*$D$6,#REF!*D486)","v":0}]
[null,476,null,null,{"$f":"IF(ISNUMBER($D$6),D487*$D$6,#REF!*D487)","v":0}]
[null,477,null,null,{"$f":"IF(ISNUMBER($D$6),D488*$D$6,#REF!*D488)","v":0}]
[null,478,null,null,{"$f":"IF(ISNUMBER($D$6),D489*$D$6,#REF!*D489)","v":0}]
[null,479,null,null,{"$f":"IF(ISNUMBER($D$6),D490*$D$6,#REF!*D490)","v":0}]
[null,480,null,null,{"$f":"IF(ISNUMBER($D$6),D491*$D$6,#REF!*D491)","v":0}]
[null,481,null,null,{"$f":"IF(ISNUMBER($D$6),D492*$D$6,#REF!*D492)","v":0}]
[null,482,null,null,{"$f":"IF(ISNUMBER($D$6),D493*$D$6,#REF!*D493)","v":0}]
[null,483,null,null,{"$f":"IF(ISNUMBER($D$6),D494*$D$6,#REF!*D494)","v":0}]
[null,484,null,null,{"$f":"IF(ISNUMBER($D$6),D495*$D$6,#REF!*D495)","v":0}]
[null,485,null,null,{"$f":"IF(ISNUMBER($D$6),D496*$D$6,#REF!*D496)","v":0}]
[null,486,null,null,{"$f":"IF(ISNUMBER($D$6),D497*$D$6,#REF!*D497)","v":0}]
[null,487,null,null,{"$f":"IF(ISNUMBER($D$6),D498*$D$6,#REF!*D498)","v":0}]
[null,488,null,null,{"$f":"IF(ISNUMBER($D$6),D499*$D$6,#REF!*D499)","v":0}]
[null,489,null,null,{"$f":"IF(ISNUMBER($D$6),D500*$D$6,#REF!*D500)","v":0}]
[null,490,null,null,{"$f":"IF(ISNUMBER($D$6),D501*$D$6,#REF!*D501)","v":0}]
[null,491,null,null,{"$f":"IF(ISNUMBER($D$6),D502*$D$6,#REF!*D502)","v":0}]
[null,492,null,null,{"$f":"IF(ISNUMBER($D$6),D503*$D$6,#REF!*D503)","v":0}]
[null,493,null,null,{"$f":"IF(ISNUMBER($D$6),D504*$D$6,#REF!*D504)","v":0}]
[null,494,null,null,{"$f":"IF(ISNUMBER($D$6),D505*$D$6,#REF!*D505)","v":0}]
[null,495,null,null,{"$f":"IF(ISNUMBER($D$6),D506*$D$6,#REF!*D506)","v":0}]
[null,496,null,null,{"$f":"IF(ISNUMBER($D$6),D507*$D$6,#REF!*D507)","v":0}]
[null,497,null,null,{"$f":"IF(ISNUMBER($D$6),D508*$D$6,#REF!*D508)","v":0}]
[null,498,null,null,{"$f":"IF(ISNUMBER($D$6),D509*$D$6,#REF!*D509)","v":0}]
[null,499,null,null,{"$f":"IF(ISNUMBER($D$6),D510*$D$6,#REF!*D510)","v":0}]
[null,500,null,null,{"$f":"IF(ISNUMBER($D$6),D511*$D$6,#REF!*D511)","v":0}]
[null,501,null,null,{"$f":"IF(ISNUMBER($D$6),D512*$D$6,#REF!*D512)","v":0}]
[null,502,null,null,{"$f":"IF(ISNUMBER($D$6),D513*$D$6,#REF!*D513)","v":0}]
[null,503,null,null,{"$f":"IF(ISNUMBER($D$6),D514*$D$6,#REF!*D514)","v":0}]
[null,504,null,null,{"$f":"IF(ISNUMBER($D$6),D515*$D$6,#REF!*D515)","v":0}]
[null,505,null,null,{"$f":"IF(ISNUMBER($D$6),D516*$D$6,#REF!*D516)","v":0}]
[null,506,null,null,{"$f":"IF(ISNUMBER($D$6),D517*$D$6,#REF!*D517)","v":0}]
[null,507,null,null,{"$f":"IF(ISNUMBER($D$6),D518*$D$6,#REF!*D518)","v":0}]
[null,508,null,null,{"$f":"IF(ISNUMBER($D$6),D519*$D$6,#REF!*D519)","v":0}]
[null,509,null,null,{"$f":"IF(ISNUMBER($D$6),D520*$D$6,#REF!*D520)","v":0}]
[null,510,null,null,{"$f":"IF(ISNUMBER($D$6),D521*$D$6,#REF!*D521)","v":0}]
[null,511,null,null,{"$f":"IF(ISNUMBER($D$6),D522*$D$6,#REF!*D522)","v":0}]
[null,512,null,null,{"$f":"IF(ISNUMBER($D$6),D523*$D$6,#REF!*D523)","v":0}]
[null,513,null,null,{"$f":"IF(ISNUMBER($D$6),D524*$D$6,#REF!*D524)","v":0}]
[null,514,null,null,{"$f":"IF(ISNUMBER($D$6),D525*$D$6,#REF!*D525)","v":0}]
[null,{"$f":"+B525+1","v":515},null,null,{"$f":"IF(ISNUMBER($D$6),D526*$D$6,#REF!*D526)","v":0}]
[null,516,null,null,{"$f":"IF(ISNUMBER($D$6),D527*$D$6,#REF!*D527)","v":0}]
[null,517,null,null,{"$f":"IF(ISNUMBER($D$6),D528*$D$6,#REF!*D528)","v":0}]
[null,518,null,null,{"$f":"IF(ISNUMBER($D$6),D529*$D$6,#REF!*D529)","v":0}]
[null,519,null,null,{"$f":"IF(ISNUMBER($D$6),D530*$D$6,#REF!*D530)","v":0}]
[null,520,null,null,{"$f":"IF(ISNUMBER($D$6),D531*$D$6,#REF!*D531)","v":0}]
[null,521,null,null,{"$f":"IF(ISNUMBER($D$6),D532*$D$6,#REF!*D532)","v":0}]
[null,522,null,null,{"$f":"IF(ISNUMBER($D$6),D533*$D$6,#REF!*D533)","v":0}]
[null,523,null,null,{"$f":"IF(ISNUMBER($D$6),D534*$D$6,#REF!*D534)","v":0}]
[null,524,null,null,{"$f":"IF(ISNUMBER($D$6),D535*$D$6,#REF!*D535)","v":0}]
[null,525,null,null,{"$f":"IF(ISNUMBER($D$6),D536*$D$6,#REF!*D536)","v":0}]
[null,526,null,null,{"$f":"IF(ISNUMBER($D$6),D537*$D$6,#REF!*D537)","v":0}]
[null,527,null,null,{"$f":"IF(ISNUMBER($D$6),D538*$D$6,#REF!*D538)","v":0}]
[null,528,null,null,{"$f":"IF(ISNUMBER($D$6),D539*$D$6,#REF!*D539)","v":0}]
[null,529,null,null,{"$f":"IF(ISNUMBER($D$6),D540*$D$6,#REF!*D540)","v":0}]
[null,530,null,null,{"$f":"IF(ISNUMBER($D$6),D541*$D$6,#REF!*D541)","v":0}]
[null,531,null,null,{"$f":"IF(ISNUMBER($D$6),D542*$D$6,#REF!*D542)","v":0}]
[null,532,null,null,{"$f":"IF(ISNUMBER($D$6),D543*$D$6,#REF!*D543)","v":0}]
[null,533,null,null,{"$f":"IF(ISNUMBER($D$6),D544*$D$6,#REF!*D544)","v":0}]
[null,534,null,null,{"$f":"IF(ISNUMBER($D$6),D545*$D$6,#REF!*D545)","v":0}]
[null,535,null,null,{"$f":"IF(ISNUMBER($D$6),D546*$D$6,#REF!*D546)","v":0}]
[null,536,null,null,{"$f":"IF(ISNUMBER($D$6),D547*$D$6,#REF!*D547)","v":0}]
[null,537,null,null,{"$f":"IF(ISNUMBER($D$6),D548*$D$6,#REF!*D548)","v":0}]
[null,538,null,null,{"$f":"IF(ISNUMBER($D$6),D549*$D$6,#REF!*D549)","v":0}]
[null,539,null,null,{"$f":"IF(ISNUMBER($D$6),D550*$D$6,#REF!*D550)","v":0}]
[null,540,null,null,{"$f":"IF(ISNUMBER($D$6),D551*$D$6,#REF!*D551)","v":0}]
[null,541,null,null,{"$f":"IF(ISNUMBER($D$6),D552*$D$6,#REF!*D552)","v":0}]
[null,542,null,null,{"$f":"IF(ISNUMBER($D$6),D553*$D$6,#REF!*D553)","v":0}]
[null,543,null,null,{"$f":"IF(ISNUMBER($D$6),D554*$D$6,#REF!*D554)","v":0}]
[null,544,null,null,{"$f":"IF(ISNUMBER($D$6),D555*$D$6,#REF!*D555)","v":0}]
[null,545,null,null,{"$f":"IF(ISNUMBER($D$6),D556*$D$6,#REF!*D556)","v":0}]
[null,546,null,null,{"$f":"IF(ISNUMBER($D$6),D557*$D$6,#REF!*D557)","v":0}]
[null,547,null,null,{"$f":"IF(ISNUMBER($D$6),D558*$D$6,#REF!*D558)","v":0}]
[null,548,null,null,{"$f":"IF(ISNUMBER($D$6),D559*$D$6,#REF!*D559)","v":0}]
[null,549,null,null,{"$f":"IF(ISNUMBER($D$6),D560*$D$6,#REF!*D560)","v":0}]
[null,550,null,null,{"$f":"IF(ISNUMBER($D$6),D561*$D$6,#REF!*D561)","v":0}]
[null,551,null,null,{"$f":"IF(ISNUMBER($D$6),D562*$D$6,#REF!*D562)","v":0}]
[null,552,null,null,{"$f":"IF(ISNUMBER($D$6),D563*$D$6,#REF!*D563)","v":0}]
[null,553,null,null,{"$f":"IF(ISNUMBER($D$6),D564*$D$6,#REF!*D564)","v":0}]
[null,554,null,null,{"$f":"IF(ISNUMBER($D$6),D565*$D$6,#REF!*D565)","v":0}]
[null,555,null,null,{"$f":"IF(ISNUMBER($D$6),D566*$D$6,#REF!*D566)","v":0}]
[null,556,null,null,{"$f":"IF(ISNUMBER($D$6),D567*$D$6,#REF!*D567)","v":0}]
[null,557,null,null,{"$f":"IF(ISNUMBER($D$6),D568*$D$6,#REF!*D568)","v":0}]
[null,558,null,null,{"$f":"IF(ISNUMBER($D$6),D569*$D$6,#REF!*D569)","v":0}]
[null,559,null,null,{"$f":"IF(ISNUMBER($D$6),D570*$D$6,#REF!*D570)","v":0}]
[null,560,null,null,{"$f":"IF(ISNUMBER($D$6),D571*$D$6,#REF!*D571)","v":0}]
[null,561,null,null,{"$f":"IF(ISNUMBER($D$6),D572*$D$6,#REF!*D572)","v":0}]
[null,562,null,null,{"$f":"IF(ISNUMBER($D$6),D573*$D$6,#REF!*D573)","v":0}]
[null,563,null,null,{"$f":"IF(ISNUMBER($D$6),D574*$D$6,#REF!*D574)","v":0}]
[null,564,null,null,{"$f":"IF(ISNUMBER($D$6),D575*$D$6,#REF!*D575)","v":0}]
[null,565,null,null,{"$f":"IF(ISNUMBER($D$6),D576*$D$6,#REF!*D576)","v":0}]
[null,566,null,null,{"$f":"IF(ISNUMBER($D$6),D577*$D$6,#REF!*D577)","v":0}]
[null,567,null,null,{"$f":"IF(ISNUMBER($D$6),D578*$D$6,#REF!*D578)","v":0}]
[null,568,null,null,{"$f":"IF(ISNUMBER($D$6),D579*$D$6,#REF!*D579)","v":0}]
[null,569,null,null,{"$f":"IF(ISNUMBER($D$6),D580*$D$6,#REF!*D580)","v":0}]
[null,570,null,null,{"$f":"IF(ISNUMBER($D$6),D581*$D$6,#REF!*D581)","v":0}]
[null,571,null,null,{"$f":"IF(ISNUMBER($D$6),D582*$D$6,#REF!*D582)","v":0}]
[null,572,null,null,{"$f":"IF(ISNUMBER($D$6),D583*$D$6,#REF!*D583)","v":0}]
[null,573,null,null,{"$f":"IF(ISNUMBER($D$6),D584*$D$6,#REF!*D584)","v":0}]
[null,574,null,null,{"$f":"IF(ISNUMBER($D$6),D585*$D$6,#REF!*D585)","v":0}]
[null,575,null,null,{"$f":"IF(ISNUMBER($D$6),D586*$D$6,#REF!*D586)","v":0}]
[null,576,null,null,{"$f":"IF(ISNUMBER($D$6),D587*$D$6,#REF!*D587)","v":0}]
[null,577,null,null,{"$f":"IF(ISNUMBER($D$6),D588*$D$6,#REF!*D588)","v":0}]
[null,578,null,null,{"$f":"IF(ISNUMBER($D$6),D589*$D$6,#REF!*D589)","v":0}]
[null,{"$f":"+B589+1","v":579},null,null,{"$f":"IF(ISNUMBER($D$6),D590*$D$6,#REF!*D590)","v":0}]
[null,580,null,null,{"$f":"IF(ISNUMBER($D$6),D591*$D$6,#REF!*D591)","v":0}]
[null,581,null,null,{"$f":"IF(ISNUMBER($D$6),D592*$D$6,#REF!*D592)","v":0}]
[null,582,null,null,{"$f":"IF(ISNUMBER($D$6),D593*$D$6,#REF!*D593)","v":0}]
[null,583,null,null,{"$f":"IF(ISNUMBER($D$6),D594*$D$6,#REF!*D594)","v":0}]
[null,584,null,null,{"$f":"IF(ISNUMBER($D$6),D595*$D$6,#REF!*D595)","v":0}]
[null,585,null,null,{"$f":"IF(ISNUMBER($D$6),D596*$D$6,#REF!*D596)","v":0}]
[null,586,null,null,{"$f":"IF(ISNUMBER($D$6),D597*$D$6,#REF!*D597)","v":0}]
[null,587,null,null,{"$f":"IF(ISNUMBER($D$6),D598*$D$6,#REF!*D598)","v":0}]
[null,588,null,null,{"$f":"IF(ISNUMBER($D$6),D599*$D$6,#REF!*D599)","v":0}]
[null,589,null,null,{"$f":"IF(ISNUMBER($D$6),D600*$D$6,#REF!*D600)","v":0}]
[null,590,null,null,{"$f":"IF(ISNUMBER($D$6),D601*$D$6,#REF!*D601)","v":0}]
[null,591,null,null,{"$f":"IF(ISNUMBER($D$6),D602*$D$6,#REF!*D602)","v":0}]
[null,592,null,null,{"$f":"IF(ISNUMBER($D$6),D603*$D$6,#REF!*D603)","v":0}]
[null,593,null,null,{"$f":"IF(ISNUMBER($D$6),D604*$D$6,#REF!*D604)","v":0}]
[null,594,null,null,{"$f":"IF(ISNUMBER($D$6),D605*$D$6,#REF!*D605)","v":0}]
[null,595,null,null,{"$f":"IF(ISNUMBER($D$6),D606*$D$6,#REF!*D606)","v":0}]
[null,596,null,null,{"$f":"IF(ISNUMBER($D$6),D607*$D$6,#REF!*D607)","v":0}]
[null,597,null,null,{"$f":"IF(ISNUMBER($D$6),D608*$D$6,#REF!*D608)","v":0}]
[null,598,null,null,{"$f":"IF(ISNUMBER($D$6),D609*$D$6,#REF!*D609)","v":0}]
[null,599,null,null,{"$f":"IF(ISNUMBER($D$6),D610*$D$6,#REF!*D610)","v":0}]
[null,600,null,null,{"$f":"IF(ISNUMBER($D$6),D611*$D$6,#REF!*D611)","v":0}]
[null,601,null,null,{"$f":"IF(ISNUMBER($D$6),D612*$D$6,#REF!*D612)","v":0}]
[null,602,null,null,{"$f":"IF(ISNUMBER($D$6),D613*$D$6,#REF!*D613)","v":0}]
[null,603,null,null,{"$f":"IF(ISNUMBER($D$6),D614*$D$6,#REF!*D614)","v":0}]
[null,604,null,null,{"$f":"IF(ISNUMBER($D$6),D615*$D$6,#REF!*D615)","v":0}]
[null,605,null,null,{"$f":"IF(ISNUMBER($D$6),D616*$D$6,#REF!*D616)","v":0}]
[null,606,null,null,{"$f":"IF(ISNUMBER($D$6),D617*$D$6,#REF!*D617)","v":0}]
[null,607,null,null,{"$f":"IF(ISNUMBER($D$6),D618*$D$6,#REF!*D618)","v":0}]
[null,608,null,null,{"$f":"IF(ISNUMBER($D$6),D619*$D$6,#REF!*D619)","v":0}]
[null,609,null,null,{"$f":"IF(ISNUMBER($D$6),D620*$D$6,#REF!*D620)","v":0}]
[null,610,null,null,{"$f":"IF(ISNUMBER($D$6),D621*$D$6,#REF!*D621)","v":0}]
[null,611,null,null,{"$f":"IF(ISNUMBER($D$6),D622*$D$6,#REF!*D622)","v":0}]
[null,612,null,null,{"$f":"IF(ISNUMBER($D$6),D623*$D$6,#REF!*D623)","v":0}]
[null,613,null,null,{"$f":"IF(ISNUMBER($D$6),D624*$D$6,#REF!*D624)","v":0}]
[null,614,null,null,{"$f":"IF(ISNUMBER($D$6),D625*$D$6,#REF!*D625)","v":0}]
[null,615,null,null,{"$f":"IF(ISNUMBER($D$6),D626*$D$6,#REF!*D626)","v":0}]
[null,616,null,null,{"$f":"IF(ISNUMBER($D$6),D627*$D$6,#REF!*D627)","v":0}]
[null,617,null,null,{"$f":"IF(ISNUMBER($D$6),D628*$D$6,#REF!*D628)","v":0}]
[null,618,null,null,{"$f":"IF(ISNUMBER($D$6),D629*$D$6,#REF!*D629)","v":0}]
[null,619,null,null,{"$f":"IF(ISNUMBER($D$6),D630*$D$6,#REF!*D630)","v":0}]
[null,620,null,null,{"$f":"IF(ISNUMBER($D$6),D631*$D$6,#REF!*D631)","v":0}]
[null,621,null,null,{"$f":"IF(ISNUMBER($D$6),D632*$D$6,#REF!*D632)","v":0}]
[null,622,null,null,{"$f":"IF(ISNUMBER($D$6),D633*$D$6,#REF!*D633)","v":0}]
[null,623,null,null,{"$f":"IF(ISNUMBER($D$6),D634*$D$6,#REF!*D634)","v":0}]
[null,624,null,null,{"$f":"IF(ISNUMBER($D$6),D635*$D$6,#REF!*D635)","v":0}]
[null,625,null,null,{"$f":"IF(ISNUMBER($D$6),D636*$D$6,#REF!*D636)","v":0}]
[null,626,null,null,{"$f":"IF(ISNUMBER($D$6),D637*$D$6,#REF!*D637)","v":0}]
[null,627,null,null,{"$f":"IF(ISNUMBER($D$6),D638*$D$6,#REF!*D638)","v":0}]
[null,628,null,null,{"$f":"IF(ISNUMBER($D$6),D639*$D$6,#REF!*D639)","v":0}]
[null,629,null,null,{"$f":"IF(ISNUMBER($D$6),D640*$D$6,#REF!*D640)","v":0}]
[null,630,null,null,{"$f":"IF(ISNUMBER($D$6),D641*$D$6,#REF!*D641)","v":0}]
[null,631,null,null,{"$f":"IF(ISNUMBER($D$6),D642*$D$6,#REF!*D642)","v":0}]
[null,632,null,null,{"$f":"IF(ISNUMBER($D$6),D643*$D$6,#REF!*D643)","v":0}]
[null,633,null,null,{"$f":"IF(ISNUMBER($D$6),D644*$D$6,#REF!*D644)","v":0}]
[null,634,null,null,{"$f":"IF(ISNUMBER($D$6),D645*$D$6,#REF!*D645)","v":0}]
[null,635,null,null,{"$f":"IF(ISNUMBER($D$6),D646*$D$6,#REF!*D646)","v":0}]
[null,636,null,null,{"$f":"IF(ISNUMBER($D$6),D647*$D$6,#REF!*D647)","v":0}]
[null,637,null,null,{"$f":"IF(ISNUMBER($D$6),D648*$D$6,#REF!*D648)","v":0}]
[null,638,null,null,{"$f":"IF(ISNUMBER($D$6),D649*$D$6,#REF!*D649)","v":0}]
[null,639,null,null,{"$f":"IF(ISNUMBER($D$6),D650*$D$6,#REF!*D650)","v":0}]
[null,640,null,null,{"$f":"IF(ISNUMBER($D$6),D651*$D$6,#REF!*D651)","v":0}]
[null,641,null,null,{"$f":"IF(ISNUMBER($D$6),D652*$D$6,#REF!*D652)","v":0}]
[null,642,null,null,{"$f":"IF(ISNUMBER($D$6),D653*$D$6,#REF!*D653)","v":0}]
[null,{"$f":"+B653+1","v":643},null,null,{"$f":"IF(ISNUMBER($D$6),D654*$D$6,#REF!*D654)","v":0}]
[null,644,null,null,{"$f":"IF(ISNUMBER($D$6),D655*$D$6,#REF!*D655)","v":0}]
[null,645,null,null,{"$f":"IF(ISNUMBER($D$6),D656*$D$6,#REF!*D656)","v":0}]
[null,646,null,null,{"$f":"IF(ISNUMBER($D$6),D657*$D$6,#REF!*D657)","v":0}]
[null,647,null,null,{"$f":"IF(ISNUMBER($D$6),D658*$D$6,#REF!*D658)","v":0}]
[null,648,null,null,{"$f":"IF(ISNUMBER($D$6),D659*$D$6,#REF!*D659)","v":0}]
[null,649,null,null,{"$f":"IF(ISNUMBER($D$6),D660*$D$6,#REF!*D660)","v":0}]
[null,650,null,null,{"$f":"IF(ISNUMBER($D$6),D661*$D$6,#REF!*D661)","v":0}]
[null,651,null,null,{"$f":"IF(ISNUMBER($D$6),D662*$D$6,#REF!*D662)","v":0}]
[null,652,null,null,{"$f":"IF(ISNUMBER($D$6),D663*$D$6,#REF!*D663)","v":0}]
[null,653,null,null,{"$f":"IF(ISNUMBER($D$6),D664*$D$6,#REF!*D664)","v":0}]
[null,654,null,null,{"$f":"IF(ISNUMBER($D$6),D665*$D$6,#REF!*D665)","v":0}]
[null,655,null,null,{"$f":"IF(ISNUMBER($D$6),D666*$D$6,#REF!*D666)","v":0}]
[null,656,null,null,{"$f":"IF(ISNUMBER($D$6),D667*$D$6,#REF!*D667)","v":0}]
[null,657,null,null,{"$f":"IF(ISNUMBER($D$6),D668*$D$6,#REF!*D668)","v":0}]
[null,658,null,null,{"$f":"IF(ISNUMBER($D$6),D669*$D$6,#REF!*D669)","v":0}]
[null,659,null,null,{"$f":"IF(ISNUMBER($D$6),D670*$D$6,#REF!*D670)","v":0}]
[null,660,null,null,{"$f":"IF(ISNUMBER($D$6),D671*$D$6,#REF!*D671)","v":0}]
[null,661,null,null,{"$f":"IF(ISNUMBER($D$6),D672*$D$6,#REF!*D672)","v":0}]
[null,662,null,null,{"$f":"IF(ISNUMBER($D$6),D673*$D$6,#REF!*D673)","v":0}]
[null,663,null,null,{"$f":"IF(ISNUMBER($D$6),D674*$D$6,#REF!*D674)","v":0}]
[null,664,null,null,{"$f":"IF(ISNUMBER($D$6),D675*$D$6,#REF!*D675)","v":0}]
[null,665,null,null,{"$f":"IF(ISNUMBER($D$6),D676*$D$6,#REF!*D676)","v":0}]
[null,666,null,null,{"$f":"IF(ISNUMBER($D$6),D677*$D$6,#REF!*D677)","v":0}]
[null,667,null,null,{"$f":"IF(ISNUMBER($D$6),D678*$D$6,#REF!*D678)","v":0}]
[null,668,null,null,{"$f":"IF(ISNUMBER($D$6),D679*$D$6,#REF!*D679)","v":0}]
[null,669,null,null,{"$f":"IF(ISNUMBER($D$6),D680*$D$6,#REF!*D680)","v":0}]
[null,670,null,null,{"$f":"IF(ISNUMBER($D$6),D681*$D$6,#REF!*D681)","v":0}]
[null,671,null,null,{"$f":"IF(ISNUMBER($D$6),D682*$D$6,#REF!*D682)","v":0}]
[null,672,null,null,{"$f":"IF(ISNUMBER($D$6),D683*$D$6,#REF!*D683)","v":0}]
[null,673,null,null,{"$f":"IF(ISNUMBER($D$6),D684*$D$6,#REF!*D684)","v":0}]
[null,674,null,null,{"$f":"IF(ISNUMBER($D$6),D685*$D$6,#REF!*D685)","v":0}]
[null,675,null,null,{"$f":"IF(ISNUMBER($D$6),D686*$D$6,#REF!*D686)","v":0}]
[null,676,null,null,{"$f":"IF(ISNUMBER($D$6),D687*$D$6,#REF!*D687)","v":0}]
[null,677,null,null,{"$f":"IF(ISNUMBER($D$6),D688*$D$6,#REF!*D688)","v":0}]
[null,678,null,null,{"$f":"IF(ISNUMBER($D$6),D689*$D$6,#REF!*D689)","v":0}]
[null,679,null,null,{"$f":"IF(ISNUMBER($D$6),D690*$D$6,#REF!*D690)","v":0}]
[null,680,null,null,{"$f":"IF(ISNUMBER($D$6),D691*$D$6,#REF!*D691)","v":0}]
[null,681,null,null,{"$f":"IF(ISNUMBER($D$6),D692*$D$6,#REF!*D692)","v":0}]
[null,682,null,null,{"$f":"IF(ISNUMBER($D$6),D693*$D$6,#REF!*D693)","v":0}]
[null,683,null,null,{"$f":"IF(ISNUMBER($D$6),D694*$D$6,#REF!*D694)","v":0}]
[null,684,null,null,{"$f":"IF(ISNUMBER($D$6),D695*$D$6,#REF!*D695)","v":0}]
[null,685,null,null,{"$f":"IF(ISNUMBER($D$6),D696*$D$6,#REF!*D696)","v":0}]
[null,686,null,null,{"$f":"IF(ISNUMBER($D$6),D697*$D$6,#REF!*D697)","v":0}]
[null,687,null,null,{"$f":"IF(ISNUMBER($D$6),D698*$D$6,#REF!*D698)","v":0}]
[null,688,null,null,{"$f":"IF(ISNUMBER($D$6),D699*$D$6,#REF!*D699)","v":0}]
[null,689,null,null,{"$f":"IF(ISNUMBER($D$6),D700*$D$6,#REF!*D700)","v":0}]
[null,690,null,null,{"$f":"IF(ISNUMBER($D$6),D701*$D$6,#REF!*D701)","v":0}]
[null,691,null,null,{"$f":"IF(ISNUMBER($D$6),D702*$D$6,#REF!*D702)","v":0}]
[null,692,null,null,{"$f":"IF(ISNUMBER($D$6),D703*$D$6,#REF!*D703)","v":0}]
[null,693,null,null,{"$f":"IF(ISNUMBER($D$6),D704*$D$6,#REF!*D704)","v":0}]
[null,694,null,null,{"$f":"IF(ISNUMBER($D$6),D705*$D$6,#REF!*D705)","v":0}]
[null,695,null,null,{"$f":"IF(ISNUMBER($D$6),D706*$D$6,#REF!*D706)","v":0}]
[null,696,null,null,{"$f":"IF(ISNUMBER($D$6),D707*$D$6,#REF!*D707)","v":0}]
[null,697,null,null,{"$f":"IF(ISNUMBER($D$6),D708*$D$6,#REF!*D708)","v":0}]
[null,698,null,null,{"$f":"IF(ISNUMBER($D$6),D709*$D$6,#REF!*D709)","v":0}]
[null,699,null,null,{"$f":"IF(ISNUMBER($D$6),D710*$D$6,#REF!*D710)","v":0}]
[null,700,null,null,{"$f":"IF(ISNUMBER($D$6),D711*$D$6,#REF!*D711)","v":0}]
[null,701,null,null,{"$f":"IF(ISNUMBER($D$6),D712*$D$6,#REF!*D712)","v":0}]
[null,702,null,null,{"$f":"IF(ISNUMBER($D$6),D713*$D$6,#REF!*D713)","v":0}]
[null,703,null,null,{"$f":"IF(ISNUMBER($D$6),D714*$D$6,#REF!*D714)","v":0}]
[null,704,null,null,{"$f":"IF(ISNUMBER($D$6),D715*$D$6,#REF!*D715)","v":0}]
[null,705,null,null,{"$f":"IF(ISNUMBER($D$6),D716*$D$6,#REF!*D716)","v":0}]
[null,706,null,null,{"$f":"IF(ISNUMBER($D$6),D717*$D$6,#REF!*D717)","v":0}]
[null,{"$f":"+B717+1","v":707},null,null,{"$f":"IF(ISNUMBER($D$6),D718*$D$6,#REF!*D718)","v":0}]
[null,708,null,null,{"$f":"IF(ISNUMBER($D$6),D719*$D$6,#REF!*D719)","v":0}]
[null,709,null,null,{"$f":"IF(ISNUMBER($D$6),D720*$D$6,#REF!*D720)","v":0}]
[null,710,null,null,{"$f":"IF(ISNUMBER($D$6),D721*$D$6,#REF!*D721)","v":0}]
[null,711,null,null,{"$f":"IF(ISNUMBER($D$6),D722*$D$6,#REF!*D722)","v":0}]
[null,712,null,null,{"$f":"IF(ISNUMBER($D$6),D723*$D$6,#REF!*D723)","v":0}]
[null,713,null,null,{"$f":"IF(ISNUMBER($D$6),D724*$D$6,#REF!*D724)","v":0}]
[null,714,null,null,{"$f":"IF(ISNUMBER($D$6),D725*$D$6,#REF!*D725)","v":0}]
[null,715,null,null,{"$f":"IF(ISNUMBER($D$6),D726*$D$6,#REF!*D726)","v":0}]
[null,716,null,null,{"$f":"IF(ISNUMBER($D$6),D727*$D$6,#REF!*D727)","v":0}]
[null,717,null,null,{"$f":"IF(ISNUMBER($D$6),D728*$D$6,#REF!*D728)","v":0}]
[null,718,null,null,{"$f":"IF(ISNUMBER($D$6),D729*$D$6,#REF!*D729)","v":0}]
[null,719,null,null,{"$f":"IF(ISNUMBER($D$6),D730*$D$6,#REF!*D730)","v":0}]
[null,720,null,null,{"$f":"IF(ISNUMBER($D$6),D731*$D$6,#REF!*D731)","v":0}]
[null,721,null,null,{"$f":"IF(ISNUMBER($D$6),D732*$D$6,#REF!*D732)","v":0}]
[null,722,null,null,{"$f":"IF(ISNUMBER($D$6),D733*$D$6,#REF!*D733)","v":0}]
[null,723,null,null,{"$f":"IF(ISNUMBER($D$6),D734*$D$6,#REF!*D734)","v":0}]
[null,724,null,null,{"$f":"IF(ISNUMBER($D$6),D735*$D$6,#REF!*D735)","v":0}]
[null,725,null,null,{"$f":"IF(ISNUMBER($D$6),D736*$D$6,#REF!*D736)","v":0}]
[null,726,null,null,{"$f":"IF(ISNUMBER($D$6),D737*$D$6,#REF!*D737)","v":0}]
[null,727,null,null,{"$f":"IF(ISNUMBER($D$6),D738*$D$6,#REF!*D738)","v":0}]
[null,728,null,null,{"$f":"IF(ISNUMBER($D$6),D739*$D$6,#REF!*D739)","v":0}]
[null,729,null,null,{"$f":"IF(ISNUMBER($D$6),D740*$D$6,#REF!*D740)","v":0}]
[null,730,null,null,{"$f":"IF(ISNUMBER($D$6),D741*$D$6,#REF!*D741)","v":0}]
[null,731,null,null,{"$f":"IF(ISNUMBER($D$6),D742*$D$6,#REF!*D742)","v":0}]
[null,732,null,null,{"$f":"IF(ISNUMBER($D$6),D743*$D$6,#REF!*D743)","v":0}]
[null,733,null,null,{"$f":"IF(ISNUMBER($D$6),D744*$D$6,#REF!*D744)","v":0}]
[null,734,null,null,{"$f":"IF(ISNUMBER($D$6),D745*$D$6,#REF!*D745)","v":0}]
[null,735,null,null,{"$f":"IF(ISNUMBER($D$6),D746*$D$6,#REF!*D746)","v":0}]
[null,736,null,null,{"$f":"IF(ISNUMBER($D$6),D747*$D$6,#REF!*D747)","v":0}]
[null,737,null,null,{"$f":"IF(ISNUMBER($D$6),D748*$D$6,#REF!*D748)","v":0}]
[null,738,null,null,{"$f":"IF(ISNUMBER($D$6),D749*$D$6,#REF!*D749)","v":0}]
[null,739,null,null,{"$f":"IF(ISNUMBER($D$6),D750*$D$6,#REF!*D750)","v":0}]
[null,740,null,null,{"$f":"IF(ISNUMBER($D$6),D751*$D$6,#REF!*D751)","v":0}]
[null,741,null,null,{"$f":"IF(ISNUMBER($D$6),D752*$D$6,#REF!*D752)","v":0}]
[null,742,null,null,{"$f":"IF(ISNUMBER($D$6),D753*$D$6,#REF!*D753)","v":0}]
[null,743,null,null,{"$f":"IF(ISNUMBER($D$6),D754*$D$6,#REF!*D754)","v":0}]
[null,744,null,null,{"$f":"IF(ISNUMBER($D$6),D755*$D$6,#REF!*D755)","v":0}]
[null,745,null,null,{"$f":"IF(ISNUMBER($D$6),D756*$D$6,#REF!*D756)","v":0}]
[null,746,null,null,{"$f":"IF(ISNUMBER($D$6),D757*$D$6,#REF!*D757)","v":0}]
[null,747,null,null,{"$f":"IF(ISNUMBER($D$6),D758*$D$6,#REF!*D758)","v":0}]
[null,748,null,null,{"$f":"IF(ISNUMBER($D$6),D759*$D$6,#REF!*D759)","v":0}]
[null,749,null,null,{"$f":"IF(ISNUMBER($D$6),D760*$D$6,#REF!*D760)","v":0}]
[null,750,null,null,{"$f":"IF(ISNUMBER($D$6),D761*$D$6,#REF!*D761)","v":0}]
[null,751,null,null,{"$f":"IF(ISNUMBER($D$6),D762*$D$6,#REF!*D762)","v":0}]
[null,752,null,null,{"$f":"IF(ISNUMBER($D$6),D763*$D$6,#REF!*D763)","v":0}]
[null,753,null,null,{"$f":"IF(ISNUMBER($D$6),D764*$D$6,#REF!*D764)","v":0}]
[null,754,null,null,{"$f":"IF(ISNUMBER($D$6),D765*$D$6,#REF!*D765)","v":0}]
[null,755,null,null,{"$f":"IF(ISNUMBER($D$6),D766*$D$6,#REF!*D766)","v":0}]
[null,756,null,null,{"$f":"IF(ISNUMBER($D$6),D767*$D$6,#REF!*D767)","v":0}]
[null,{"$f":"+B767+1","v":757},null,null,{"$f":"IF(ISNUMBER($D$6),D768*$D$6,#REF!*D768)","v":0}]
[null,{"$f":"+B768+1","v":758},null,null,{"$f":"IF(ISNUMBER($D$6),D769*$D$6,#REF!*D769)","v":0}]
[null,759,null,null,{"$f":"IF(ISNUMBER($D$6),D770*$D$6,#REF!*D770)","v":0}]
[null,760,null,null,{"$f":"IF(ISNUMBER($D$6),D771*$D$6,#REF!*D771)","v":0}]
[null,761,null,null,{"$f":"IF(ISNUMBER($D$6),D772*$D$6,#REF!*D772)","v":0}]
[null,762,null,null,{"$f":"IF(ISNUMBER($D$6),D773*$D$6,#REF!*D773)","v":0}]
[null,763,null,null,{"$f":"IF(ISNUMBER($D$6),D774*$D$6,#REF!*D774)","v":0}]
[null,764,null,null,{"$f":"IF(ISNUMBER($D$6),D775*$D$6,#REF!*D775)","v":0}]
[null,765,null,null,{"$f":"IF(ISNUMBER($D$6),D776*$D$6,#REF!*D776)","v":0}]
[null,766,null,null,{"$f":"IF(ISNUMBER($D$6),D777*$D$6,#REF!*D777)","v":0}]
[null,767,null,null,{"$f":"IF(ISNUMBER($D$6),D778*$D$6,#REF!*D778)","v":0}]
[null,768,null,null,{"$f":"IF(ISNUMBER($D$6),D779*$D$6,#REF!*D779)","v":0}]
[null,769,null,null,{"$f":"IF(ISNUMBER($D$6),D780*$D$6,#REF!*D780)","v":0}]
[null,770,null,null,{"$f":"IF(ISNUMBER($D$6),D781*$D$6,#REF!*D781)","v":0}]
[null,771,null,null,{"$f":"IF(ISNUMBER($D$6),D782*$D$6,#REF!*D782)","v":0}]
[null,772,null,null,{"$f":"IF(ISNUMBER($D$6),D783*$D$6,#REF!*D783)","v":0}]
[null,773,null,null,{"$f":"IF(ISNUMBER($D$6),D784*$D$6,#REF!*D784)","v":0}]
[null,774,null,null,{"$f":"IF(ISNUMBER($D$6),D785*$D$6,#REF!*D785)","v":0}]
[null,775,null,null,{"$f":"IF(ISNUMBER($D$6),D786*$D$6,#REF!*D786)","v":0}]
[null,{"$f":"+B786+1","v":776},null,null,{"$f":"IF(ISNUMBER($D$6),D787*$D$6,#REF!*D787)","v":0}]
[null,{"$f":"+B787+1","v":777},null,null,{"$f":"IF(ISNUMBER($D$6),D788*$D$6,#REF!*D788)","v":0}]
[null,778,null,null,{"$f":"IF(ISNUMBER($D$6),D789*$D$6,#REF!*D789)","v":0}]
[null,779,null,null,{"$f":"IF(ISNUMBER($D$6),D790*$D$6,#REF!*D790)","v":0}]
[null,780,null,null,{"$f":"IF(ISNUMBER($D$6),D791*$D$6,#REF!*D791)","v":0}]
[null,781,null,null,{"$f":"IF(ISNUMBER($D$6),D792*$D$6,#REF!*D792)","v":0}]
[null,782,null,null,{"$f":"IF(ISNUMBER($D$6),D793*$D$6,#REF!*D793)","v":0}]
[null,783,null,null,{"$f":"IF(ISNUMBER($D$6),D794*$D$6,#REF!*D794)","v":0}]
[null,784,null,null,{"$f":"IF(ISNUMBER($D$6),D795*$D$6,#REF!*D795)","v":0}]
[null,785,null,null,{"$f":"IF(ISNUMBER($D$6),D796*$D$6,#REF!*D796)","v":0}]
[null,786,null,null,{"$f":"IF(ISNUMBER($D$6),D797*$D$6,#REF!*D797)","v":0}]
[null,787,null,null,{"$f":"IF(ISNUMBER($D$6),D798*$D$6,#REF!*D798)","v":0}]
[null,788,null,null,{"$f":"IF(ISNUMBER($D$6),D799*$D$6,#REF!*D799)","v":0}]
[null,789,null,null,{"$f":"IF(ISNUMBER($D$6),D800*$D$6,#REF!*D800)","v":0}]
[null,790,null,null,{"$f":"IF(ISNUMBER($D$6),D801*$D$6,#REF!*D801)","v":0}]
[null,791,null,null,{"$f":"IF(ISNUMBER($D$6),D802*$D$6,#REF!*D802)","v":0}]
[null,792,null,null,{"$f":"IF(ISNUMBER($D$6),D803*$D$6,#REF!*D803)","v":0}]
[null,793,null,null,{"$f":"IF(ISNUMBER($D$6),D804*$D$6,#REF!*D804)","v":0}]
[null,794,null,null,{"$f":"IF(ISNUMBER($D$6),D805*$D$6,#REF!*D805)","v":0}]
[null,795,null,null,{"$f":"IF(ISNUMBER($D$6),D806*$D$6,#REF!*D806)","v":0}]
[null,796,null,null,{"$f":"IF(ISNUMBER($D$6),D807*$D$6,#REF!*D807)","v":0}]
[null,797,null,null,{"$f":"IF(ISNUMBER($D$6),D808*$D$6,#REF!*D808)","v":0}]
[null,798,null,null,{"$f":"IF(ISNUMBER($D$6),D809*$D$6,#REF!*D809)","v":0}]
[null,799,null,null,{"$f":"IF(ISNUMBER($D$6),D810*$D$6,#REF!*D810)","v":0}]
[null,800,null,null,{"$f":"IF(ISNUMBER($D$6),D811*$D$6,#REF!*D811)","v":0}]
[null,801,null,null,{"$f":"IF(ISNUMBER($D$6),D812*$D$6,#REF!*D812)","v":0}]
[null,802,null,null,{"$f":"IF(ISNUMBER($D$6),D813*$D$6,#REF!*D813)","v":0}]
[null,803,null,null,{"$f":"IF(ISNUMBER($D$6),D814*$D$6,#REF!*D814)","v":0}]
[null,804,null,null,{"$f":"IF(ISNUMBER($D$6),D815*$D$6,#REF!*D815)","v":0}]
[null,805,null,null,{"$f":"IF(ISNUMBER($D$6),D816*$D$6,#REF!*D816)","v":0}]
[null,806,null,null,{"$f":"IF(ISNUMBER($D$6),D817*$D$6,#REF!*D817)","v":0}]
[null,807,null,null,{"$f":"IF(ISNUMBER($D$6),D818*$D$6,#REF!*D818)","v":0}]
[null,808,null,null,{"$f":"IF(ISNUMBER($D$6),D819*$D$6,#REF!*D819)","v":0}]
[null,809,null,null,{"$f":"IF(ISNUMBER($D$6),D820*$D$6,#REF!*D820)","v":0}]
[null,810,null,null,{"$f":"IF(ISNUMBER($D$6),D821*$D$6,#REF!*D821)","v":0}]
[null,811,null,null,{"$f":"IF(ISNUMBER($D$6),D822*$D$6,#REF!*D822)","v":0}]
[null,812,null,null,{"$f":"IF(ISNUMBER($D$6),D823*$D$6,#REF!*D823)","v":0}]
[null,813,null,null,{"$f":"IF(ISNUMBER($D$6),D824*$D$6,#REF!*D824)","v":0}]
[null,814,null,null,{"$f":"IF(ISNUMBER($D$6),D825*$D$6,#REF!*D825)","v":0}]
[null,815,null,null,{"$f":"IF(ISNUMBER($D$6),D826*$D$6,#REF!*D826)","v":0}]
[null,816,null,null,{"$f":"IF(ISNUMBER($D$6),D827*$D$6,#REF!*D827)","v":0}]
[null,817,null,null,{"$f":"IF(ISNUMBER($D$6),D828*$D$6,#REF!*D828)","v":0}]
[null,818,null,null,{"$f":"IF(ISNUMBER($D$6),D829*$D$6,#REF!*D829)","v":0}]
[null,819,null,null,{"$f":"IF(ISNUMBER($D$6),D830*$D$6,#REF!*D830)","v":0}]
[null,820,null,null,{"$f":"IF(ISNUMBER($D$6),D831*$D$6,#REF!*D831)","v":0}]
[null,821,null,null,{"$f":"IF(ISNUMBER($D$6),D832*$D$6,#REF!*D832)","v":0}]
[null,822,null,null,{"$f":"IF(ISNUMBER($D$6),D833*$D$6,#REF!*D833)","v":0}]
[null,823,null,null,{"$f":"IF(ISNUMBER($D$6),D834*$D$6,#REF!*D834)","v":0}]
[null,824,null,null,{"$f":"IF(ISNUMBER($D$6),D835*$D$6,#REF!*D835)","v":0}]
[null,825,null,null,{"$f":"IF(ISNUMBER($D$6),D836*$D$6,#REF!*D836)","v":0}]
[null,826,null,null,{"$f":"IF(ISNUMBER($D$6),D837*$D$6,#REF!*D837)","v":0}]
[null,827,null,null,{"$f":"IF(ISNUMBER($D$6),D838*$D$6,#REF!*D838)","v":0}]
[null,828,null,null,{"$f":"IF(ISNUMBER($D$6),D839*$D$6,#REF!*D839)","v":0}]
[null,829,null,null,{"$f":"IF(ISNUMBER($D$6),D840*$D$6,#REF!*D840)","v":0}]
[null,830,null,null,{"$f":"IF(ISNUMBER($D$6),D841*$D$6,#REF!*D841)","v":0}]
[null,831,null,null,{"$f":"IF(ISNUMBER($D$6),D842*$D$6,#REF!*D842)","v":0}]
[null,832,null,null,{"$f":"IF(ISNUMBER($D$6),D843*$D$6,#REF!*D843)","v":0}]
[null,833,null,null,{"$f":"IF(ISNUMBER($D$6),D844*$D$6,#REF!*D844)","v":0}]
[null,834,null,null,{"$f":"IF(ISNUMBER($D$6),D845*$D$6,#REF!*D845)","v":0}]
[null,835,null,null,{"$f":"IF(ISNUMBER($D$6),D846*$D$6,#REF!*D846)","v":0}]
[null,836,null,null,{"$f":"IF(ISNUMBER($D$6),D847*$D$6,#REF!*D847)","v":0}]
[null,837,null,null,{"$f":"IF(ISNUMBER($D$6),D848*$D$6,#REF!*D848)","v":0}]
[null,838,null,null,{"$f":"IF(ISNUMBER($D$6),D849*$D$6,#REF!*D849)","v":0}]
[null,839,null,null,{"$f":"IF(ISNUMBER($D$6),D850*$D$6,#REF!*D850)","v":0}]
[null,840,null,null,{"$f":"IF(ISNUMBER($D$6),D851*$D$6,#REF!*D851)","v":0}]
[null,{"$f":"+B851+1","v":841},null,null,{"$f":"IF(ISNUMBER($D$6),D852*$D$6,#REF!*D852)","v":0}]
[null,842,null,null,{"$f":"IF(ISNUMBER($D$6),D853*$D$6,#REF!*D853)","v":0}]
[null,843,null,null,{"$f":"IF(ISNUMBER($D$6),D854*$D$6,#REF!*D854)","v":0}]
[null,844,null,null,{"$f":"IF(ISNUMBER($D$6),D855*$D$6,#REF!*D855)","v":0}]
[null,845,null,null,{"$f":"IF(ISNUMBER($D$6),D856*$D$6,#REF!*D856)","v":0}]
[null,846,null,null,{"$f":"IF(ISNUMBER($D$6),D857*$D$6,#REF!*D857)","v":0}]
[null,847,null,null,{"$f":"IF(ISNUMBER($D$6),D858*$D$6,#REF!*D858)","v":0}]
[null,848,null,null,{"$f":"IF(ISNUMBER($D$6),D859*$D$6,#REF!*D859)","v":0}]
[null,849,null,null,{"$f":"IF(ISNUMBER($D$6),D860*$D$6,#REF!*D860)","v":0}]
[null,850,null,null,{"$f":"IF(ISNUMBER($D$6),D861*$D$6,#REF!*D861)","v":0}]
[null,851,null,null,{"$f":"IF(ISNUMBER($D$6),D862*$D$6,#REF!*D862)","v":0}]
[null,852,null,null,{"$f":"IF(ISNUMBER($D$6),D863*$D$6,#REF!*D863)","v":0}]
[null,853,null,null,{"$f":"IF(ISNUMBER($D$6),D864*$D$6,#REF!*D864)","v":0}]
[null,854,null,null,{"$f":"IF(ISNUMBER($D$6),D865*$D$6,#REF!*D865)","v":0}]
[null,855,null,null,{"$f":"IF(ISNUMBER($D$6),D866*$D$6,#REF!*D866)","v":0}]
[null,856,null,null,{"$f":"IF(ISNUMBER($D$6),D867*$D$6,#REF!*D867)","v":0}]
[null,857,null,null,{"$f":"IF(ISNUMBER($D$6),D868*$D$6,#REF!*D868)","v":0}]
[null,858,null,null,{"$f":"IF(ISNUMBER($D$6),D869*$D$6,#REF!*D869)","v":0}]
[null,859,null,null,{"$f":"IF(ISNUMBER($D$6),D870*$D$6,#REF!*D870)","v":0}]
[null,860,null,null,{"$f":"IF(ISNUMBER($D$6),D871*$D$6,#REF!*D871)","v":0}]
[null,861,null,null,{"$f":"IF(ISNUMBER($D$6),D872*$D$6,#REF!*D872)","v":0}]
[null,862,null,null,{"$f":"IF(ISNUMBER($D$6),D873*$D$6,#REF!*D873)","v":0}]
[null,863,null,null,{"$f":"IF(ISNUMBER($D$6),D874*$D$6,#REF!*D874)","v":0}]
[null,864,null,null,{"$f":"IF(ISNUMBER($D$6),D875*$D$6,#REF!*D875)","v":0}]
[null,865,null,null,{"$f":"IF(ISNUMBER($D$6),D876*$D$6,#REF!*D876)","v":0}]
[null,866,null,null,{"$f":"IF(ISNUMBER($D$6),D877*$D$6,#REF!*D877)","v":0}]
[null,867,null,null,{"$f":"IF(ISNUMBER($D$6),D878*$D$6,#REF!*D878)","v":0}]
[null,868,null,null,{"$f":"IF(ISNUMBER($D$6),D879*$D$6,#REF!*D879)","v":0}]
[null,869,null,null,{"$f":"IF(ISNUMBER($D$6),D880*$D$6,#REF!*D880)","v":0}]
[null,870,null,null,{"$f":"IF(ISNUMBER($D$6),D881*$D$6,#REF!*D881)","v":0}]
[null,871,null,null,{"$f":"IF(ISNUMBER($D$6),D882*$D$6,#REF!*D882)","v":0}]
[null,872,null,null,{"$f":"IF(ISNUMBER($D$6),D883*$D$6,#REF!*D883)","v":0}]
[null,873,null,null,{"$f":"IF(ISNUMBER($D$6),D884*$D$6,#REF!*D884)","v":0}]
[null,874,null,null,{"$f":"IF(ISNUMBER($D$6),D885*$D$6,#REF!*D885)","v":0}]
[null,875,null,null,{"$f":"IF(ISNUMBER($D$6),D886*$D$6,#REF!*D886)","v":0}]
[null,876,null,null,{"$f":"IF(ISNUMBER($D$6),D887*$D$6,#REF!*D887)","v":0}]
[null,877,null,null,{"$f":"IF(ISNUMBER($D$6),D888*$D$6,#REF!*D888)","v":0}]
[null,878,null,null,{"$f":"IF(ISNUMBER($D$6),D889*$D$6,#REF!*D889)","v":0}]
[null,879,null,null,{"$f":"IF(ISNUMBER($D$6),D890*$D$6,#REF!*D890)","v":0}]
[null,880,null,null,{"$f":"IF(ISNUMBER($D$6),D891*$D$6,#REF!*D891)","v":0}]
[null,881,null,null,{"$f":"IF(ISNUMBER($D$6),D892*$D$6,#REF!*D892)","v":0}]
[null,882,null,null,{"$f":"IF(ISNUMBER($D$6),D893*$D$6,#REF!*D893)","v":0}]
[null,883,null,null,{"$f":"IF(ISNUMBER($D$6),D894*$D$6,#REF!*D894)","v":0}]
[null,884,null,null,{"$f":"IF(ISNUMBER($D$6),D895*$D$6,#REF!*D895)","v":0}]
[null,885,null,null,{"$f":"IF(ISNUMBER($D$6),D896*$D$6,#REF!*D896)","v":0}]
[null,886,null,null,{"$f":"IF(ISNUMBER($D$6),D897*$D$6,#REF!*D897)","v":0}]
[null,887,null,null,{"$f":"IF(ISNUMBER($D$6),D898*$D$6,#REF!*D898)","v":0}]
[null,888,null,null,{"$f":"IF(ISNUMBER($D$6),D899*$D$6,#REF!*D899)","v":0}]
[null,889,null,null,{"$f":"IF(ISNUMBER($D$6),D900*$D$6,#REF!*D900)","v":0}]
[null,890,null,null,{"$f":"IF(ISNUMBER($D$6),D901*$D$6,#REF!*D901)","v":0}]
[null,891,null,null,{"$f":"IF(ISNUMBER($D$6),D902*$D$6,#REF!*D902)","v":0}]
[null,892,null,null,{"$f":"IF(ISNUMBER($D$6),D903*$D$6,#REF!*D903)","v":0}]
[null,893,null,null,{"$f":"IF(ISNUMBER($D$6),D904*$D$6,#REF!*D904)","v":0}]
[null,894,null,null,{"$f":"IF(ISNUMBER($D$6),D905*$D$6,#REF!*D905)","v":0}]
[null,895,null,null,{"$f":"IF(ISNUMBER($D$6),D906*$D$6,#REF!*D906)","v":0}]
[null,896,null,null,{"$f":"IF(ISNUMBER($D$6),D907*$D$6,#REF!*D907)","v":0}]
[null,897,null,null,{"$f":"IF(ISNUMBER($D$6),D908*$D$6,#REF!*D908)","v":0}]
[null,898,null,null,{"$f":"IF(ISNUMBER($D$6),D909*$D$6,#REF!*D909)","v":0}]
[null,899,null,null,{"$f":"IF(ISNUMBER($D$6),D910*$D$6,#REF!*D910)","v":0}]
[null,900,null,null,{"$f":"IF(ISNUMBER($D$6),D911*$D$6,#REF!*D911)","v":0}]
[null,901,null,null,{"$f":"IF(ISNUMBER($D$6),D912*$D$6,#REF!*D912)","v":0}]
[null,902,null,null,{"$f":"IF(ISNUMBER($D$6),D913*$D$6,#REF!*D913)","v":0}]
[null,903,null,null,{"$f":"IF(ISNUMBER($D$6),D914*$D$6,#REF!*D914)","v":0}]
[null,904,null,null,{"$f":"IF(ISNUMBER($D$6),D915*$D$6,#REF!*D915)","v":0}]
[null,{"$f":"+B915+1","v":905},null,null,{"$f":"IF(ISNUMBER($D$6),D916*$D$6,#REF!*D916)","v":0}]
[null,906,null,null,{"$f":"IF(ISNUMBER($D$6),D917*$D$6,#REF!*D917)","v":0}]
[null,907,null,null,{"$f":"IF(ISNUMBER($D$6),D918*$D$6,#REF!*D918)","v":0}]
[null,908,null,null,{"$f":"IF(ISNUMBER($D$6),D919*$D$6,#REF!*D919)","v":0}]
[null,909,null,null,{"$f":"IF(ISNUMBER($D$6),D920*$D$6,#REF!*D920)","v":0}]
[null,910,null,null,{"$f":"IF(ISNUMBER($D$6),D921*$D$6,#REF!*D921)","v":0}]
[null,911,null,null,{"$f":"IF(ISNUMBER($D$6),D922*$D$6,#REF!*D922)","v":0}]
[null,912,null,null,{"$f":"IF(ISNUMBER($D$6),D923*$D$6,#REF!*D923)","v":0}]
[null,913,null,null,{"$f":"IF(ISNUMBER($D$6),D924*$D$6,#REF!*D924)","v":0}]
[null,914,null,null,{"$f":"IF(ISNUMBER($D$6),D925*$D$6,#REF!*D925)","v":0}]
[null,915,null,null,{"$f":"IF(ISNUMBER($D$6),D926*$D$6,#REF!*D926)","v":0}]
[null,916,null,null,{"$f":"IF(ISNUMBER($D$6),D927*$D$6,#REF!*D927)","v":0}]
[null,917,null,null,{"$f":"IF(ISNUMBER($D$6),D928*$D$6,#REF!*D928)","v":0}]
[null,918,null,null,{"$f":"IF(ISNUMBER($D$6),D929*$D$6,#REF!*D929)","v":0}]
[null,919,null,null,{"$f":"IF(ISNUMBER($D$6),D930*$D$6,#REF!*D930)","v":0}]
[null,920,null,null,{"$f":"IF(ISNUMBER($D$6),D931*$D$6,#REF!*D931)","v":0}]
[null,921,null,null,{"$f":"IF(ISNUMBER($D$6),D932*$D$6,#REF!*D932)","v":0}]
[null,922,null,null,{"$f":"IF(ISNUMBER($D$6),D933*$D$6,#REF!*D933)","v":0}]
[null,923,null,null,{"$f":"IF(ISNUMBER($D$6),D934*$D$6,#REF!*D934)","v":0}]
[null,924,null,null,{"$f":"IF(ISNUMBER($D$6),D935*$D$6,#REF!*D935)","v":0}]
[null,925,null,null,{"$f":"IF(ISNUMBER($D$6),D936*$D$6,#REF!*D936)","v":0}]
[null,926,null,null,{"$f":"IF(ISNUMBER($D$6),D937*$D$6,#REF!*D937)","v":0}]
[null,927,null,null,{"$f":"IF(ISNUMBER($D$6),D938*$D$6,#REF!*D938)","v":0}]
[null,928,null,null,{"$f":"IF(ISNUMBER($D$6),D939*$D$6,#REF!*D939)","v":0}]
[null,929,null,null,{"$f":"IF(ISNUMBER($D$6),D940*$D$6,#REF!*D940)","v":0}]
[null,930,null,null,{"$f":"IF(ISNUMBER($D$6),D941*$D$6,#REF!*D941)","v":0}]
[null,931,null,null,{"$f":"IF(ISNUMBER($D$6),D942*$D$6,#REF!*D942)","v":0}]
[null,932,null,null,{"$f":"IF(ISNUMBER($D$6),D943*$D$6,#REF!*D943)","v":0}]
[null,933,null,null,{"$f":"IF(ISNUMBER($D$6),D944*$D$6,#REF!*D944)","v":0}]
[null,934,null,null,{"$f":"IF(ISNUMBER($D$6),D945*$D$6,#REF!*D945)","v":0}]
[null,935,null,null,{"$f":"IF(ISNUMBER($D$6),D946*$D$6,#REF!*D946)","v":0}]
[null,936,null,null,{"$f":"IF(ISNUMBER($D$6),D947*$D$6,#REF!*D947)","v":0}]
[null,937,null,null,{"$f":"IF(ISNUMBER($D$6),D948*$D$6,#REF!*D948)","v":0}]
[null,938,null,null,{"$f":"IF(ISNUMBER($D$6),D949*$D$6,#REF!*D949)","v":0}]
[null,939,null,null,{"$f":"IF(ISNUMBER($D$6),D950*$D$6,#REF!*D950)","v":0}]
[null,940,null,null,{"$f":"IF(ISNUMBER($D$6),D951*$D$6,#REF!*D951)","v":0}]
[null,941,null,null,{"$f":"IF(ISNUMBER($D$6),D952*$D$6,#REF!*D952)","v":0}]
[null,942,null,null,{"$f":"IF(ISNUMBER($D$6),D953*$D$6,#REF!*D953)","v":0}]
[null,943,null,null,{"$f":"IF(ISNUMBER($D$6),D954*$D$6,#REF!*D954)","v":0}]
[null,944,null,null,{"$f":"IF(ISNUMBER($D$6),D955*$D$6,#REF!*D955)","v":0}]
[null,945,null,null,{"$f":"IF(ISNUMBER($D$6),D956*$D$6,#REF!*D956)","v":0}]
[null,946,null,null,{"$f":"IF(ISNUMBER($D$6),D957*$D$6,#REF!*D957)","v":0}]
[null,947,null,null,{"$f":"IF(ISNUMBER($D$6),D958*$D$6,#REF!*D958)","v":0}]
[null,948,null,null,{"$f":"IF(ISNUMBER($D$6),D959*$D$6,#REF!*D959)","v":0}]
[null,949,null,null,{"$f":"IF(ISNUMBER($D$6),D960*$D$6,#REF!*D960)","v":0}]
[null,950,null,null,{"$f":"IF(ISNUMBER($D$6),D961*$D$6,#REF!*D961)","v":0}]
[null,951,null,null,{"$f":"IF(ISNUMBER($D$6),D962*$D$6,#REF!*D962)","v":0}]
[null,952,null,null,{"$f":"IF(ISNUMBER($D$6),D963*$D$6,#REF!*D963)","v":0}]
[null,953,null,null,{"$f":"IF(ISNUMBER($D$6),D964*$D$6,#REF!*D964)","v":0}]
[null,954,null,null,{"$f":"IF(ISNUMBER($D$6),D965*$D$6,#REF!*D965)","v":0}]
[null,955,null,null,{"$f":"IF(ISNUMBER($D$6),D966*$D$6,#REF!*D966)","v":0}]
[null,956,null,null,{"$f":"IF(ISNUMBER($D$6),D967*$D$6,#REF!*D967)","v":0}]
[null,957,null,null,{"$f":"IF(ISNUMBER($D$6),D968*$D$6,#REF!*D968)","v":0}]
[null,958,null,null,{"$f":"IF(ISNUMBER($D$6),D969*$D$6,#REF!*D969)","v":0}]
[null,959,null,null,{"$f":"IF(ISNUMBER($D$6),D970*$D$6,#REF!*D970)","v":0}]
[null,960,null,null,{"$f":"IF(ISNUMBER($D$6),D971*$D$6,#REF!*D971)","v":0}]
[null,961,null,null,{"$f":"IF(ISNUMBER($D$6),D972*$D$6,#REF!*D972)","v":0}]
[null,962,null,null,{"$f":"IF(ISNUMBER($D$6),D973*$D$6,#REF!*D973)","v":0}]
[null,963,null,null,{"$f":"IF(ISNUMBER($D$6),D974*$D$6,#REF!*D974)","v":0}]
[null,964,null,null,{"$f":"IF(ISNUMBER($D$6),D975*$D$6,#REF!*D975)","v":0}]
[null,965,null,null,{"$f":"IF(ISNUMBER($D$6),D976*$D$6,#REF!*D976)","v":0}]
[null,966,null,null,{"$f":"IF(ISNUMBER($D$6),D977*$D$6,#REF!*D977)","v":0}]
[null,967,null,null,{"$f":"IF(ISNUMBER($D$6),D978*$D$6,#REF!*D978)","v":0}]
[null,968,null,null,{"$f":"IF(ISNUMBER($D$6),D979*$D$6,#REF!*D979)","v":0}]
[null,{"$f":"+B979+1","v":969},null,null,{"$f":"IF(ISNUMBER($D$6),D980*$D$6,#REF!*D980)","v":0}]
[null,970,null,null,{"$f":"IF(ISNUMBER($D$6),D981*$D$6,#REF!*D981)","v":0}]
[null,971,null,null,{"$f":"IF(ISNUMBER($D$6),D982*$D$6,#REF!*D982)","v":0}]
[null,972,null,null,{"$f":"IF(ISNUMBER($D$6),D983*$D$6,#REF!*D983)","v":0}]
[null,973,null,null,{"$f":"IF(ISNUMBER($D$6),D984*$D$6,#REF!*D984)","v":0}]
[null,974,null,null,{"$f":"IF(ISNUMBER($D$6),D985*$D$6,#REF!*D985)","v":0}]
[null,975,null,null,{"$f":"IF(ISNUMBER($D$6),D986*$D$6,#REF!*D986)","v":0}]
[null,976,null,null,{"$f":"IF(ISNUMBER($D$6),D987*$D$6,#REF!*D987)","v":0}]
[null,977,null,null,{"$f":"IF(ISNUMBER($D$6),D988*$D$6,#REF!*D988)","v":0}]
[null,978,null,null,{"$f":"IF(ISNUMBER($D$6),D989*$D$6,#REF!*D989)","v":0}]
[null,979,null,null,{"$f":"IF(ISNUMBER($D$6),D990*$D$6,#REF!*D990)","v":0}]
[null,980,null,null,{"$f":"IF(ISNUMBER($D$6),D991*$D$6,#REF!*D991)","v":0}]
[null,981,null,null,{"$f":"IF(ISNUMBER($D$6),D992*$D$6,#REF!*D992)","v":0}]
[null,982,null,null,{"$f":"IF(ISNUMBER($D$6),D993*$D$6,#REF!*D993)","v":0}]
[null,983,null,null,{"$f":"IF(ISNUMBER($D$6),D994*$D$6,#REF!*D994)","v":0}]
[null,984,null,null,{"$f":"IF(ISNUMBER($D$6),D995*$D$6,#REF!*D995)","v":0}]
[null,985,null,null,{"$f":"IF(ISNUMBER($D$6),D996*$D$6,#REF!*D996)","v":0}]
[null,986,null,null,{"$f":"IF(ISNUMBER($D$6),D997*$D$6,#REF!*D997)","v":0}]
[null,987,null,null,{"$f":"IF(ISNUMBER($D$6),D998*$D$6,#REF!*D998)","v":0}]
[null,988,null,null,{"$f":"IF(ISNUMBER($D$6),D999*$D$6,#REF!*D999)","v":0}]
[null,989,null,null,{"$f":"IF(ISNUMBER($D$6),D1000*$D$6,#REF!*D1000)","v":0}]
[null,990,null,null,{"$f":"IF(ISNUMBER($D$6),D1001*$D$6,#REF!*D1001)","v":0}]
[null,991,null,null,{"$f":"IF(ISNUMBER($D$6),D1002*$D$6,#REF!*D1002)","v":0}]
[null,992,null,null,{"$f":"IF(ISNUMBER($D$6),D1003*$D$6,#REF!*D1003)","v":0}]
[null,993,null,null,{"$f":"IF(ISNUMBER($D$6),D1004*$D$6,#REF!*D1004)","v":0}]
[null,994,null,null,{"$f":"IF(ISNUMBER($D$6),D1005*$D$6,#REF!*D1005)","v":0}]
[null,995,null,null,{"$f":"IF(ISNUMBER($D$6),D1006*$D$6,#REF!*D1006)","v":0}]
[null,996,null,null,{"$f":"IF(ISNUMBER($D$6),D1007*$D$6,#REF!*D1007)","v":0}]
[null,997,null,null,{"$f":"IF(ISNUMBER($D$6),D1008*$D$6,#REF!*D1008)","v":0}]
[null,998,null,null,{"$f":"IF(ISNUMBER($D$6),D1009*$D$6,#REF!*D1009)","v":0}]
[null,999,null,null,{"$f":"IF(ISNUMBER($D$6),D1010*$D$6,#REF!*D1010)","v":0}]
[null,1000,null,null,{"$f":"IF(ISNUMBER($D$6),D1011*$D$6,#REF!*D1011)","v":0}]

{"sheet":"Pontos de Monitorização5","index":8,"n_rows":1011,"n_cols":5,"rows_kept":1011,"cut":false,"hidden":true,"merged":[[1,1,2,4],[4,1,4,2],[5,1,5,2],[7,1,7,2]]}
[]
[null,"SISTEMAS DE QUANTIFICAÇÃO, MONITORIZAÇÃO CONTÍNUA E GESTÃO DE ENERGIA"]
[]
[]
[null,"Identifique a fonte de energia:",null,{"$f":"+Economias!E63","v":0},"(t)"]
[null,"Fator de conversão:",null,{"$f":"+Economias!E66","v":0},{"$f":"\"tep/\"&$E$5&\"\"","v":"tep/(t)"}]
[]
[null,"Indique o número total de pontos a monitorizar:"]
[]
[]
[null,"número do ponto de monitorização","Identificação do ponto de monitorização",{"$f":"IF(D5=\"Energia elétrica\",\"Utilização anual de \"&$D$5&\" (kWh/ano)\",\"Utilização anual de \"&$D$5&\" (t/ano)\")","v":"Utilização anual de 0 (t/ano)"},"Consumo energético referente ao ano de referência (tep/ano)"]
[null,1,null,null,{"$f":"IF(ISNUMBER($D$6),D12*$D$6,#REF!*D12)","v":0}]
[null,{"$f":"+B12+1","v":2},null,null,{"$f":"IF(ISNUMBER($D$6),D13*$D$6,#REF!*D13)","v":0}]
[null,{"$f":"+B13+1","v":3},null,null,{"$f":"IF(ISNUMBER($D$6),D14*$D$6,#REF!*D14)","v":0}]
[null,4,null,null,{"$f":"IF(ISNUMBER($D$6),D15*$D$6,#REF!*D15)","v":0}]
[null,5,null,null,{"$f":"IF(ISNUMBER($D$6),D16*$D$6,#REF!*D16)","v":0}]
[null,6,null,null,{"$f":"IF(ISNUMBER($D$6),D17*$D$6,#REF!*D17)","v":0}]
[null,7,null,null,{"$f":"IF(ISNUMBER($D$6),D18*$D$6,#REF!*D18)","v":0}]
[null,8,null,null,{"$f":"IF(ISNUMBER($D$6),D19*$D$6,#REF!*D19)","v":0}]
[null,9,null,null,{"$f":"IF(ISNUMBER($D$6),D20*$D$6,#REF!*D20)","v":0}]
[null,10,null,null,{"$f":"IF(ISNUMBER($D$6),D21*$D$6,#REF!*D21)","v":0}]
[null,11,null,null,{"$f":"IF(ISNUMBER($D$6),D22*$D$6,#REF!*D22)","v":0}]
[null,12,null,null,{"$f":"IF(ISNUMBER($D$6),D23*$D$6,#REF!*D23)","v":0}]
[null,13,null,null,{"$f":"IF(ISNUMBER($D$6),D24*$D$6,#REF!*D24)","v":0}]
[null,14,null,null,{"$f":"IF(ISNUMBER($D$6),D25*$D$6,#REF!*D25)","v":0}]
[null,15,null,null,{"$f":"IF(ISNUMBER($D$6),D26*$D$6,#REF!*D26)","v":0}]
[null,16,null,null,{"$f":"IF(ISNUMBER($D$6),D27*$D$6,#REF!*D27)","v":0}]
[null,17,null,null,{"$f":"IF(ISNUMBER($D$6),D28*$D$6,#REF!*D28)","v":0}]
[null,18,null,null,{"$f":"IF(ISNUMBER($D$6),D29*$D$6,#REF!*D29)","v":0}]
[null,19,null,null,{"$f":"IF(ISNUMBER($D$6),D30*$D$6,#REF!*D30)","v":0}]
[null,20,null,null,{"$f":"IF(ISNUMBER($D$6),D31*$D$6,#REF!*D31)","v":0}]
[null,21,null,null,{"$f":"IF(ISNUMBER($D$6),D32*$D$6,#REF!*D32)","v":0}]
[null,22,null,null,{"$f":"IF(ISNUMBER($D$6),D33*$D$6,#REF!*D33)","v":0}]
[null,23,null,null,{"$f":"IF(ISNUMBER($D$6),D34*$D$6,#REF!*D34)","v":0}]
[null,24,null,null,{"$f":"IF(ISNUMBER($D$6),D35*$D$6,#REF!*D35)","v":0}]
[null,25,null,null,{"$f":"IF(ISNUMBER($D$6),D36*$D$6,#REF!*D36)","v":0}]
[null,26,null,null,{"$f":"IF(ISNUMBER($D$6),D37*$D$6,#REF!*D37)","v":0}]
[null,27,null,null,{"$f":"IF(ISNUMBER($D$6),D38*$D$6,#REF!*D38)","v":0}]
[null,28,null,null,{"$f":"IF(ISNUMBER($D$6),D39*$D$6,#REF!*D39)","v":0}]
[null,29,null,null,{"$f":"IF(ISNUMBER($D$6),D40*$D$6,#REF!*D40)","v":0}]
[null,30,null,null,{"$f":"IF(ISNUMBER($D$6),D41*$D$6,#REF!*D41)","v":0}]
[null,31,null,null,{"$f":"IF(ISNUMBER($D$6),D42*$D$6,#REF!*D42)","v":0}]
[null,32,null,null,{"$f":"IF(ISNUMBER($D$6),D43*$D$6,#REF!*D43)","v":0}]
[null,33,null,null,{"$f":"IF(ISNUMBER($D$6),D44*$D$6,#REF!*D44)","v":0}]
[null,34,null,null,{"$f":"IF(ISNUMBER($D$6),D45*$D$6,#REF!*D45)","v":0}]
[null,35,null,null,{"$f":"IF(ISNUMBER($D$6),D46*$D$6,#REF!*D46)","v":0}]
[null,36,null,null,{"$f":"IF(ISNUMBER($D$6),D47*$D$6,#REF!*D47)","v":0}]
[null,37,null,null,{"$f":"IF(ISNUMBER($D$6),D48*$D$6,#REF!*D48)","v":0}]
[null,38,null,null,{"$f":"IF(ISNUMBER($D$6),D49*$D$6,#REF!*D49)","v":0}]
[null,39,null,null,{"$f":"IF(ISNUMBER($D$6),D50*$D$6,#REF!*D50)","v":0}]
[null,40,null,null,{"$f":"IF(ISNUMBER($D$6),D51*$D$6,#REF!*D51)","v":0}]
[null,41,null,null,{"$f":"IF(ISNUMBER($D$6),D52*$D$6,#REF!*D52)","v":0}]
[null,42,null,null,{"$f":"IF(ISNUMBER($D$6),D53*$D$6,#REF!*D53)","v":0}]
[null,43,null,null,{"$f":"IF(ISNUMBER($D$6),D54*$D$6,#REF!*D54)","v":0}]
[null,44,null,null,{"$f":"IF(ISNUMBER($D$6),D55*$D$6,#REF!*D55)","v":0}]
[null,45,null,null,{"$f":"IF(ISNUMBER($D$6),D56*$D$6,#REF!*D56)","v":0}]
[null,46,null,null,{"$f":"IF(ISNUMBER($D$6),D57*$D$6,#REF!*D57)","v":0}]
[null,47,null,null,{"$f":"IF(ISNUMBER($D$6),D58*$D$6,#REF!*D58)","v":0}]
[null,48,null,null,{"$f":"IF(ISNUMBER($D$6),D59*$D$6,#REF!*D59)","v":0}]
[null,49,null,null,{"$f":"IF(ISNUMBER($D$6),D60*$D$6,#REF!*D60)","v":0}]
[null,50,null,null,{"$f":"IF(ISNUMBER($D$6),D61*$D$6,#REF!*D61)","v":0}]
[null,51,null,null,{"$f":"IF(ISNUMBER($D$6),D62*$D$6,#REF!*D62)","v":0}]
[null,52,null,null,{"$f":"IF(ISNUMBER($D$6),D63*$D$6,#REF!*D63)","v":0}]
[null,53,null,null,{"$f":"IF(ISNUMBER($D$6),D64*$D$6,#REF!*D64)","v":0}]
[null,54,null,null,{"$f":"IF(ISNUMBER($D$6),D65*$D$6,#REF!*D65)","v":0}]
[null,55,null,null,{"$f":"IF(ISNUMBER($D$6),D66*$D$6,#REF!*D66)","v":0}]
[null,56,null,null,{"$f":"IF(ISNUMBER($D$6),D67*$D$6,#REF!*D67)","v":0}]
[null,57,null,null,{"$f":"IF(ISNUMBER($D$6),D68*$D$6,#REF!*D68)","v":0}]
[null,58,null,null,{"$f":"IF(ISNUMBER($D$6),D69*$D$6,#REF!*D69)","v":0}]
[null,59,null,null,{"$f":"IF(ISNUMBER($D$6),D70*$D$6,#REF!*D70)","v":0}]
[null,60,null,null,{"$f":"IF(ISNUMBER($D$6),D71*$D$6,#REF!*D71)","v":0}]
[null,61,null,null,{"$f":"IF(ISNUMBER($D$6),D72*$D$6,#REF!*D72)","v":0}]
[null,62,null,null,{"$f":"IF(ISNUMBER($D$6),D73*$D$6,#REF!*D73)","v":0}]
[null,63,null,null,{"$f":"IF(ISNUMBER($D$6),D74*$D$6,#REF!*D74)","v":0}]
[null,64,null,null,{"$f":"IF(ISNUMBER($D$6),D75*$D$6,#REF!*D75)","v":0}]
[null,65,null,null,{"$f":"IF(ISNUMBER($D$6),D76*$D$6,#REF!*D76)","v":0}]
[null,66,null,null,{"$f":"IF(ISNUMBER($D$6),D77*$D$6,#REF!*D77)","v":0}]
[null,{"$f":"+B77+1","v":67},null,null,{"$f":"IF(ISNUMBER($D$6),D78*$D$6,#REF!*D78)","v":0}]
[null,68,null,null,{"$f":"IF(ISNUMBER($D$6),D79*$D$6,#REF!*D79)","v":0}]
[null,69,null,null,{"$f":"IF(ISNUMBER($D$6),D80*$D$6,#REF!*D80)","v":0}]
[null,70,null,null,{"$f":"IF(ISNUMBER($D$6),D81*$D$6,#REF!*D81)","v":0}]
[null,71,null,null,{"$f":"IF(ISNUMBER($D$6),D82*$D$6,#REF!*D82)","v":0}]
[null,72,null,null,{"$f":"IF(ISNUMBER($D$6),D83*$D$6,#REF!*D83)","v":0}]
[null,73,null,null,{"$f":"IF(ISNUMBER($D$6),D84*$D$6,#REF!*D84)","v":0}]
[null,74,null,null,{"$f":"IF(ISNUMBER($D$6),D85*$D$6,#REF!*D85)","v":0}]
[null,75,null,null,{"$f":"IF(ISNUMBER($D$6),D86*$D$6,#REF!*D86)","v":0}]
[null,76,null,null,{"$f":"IF(ISNUMBER($D$6),D87*$D$6,#REF!*D87)","v":0}]
[null,77,null,null,{"$f":"IF(ISNUMBER($D$6),D88*$D$6,#REF!*D88)","v":0}]
[null,78,null,null,{"$f":"IF(ISNUMBER($D$6),D89*$D$6,#REF!*D89)","v":0}]
[null,79,null,null,{"$f":"IF(ISNUMBER($D$6),D90*$D$6,#REF!*D90)","v":0}]
[null,80,null,null,{"$f":"IF(ISNUMBER($D$6),D91*$D$6,#REF!*D91)","v":0}]
[null,81,null,null,{"$f":"IF(ISNUMBER($D$6),D92*$D$6,#REF!*D92)","v":0}]
[null,82,null,null,{"$f":"IF(ISNUMBER($D$6),D93*$D$6,#REF!*D93)","v":0}]
[null,83,null,null,{"$f":"IF(ISNUMBER($D$6),D94*$D$6,#REF!*D94)","v":0}]
[null,84,null,null,{"$f":"IF(ISNUMBER($D$6),D95*$D$6,#REF!*D95)","v":0}]
[null,85,null,null,{"$f":"IF(ISNUMBER($D$6),D96*$D$6,#REF!*D96)","v":0}]
[null,86,null,null,{"$f":"IF(ISNUMBER($D$6),D97*$D$6,#REF!*D97)","v":0}]
[null,87,null,null,{"$f":"IF(ISNUMBER($D$6),D98*$D$6,#REF!*D98)","v":0}]
[null,88,null,null,{"$f":"IF(ISNUMBER($D$6),D99*$D$6,#REF!*D99)","v":0}]
[null,89,null,null,{"$f":"IF(ISNUMBER($D$6),D100*$D$6,#REF!*D100)","v":0}]
[null,90,null,null,{"$f":"IF(ISNUMBER($D$6),D101*$D$6,#REF!*D101)","v":0}]
[null,91,null,null,{"$f":"IF(ISNUMBER($D$6),D102*$D$6,#REF!*D102)","v":0}]
[null,92,null,null,{"$f":"IF(ISNUMBER($D$6),D103*$D$6,#REF!*D103)","v":0}]
[null,93,null,null,{"$f":"IF(ISNUMBER($D$6),D104*$D$6,#REF!*D104)","v":0}]
[null,94,null,null,{"$f":"IF(ISNUMBER($D$6),D105*$D$6,#REF!*D105)","v":0}]
[null,95,null,null,{"$f":"IF(ISNUMBER($D$6),D106*$D$6,#REF!*D106)","v":0}]
[null,96,null,null,{"$f":"IF(ISNUMBER($D$6),D107*$D$6,#REF!*D107)","v":0}]
[null,97,null,null,{"$f":"IF(ISNUMBER($D$6),D108*$D$6,#REF!*D108)","v":0}]
[null,98,null,null,{"$f":"IF(ISNUMBER($D$6),D109*$D$6,#REF!*D109)","v":0}]
[null,99,null,null,{"$f":"IF(ISNUMBER($D$6),D110*$D$6,#REF!*D110)","v":0}]
[null,100,null,null,{"$f":"IF(ISNUMBER($D$6),D111*$D$6,#REF!*D111)","v":0}]
[null,101,null,null,{"$f":"IF(ISNUMBER($D$6),D112*$D$6,#REF!*D112)","v":0}]
[null,102,null,null,{"$f":"IF(ISNUMBER($D$6),D113*$D$6,#REF!*D113)","v":0}]
[null,103,null,null,{"$f":"IF(ISNUMBER($D$6),D114*$D$6,#REF!*D114)","v":0}]
[null,104,null,null,{"$f":"IF(ISNUMBER($D$6),D115*$D$6,#REF!*D115)","v":0}]
[null,105,null,null,{"$f":"IF(ISNUMBER($D$6),D116*$D$6,#REF!*D116)","v":0}]
[null,106,null,null,{"$f":"IF(ISNUMBER($D$6),D117*$D$6,#REF!*D117)","v":0}]
[null,107,null,null,{"$f":"IF(ISNUMBER($D$6),D118*$D$6,#REF!*D118)","v":0}]
[null,108,null,null,{"$f":"IF(ISNUMBER($D$6),D119*$D$6,#REF!*D119)","v":0}]
[null,109,null,null,{"$f":"IF(ISNUMBER($D$6),D120*$D$6,#REF!*D120)","v":0}]
[null,110,null,null,{"$f":"IF(ISNUMBER($D$6),D121*$D$6,#REF!*D121)","v":0}]
[null,111,null,null,{"$f":"IF(ISNUMBER($D$6),D122*$D$6,#REF!*D122)","v":0}]
[null,112,null,null,{"$f":"IF(ISNUMBER($D$6),D123*$D$6,#REF!*D123)","v":0}]
[null,113,null,null,{"$f":"IF(ISNUMBER($D$6),D124*$D$6,#REF!*D124)","v":0}]
[null,114,null,null,{"$f":"IF(ISNUMBER($D$6),D125*$D$6,#REF!*D125)","v":0}]
[null,115,null,null,{"$f":"IF(ISNUMBER($D$6),D126*$D$6,#REF!*D126)","v":0}]
[null,116,null,null,{"$f":"IF(ISNUMBER($D$6),D127*$D$6,#REF!*D127)","v":0}]
[null,117,null,null,{"$f":"IF(ISNUMBER($D$6),D128*$D$6,#REF!*D128)","v":0}]
[null,118,null,null,{"$f":"IF(ISNUMBER($D$6),D129*$D$6,#REF!*D129)","v":0}]
[null,119,null,null,{"$f":"IF(ISNUMBER($D$6),D130*$D$6,#REF!*D130)","v":0}]
[null,120,null,null,{"$f":"IF(ISNUMBER($D$6),D131*$D$6,#REF!*D131)","v":0}]
[null,121,null,null,{"$f":"IF(ISNUMBER($D$6),D132*$D$6,#REF!*D132)","v":0}]
[null,122,null,null,{"$f":"IF(ISNUMBER($D$6),D133*$D$6,#REF!*D133)","v":0}]
[null,123,null,null,{"$f":"IF(ISNUMBER($D$6),D134*$D$6,#REF!*D134)","v":0}]
[null,124,null,null,{"$f":"IF(ISNUMBER($D$6),D135*$D$6,#REF!*D135)","v":0}]
[null,125,null,null,{"$f":"IF(ISNUMBER($D$6),D136*$D$6,#REF!*D136)","v":0}]
[null,126,null,null,{"$f":"IF(ISNUMBER($D$6),D137*$D$6,#REF!*D137)","v":0}]
[null,127,null,null,{"$f":"IF(ISNUMBER($D$6),D138*$D$6,#REF!*D138)","v":0}]
[null,128,null,null,{"$f":"IF(ISNUMBER($D$6),D139*$D$6,#REF!*D139)","v":0}]
[null,129,null,null,{"$f":"IF(ISNUMBER($D$6),D140*$D$6,#REF!*D140)","v":0}]
[null,130,null,null,{"$f":"IF(ISNUMBER($D$6),D141*$D$6,#REF!*D141)","v":0}]
[null,{"$f":"+B141+1","v":131},null,null,{"$f":"IF(ISNUMBER($D$6),D142*$D$6,#REF!*D142)","v":0}]
[null,132,null,null,{"$f":"IF(ISNUMBER($D$6),D143*$D$6,#REF!*D143)","v":0}]
[null,133,null,null,{"$f":"IF(ISNUMBER($D$6),D144*$D$6,#REF!*D144)","v":0}]
[null,134,null,null,{"$f":"IF(ISNUMBER($D$6),D145*$D$6,#REF!*D145)","v":0}]
[null,135,null,null,{"$f":"IF(ISNUMBER($D$6),D146*$D$6,#REF!*D146)","v":0}]
[null,136,null,null,{"$f":"IF(ISNUMBER($D$6),D147*$D$6,#REF!*D147)","v":0}]
[null,137,null,null,{"$f":"IF(ISNUMBER($D$6),D148*$D$6,#REF!*D148)","v":0}]
[null,138,null,null,{"$f":"IF(ISNUMBER($D$6),D149*$D$6,#REF!*D149)","v":0}]
[null,139,null,null,{"$f":"IF(ISNUMBER($D$6),D150*$D$6,#REF!*D150)","v":0}]
[null,140,null,null,{"$f":"IF(ISNUMBER($D$6),D151*$D$6,#REF!*D151)","v":0}]
[null,141,null,null,{"$f":"IF(ISNUMBER($D$6),D152*$D$6,#REF!*D152)","v":0}]
[null,142,null,null,{"$f":"IF(ISNUMBER($D$6),D153*$D$6,#REF!*D153)","v":0}]
[null,143,null,null,{"$f":"IF(ISNUMBER($D$6),D154*$D$6,#REF!*D154)","v":0}]
[null,144,null,null,{"$f":"IF(ISNUMBER($D$6),D155*$D$6,#REF!*D155)","v":0}]
[null,145,null,null,{"$f":"IF(ISNUMBER($D$6),D156*$D$6,#REF!*D156)","v":0}]
[null,146,null,null,{"$f":"IF(ISNUMBER($D$6),D157*$D$6,#REF!*D157)","v":0}]
[null,147,null,null,{"$f":"IF(ISNUMBER($D$6),D158*$D$6,#REF!*D158)","v":0}]
[null,148,null,null,{"$f":"IF(ISNUMBER($D$6),D159*$D$6,#REF!*D159)","v":0}]
[null,149,null,null,{"$f":"IF(ISNUMBER($D$6),D160*$D$6,#REF!*D160)","v":0}]
[null,150,null,null,{"$f":"IF(ISNUMBER($D$6),D161*$D$6,#REF!*D161)","v":0}]
[null,151,null,null,{"$f":"IF(ISNUMBER($D$6),D162*$D$6,#REF!*D162)","v":0}]
[null,152,null,null,{"$f":"IF(ISNUMBER($D$6),D163*$D$6,#REF!*D163)","v":0}]
[null,153,null,null,{"$f":"IF(ISNUMBER($D$6),D164*$D$6,#REF!*D164)","v":0}]
[null,154,null,null,{"$f":"IF(ISNUMBER($D$6),D165*$D$6,#REF!*D165)","v":0}]
[null,155,null,null,{"$f":"IF(ISNUMBER($D$6),D166*$D$6,#REF!*D166)","v":0}]
[null,156,null,null,{"$f":"IF(ISNUMBER($D$6),D167*$D$6,#REF!*D167)","v":0}]
[null,157,null,null,{"$f":"IF(ISNUMBER($D$6),D168*$D$6,#REF!*D168)","v":0}]
[null,158,null,null,{"$f":"IF(ISNUMBER($D$6),D169*$D$6,#REF!*D169)","v":0}]
[null,159,null,null,{"$f":"IF(ISNUMBER($D$6),D170*$D$6,#REF!*D170)","v":0}]
[null,160,null,null,{"$f":"IF(ISNUMBER($D$6),D171*$D$6,#REF!*D171)","v":0}]
[null,161,null,null,{"$f":"IF(ISNUMBER($D$6),D172*$D$6,#REF!*D172)","v":0}]
[null,162,null,null,{"$f":"IF(ISNUMBER($D$6),D173*$D$6,#REF!*D173)","v":0}]
[null,163,null,null,{"$f":"IF(ISNUMBER($D$6),D174*$D$6,#REF!*D174)","v":0}]
[null,164,null,null,{"$f":"IF(ISNUMBER($D$6),D175*$D$6,#REF!*D175)","v":0}]
[null,165,null,null,{"$f":"IF(ISNUMBER($D$6),D176*$D$6,#REF!*D176)","v":0}]
[null,166,null,null,{"$f":"IF(ISNUMBER($D$6),D177*$D$6,#REF!*D177)","v":0}]
[null,167,null,null,{"$f":"IF(ISNUMBER($D$6),D178*$D$6,#REF!*D178)","v":0}]
[null,168,null,null,{"$f":"IF(ISNUMBER($D$6),D179*$D$6,#REF!*D179)","v":0}]
[null,169,null,null,{"$f":"IF(ISNUMBER($D$6),D180*$D$6,#REF!*D180)","v":0}]
[null,170,null,null,{"$f":"IF(ISNUMBER($D$6),D181*$D$6,#REF!*D181)","v":0}]
[null,171,null,null,{"$f":"IF(ISNUMBER($D$6),D182*$D$6,#REF!*D182)","v":0}]
[null,172,null,null,{"$f":"IF(ISNUMBER($D$6),D183*$D$6,#REF!*D183)","v":0}]
[null,173,null,null,{"$f":"IF(ISNUMBER($D$6),D184*$D$6,#REF!*D184)","v":0}]
[null,174,null,null,{"$f":"IF(ISNUMBER($D$6),D185*$D$6,#REF!*D185)","v":0}]
[null,175,null,null,{"$f":"IF(ISNUMBER($D$6),D186*$D$6,#REF!*D186)","v":0}]
[null,176,null,null,{"$f":"IF(ISNUMBER($D$6),D187*$D$6,#REF!*D187)","v":0}]
[null,177,null,null,{"$f":"IF(ISNUMBER($D$6),D188*$D$6,#REF!*D188)","v":0}]
[null,178,null,null,{"$f":"IF(ISNUMBER($D$6),D189*$D$6,#REF!*D189)","v":0}]
[null,179,null,null,{"$f":"IF(ISNUMBER($D$6),D190*$D$6,#REF!*D190)","v":0}]
[null,180,null,null,{"$f":"IF(ISNUMBER($D$6),D191*$D$6,#REF!*D191)","v":0}]
[null,181,null,null,{"$f":"IF(ISNUMBER($D$6),D192*$D$6,#REF!*D192)","v":0}]
[null,182,null,null,{"$f":"IF(ISNUMBER($D$6),D193*$D$6,#REF!*D193)","v":0}]
[null,183,null,null,{"$f":"IF(ISNUMBER($D$6),D194*$D$6,#REF!*D194)","v":0}]
[null,184,null,null,{"$f":"IF(ISNUMBER($D$6),D195*$D$6,#REF!*D195)","v":0}]
[null,185,null,null,{"$f":"IF(ISNUMBER($D$6),D196*$D$6,#REF!*D196)","v":0}]
[null,186,null,null,{"$f":"IF(ISNUMBER($D$6),D197*$D$6,#REF!*D197)","v":0}]
[null,187,null,null,{"$f":"IF(ISNUMBER($D$6),D198*$D$6,#REF!*D198)","v":0}]
[null,188,null,null,{"$f":"IF(ISNUMBER($D$6),D199*$D$6,#REF!*D199)","v":0}]
[null,189,null,null,{"$f":"IF(ISNUMBER($D$6),D200*$D$6,#REF!*D200)","v":0}]
[null,190,null,null,{"$f":"IF(ISNUMBER($D$6),D201*$D$6,#REF!*D201)","v":0}]
[null,191,null,null,{"$f":"IF(ISNUMBER($D$6),D202*$D$6,#REF!*D202)","v":0}]
[null,192,null,null,{"$f":"IF(ISNUMBER($D$6),D203*$D$6,#REF!*D203)","v":0}]
[null,193,null,null,{"$f":"IF(ISNUMBER($D$6),D204*$D$6,#REF!*D204)","v":0}]
[null,194,null,null,{"$f":"IF(ISNUMBER($D$6),D205*$D$6,#REF!*D205)","v":0}]
[null,{"$f":"+B205+1","v":195},null,null,{"$f":"IF(ISNUMBER($D$6),D206*$D$6,#REF!*D206)","v":0}]
[null,196,null,null,{"$f":"IF(ISNUMBER($D$6),D207*$D$6,#REF!*D207)","v":0}]
[null,197,null,null,{"$f":"IF(ISNUMBER($D$6),D208*$D$6,#REF!*D208)","v":0}]
[null,198,null,null,{"$f":"IF(ISNUMBER($D$6),D209*$D$6,#REF!*D209)","v":0}]
[null,199,null,null,{"$f":"IF(ISNUMBER($D$6),D210*$D$6,#REF!*D210)","v":0}]
[null,200,null,null,{"$f":"IF(ISNUMBER($D$6),D211*$D$6,#REF!*D211)","v":0}]
[null,201,null,null,{"$f":"IF(ISNUMBER($D$6),D212*$D$6,#REF!*D212)","v":0}]
[null,202,null,null,{"$f":"IF(ISNUMBER($D$6),D213*$D$6,#REF!*D213)","v":0}]
[null,203,null,null,{"$f":"IF(ISNUMBER($D$6),D214*$D$6,#REF!*D214)","v":0}]
[null,204,null,null,{"$f":"IF(ISNUMBER($D$6),D215*$D$6,#REF!*D215)","v":0}]
[null,205,null,null,{"$f":"IF(ISNUMBER($D$6),D216*$D$6,#REF!*D216)","v":0}]
[null,206,null,null,{"$f":"IF(ISNUMBER($D$6),D217*$D$6,#REF!*D217)","v":0}]
[null,207,null,null,{"$f":"IF(ISNUMBER($D$6),D218*$D$6,#REF!*D218)","v":0}]
[null,208,null,null,{"$f":"IF(ISNUMBER($D$6),D219*$D$6,#REF!*D219)","v":0}]
[null,209,null,null,{"$f":"IF(ISNUMBER($D$6),D220*$D$6,#REF!*D220)","v":0}]
[null,210,null,null,{"$f":"IF(ISNUMBER($D$6),D221*$D$6,#REF!*D221)","v":0}]
[null,211,null,null,{"$f":"IF(ISNUMBER($D$6),D222*$D$6,#REF!*D222)","v":0}]
[null,212,null,null,{"$f":"IF(ISNUMBER($D$6),D223*$D$6,#REF!*D223)","v":0}]
[null,213,null,null,{"$f":"IF(ISNUMBER($D$6),D224*$D$6,#REF!*D224)","v":0}]
[null,214,null,null,{"$f":"IF(ISNUMBER($D$6),D225*$D$6,#REF!*D225)","v":0}]
[null,215,null,null,{"$f":"IF(ISNUMBER($D$6),D226*$D$6,#REF!*D226)","v":0}]
[null,216,null,null,{"$f":"IF(ISNUMBER($D$6),D227*$D$6,#REF!*D227)","v":0}]
[null,217,null,null,{"$f":"IF(ISNUMBER($D$6),D228*$D$6,#REF!*D228)","v":0}]
[null,218,null,null,{"$f":"IF(ISNUMBER($D$6),D229*$D$6,#REF!*D229)","v":0}]
[null,219,null,null,{"$f":"IF(ISNUMBER($D$6),D230*$D$6,#REF!*D230)","v":0}]
[null,220,null,null,{"$f":"IF(ISNUMBER($D$6),D231*$D$6,#REF!*D231)","v":0}]
[null,221,null,null,{"$f":"IF(ISNUMBER($D$6),D232*$D$6,#REF!*D232)","v":0}]
[null,222,null,null,{"$f":"IF(ISNUMBER($D$6),D233*$D$6,#REF!*D233)","v":0}]
[null,223,null,null,{"$f":"IF(ISNUMBER($D$6),D234*$D$6,#REF!*D234)","v":0}]
[null,224,null,null,{"$f":"IF(ISNUMBER($D$6),D235*$D$6,#REF!*D235)","v":0}]
[null,225,null,null,{"$f":"IF(ISNUMBER($D$6),D236*$D$6,#REF!*D236)","v":0}]
[null,226,null,null,{"$f":"IF(ISNUMBER($D$6),D237*$D$6,#REF!*D237)","v":0}]
[null,227,null,null,{"$f":"IF(ISNUMBER($D$6),D238*$D$6,#REF!*D238)","v":0}]
[null,228,null,null,{"$f":"IF(ISNUMBER($D$6),D239*$D$6,#REF!*D239)","v":0}]
[null,229,null,null,{"$f":"IF(ISNUMBER($D$6),D240*$D$6,#REF!*D240)","v":0}]
[null,230,null,null,{"$f":"IF(ISNUMBER($D$6),D241*$D$6,#REF!*D241)","v":0}]
[null,231,null,null,{"$f":"IF(ISNUMBER($D$6),D242*$D$6,#REF!*D242)","v":0}]
[null,232,null,null,{"$f":"IF(ISNUMBER($D$6),D243*$D$6,#REF!*D243)","v":0}]
[null,233,null,null,{"$f":"IF(ISNUMBER($D$6),D244*$D$6,#REF!*D244)","v":0}]
[null,234,null,null,{"$f":"IF(ISNUMBER($D$6),D245*$D$6,#REF!*D245)","v":0}]
[null,235,null,null,{"$f":"IF(ISNUMBER($D$6),D246*$D$6,#REF!*D246)","v":0}]
[null,236,null,null,{"$f":"IF(ISNUMBER($D$6),D247*$D$6,#REF!*D247)","v":0}]
[null,237,null,null,{"$f":"IF(ISNUMBER($D$6),D248*$D$6,#REF!*D248)","v":0}]
[null,238,null,null,{"$f":"IF(ISNUMBER($D$6),D249*$D$6,#REF!*D249)","v":0}]
[null,239,null,null,{"$f":"IF(ISNUMBER($D$6),D250*$D$6,#REF!*D250)","v":0}]
[null,240,null,null,{"$f":"IF(ISNUMBER($D$6),D251*$D$6,#REF!*D251)","v":0}]
[null,241,null,null,{"$f":"IF(ISNUMBER($D$6),D252*$D$6,#REF!*D252)","v":0}]
[null,242,null,null,{"$f":"IF(ISNUMBER($D$6),D253*$D$6,#REF!*D253)","v":0}]
[null,243,null,null,{"$f":"IF(ISNUMBER($D$6),D254*$D$6,#REF!*D254)","v":0}]
[null,244,null,null,{"$f":"IF(ISNUMBER($D$6),D255*$D$6,#REF!*D255)","v":0}]
[null,245,null,null,{"$f":"IF(ISNUMBER($D$6),D256*$D$6,#REF!*D256)","v":0}]
[null,246,null,null,{"$f":"IF(ISNUMBER($D$6),D257*$D$6,#REF!*D257)","v":0}]
[null,247,null,null,{"$f":"IF(ISNUMBER($D$6),D258*$D$6,#REF!*D258)","v":0}]
[null,248,null,null,{"$f":"IF(ISNUMBER($D$6),D259*$D$6,#REF!*D259)","v":0}]
[null,249,null,null,{"$f":"IF(ISNUMBER($D$6),D260*$D$6,#REF!*D260)","v":0}]
[null,250,null,null,{"$f":"IF(ISNUMBER($D$6),D261*$D$6,#REF!*D261)","v":0}]
[null,251,null,null,{"$f":"IF(ISNUMBER($D$6),D262*$D$6,#REF!*D262)","v":0}]
[null,252,null,null,{"$f":"IF(ISNUMBER($D$6),D263*$D$6,#REF!*D263)","v":0}]
[null,253,null,null,{"$f":"IF(ISNUMBER($D$6),D264*$D$6,#REF!*D264)","v":0}]
[null,254,null,null,{"$f":"IF(ISNUMBER($D$6),D265*$D$6,#REF!*D265)","v":0}]
[null,255,null,null,{"$f":"IF(ISNUMBER($D$6),D266*$D$6,#REF!*D266)","v":0}]
[null,256,null,null,{"$f":"IF(ISNUMBER($D$6),D267*$D$6,#REF!*D267)","v":0}]
[null,257,null,null,{"$f":"IF(ISNUMBER($D$6),D268*$D$6,#REF!*D268)","v":0}]
[null,258,null,null,{"$f":"IF(ISNUMBER($D$6),D269*$D$6,#REF!*D269)","v":0}]
[null,{"$f":"+B269+1","v":259},null,null,{"$f":"IF(ISNUMBER($D$6),D270*$D$6,#REF!*D270)","v":0}]
[null,260,null,null,{"$f":"IF(ISNUMBER($D$6),D271*$D$6,#REF!*D271)","v":0}]
[null,261,null,null,{"$f":"IF(ISNUMBER($D$6),D272*$D$6,#REF!*D272)","v":0}]
[null,262,null,null,{"$f":"IF(ISNUMBER($D$6),D273*$D$6,#REF!*D273)","v":0}]
[null,263,null,null,{"$f":"IF(ISNUMBER($D$6),D274*$D$6,#REF!*D274)","v":0}]
[null,264,null,null,{"$f":"IF(ISNUMBER($D$6),D275*$D$6,#REF!*D275)","v":0}]
[null,265,null,null,{"$f":"IF(ISNUMBER($D$6),D276*$D$6,#REF!*D276)","v":0}]
[null,266,null,null,{"$f":"IF(ISNUMBER($D$6),D277*$D$6,#REF!*D277)","v":0}]
[null,267,null,null,{"$f":"IF(ISNUMBER($D$6),D278*$D$6,#REF!*D278)","v":0}]
[null,268,null,null,{"$f":"IF(ISNUMBER($D$6),D279*$D$6,#REF!*D279)","v":0}]
[null,269,null,null,{"$f":"IF(ISNUMBER($D$6),D280*$D$6,#REF!*D280)","v":0}]
[null,270,null,null,{"$f":"IF(ISNUMBER($D$6),D281*$D$6,#REF!*D281)","v":0}]
[null,271,null,null,{"$f":"IF(ISNUMBER($D$6),D282*$D$6,#REF!*D282)","v":0}]
[null,272,null,null,{"$f":"IF(ISNUMBER($D$6),D283*$D$6,#REF!*D283)","v":0}]
[null,273,null,null,{"$f":"IF(ISNUMBER($D$6),D284*$D$6,#REF!*D284)","v":0}]
[null,274,null,null,{"$f":"IF(ISNUMBER($D$6),D285*$D$6,#REF!*D285)","v":0}]
[null,275,null,null,{"$f":"IF(ISNUMBER($D$6),D286*$D$6,#REF!*D286)","v":0}]
[null,276,null,null,{"$f":"IF(ISNUMBER($D$6),D287*$D$6,#REF!*D287)","v":0}]
[null,277,null,null,{"$f":"IF(ISNUMBER($D$6),D288*$D$6,#REF!*D288)","v":0}]
[null,278,null,null,{"$f":"IF(ISNUMBER($D$6),D289*$D$6,#REF!*D289)","v":0}]
[null,279,null,null,{"$f":"IF(ISNUMBER($D$6),D290*$D$6,#REF!*D290)","v":0}]
[null,280,null,null,{"$f":"IF(ISNUMBER($D$6),D291*$D$6,#REF!*D291)","v":0}]
[null,281,null,null,{"$f":"IF(ISNUMBER($D$6),D292*$D$6,#REF!*D292)","v":0}]
[null,282,null,null,{"$f":"IF(ISNUMBER($D$6),D293*$D$6,#REF!*D293)","v":0}]
[null,283,null,null,{"$f":"IF(ISNUMBER($D$6),D294*$D$6,#REF!*D294)","v":0}]
[null,284,null,null,{"$f":"IF(ISNUMBER($D$6),D295*$D$6,#REF!*D295)","v":0}]
[null,285,null,null,{"$f":"IF(ISNUMBER($D$6),D296*$D$6,#REF!*D296)","v":0}]
[null,286,null,null,{"$f":"IF(ISNUMBER($D$6),D297*$D$6,#REF!*D297)","v":0}]
[null,287,null,null,{"$f":"IF(ISNUMBER($D$6),D298*$D$6,#REF!*D298)","v":0}]
[null,288,null,null,{"$f":"IF(ISNUMBER($D$6),D299*$D$6,#REF!*D299)","v":0}]
[null,289,null,null,{"$f":"IF(ISNUMBER($D$6),D300*$D$6,#REF!*D300)","v":0}]
[null,290,null,null,{"$f":"IF(ISNUMBER($D$6),D301*$D$6,#REF!*D301)","v":0}]
[null,291,null,null,{"$f":"IF(ISNUMBER($D$6),D302*$D$6,#REF!*D302)","v":0}]
[null,292,null,null,{"$f":"IF(ISNUMBER($D$6),D303*$D$6,#REF!*D303)","v":0}]
[null,293,null,null,{"$f":"IF(ISNUMBER($D$6),D304*$D$6,#REF!*D304)","v":0}]
[null,294,null,null,{"$f":"IF(ISNUMBER($D$6),D305*$D$6,#REF!*D305)","v":0}]
[null,295,null,null,{"$f":"IF(ISNUMBER($D$6),D306*$D$6,#REF!*D306)","v":0}]
[null,296,null,null,{"$f":"IF(ISNUMBER($D$6),D307*$D$6,#REF!*D307)","v":0}]
[null,297,null,null,{"$f":"IF(ISNUMBER($D$6),D308*$D$6,#REF!*D308)","v":0}]
[null,298,null,null,{"$f":"IF(ISNUMBER($D$6),D309*$D$6,#REF!*D309)","v":0}]
[null,299,null,null,{"$f":"IF(ISNUMBER($D$6),D310*$D$6,#REF!*D310)","v":0}]
[null,300,null,null,{"$f":"IF(ISNUMBER($D$6),D311*$D$6,#REF!*D311)","v":0}]
[null,301,null,null,{"$f":"IF(ISNUMBER($D$6),D312*$D$6,#REF!*D312)","v":0}]
[null,302,null,null,{"$f":"IF(ISNUMBER($D$6),D313*$D$6,#REF!*D313)","v":0}]
[null,303,null,null,{"$f":"IF(ISNUMBER($D$6),D314*$D$6,#REF!*D314)","v":0}]
[null,304,null,null,{"$f":"IF(ISNUMBER($D$6),D315*$D$6,#REF!*D315)","v":0}]
[null,305,null,null,{"$f":"IF(ISNUMBER($D$6),D316*$D$6,#REF!*D316)","v":0}]
[null,306,null,null,{"$f":"IF(ISNUMBER($D$6),D317*$D$6,#REF!*D317)","v":0}]
[null,307,null,null,{"$f":"IF(ISNUMBER($D$6),D318*$D$6,#REF!*D318)","v":0}]
[null,308,null,null,{"$f":"IF(ISNUMBER($D$6),D319*$D$6,#REF!*D319)","v":0}]
[null,309,null,null,{"$f":"IF(ISNUMBER($D$6),D320*$D$6,#REF!*D320)","v":0}]
[null,310,null,null,{"$f":"IF(ISNUMBER($D$6),D321*$D$6,#REF!*D321)","v":0}]
[null,311,null,null,{"$f":"IF(ISNUMBER($D$6),D322*$D$6,#REF!*D322)","v":0}]
[null,312,null,null,{"$f":"IF(ISNUMBER($D$6),D323*$D$6,#REF!*D323)","v":0}]
[null,313,null,null,{"$f":"IF(ISNUMBER($D$6),D324*$D$6,#REF!*D324)","v":0}]
[null,314,null,null,{"$f":"IF(ISNUMBER($D$6),D325*$D$6,#REF!*D325)","v":0}]
[null,315,null,null,{"$f":"IF(ISNUMBER($D$6),D326*$D$6,#REF!*D326)","v":0}]
[null,316,null,null,{"$f":"IF(ISNUMBER($D$6),D327*$D$6,#REF!*D327)","v":0}]
[null,317,null,null,{"$f":"IF(ISNUMBER($D$6),D328*$D$6,#REF!*D328)","v":0}]
[null,318,null,null,{"$f":"IF(ISNUMBER($D$6),D329*$D$6,#REF!*D329)","v":0}]
[null,319,null,null,{"$f":"IF(ISNUMBER($D$6),D330*$D$6,#REF!*D330)","v":0}]
[null,320,null,null,{"$f":"IF(ISNUMBER($D$6),D331*$D$6,#REF!*D331)","v":0}]
[null,321,null,null,{"$f":"IF(ISNUMBER($D$6),D332*$D$6,#REF!*D332)","v":0}]
[null,322,null,null,{"$f":"IF(ISNUMBER($D$6),D333*$D$6,#REF!*D333)","v":0}]
[null,{"$f":"+B333+1","v":323},null,null,{"$f":"IF(ISNUMBER($D$6),D334*$D$6,#REF!*D334)","v":0}]
[null,324,null,null,{"$f":"IF(ISNUMBER($D$6),D335*$D$6,#REF!*D335)","v":0}]
[null,325,null,null,{"$f":"IF(ISNUMBER($D$6),D336*$D$6,#REF!*D336)","v":0}]
[null,326,null,null,{"$f":"IF(ISNUMBER($D$6),D337*$D$6,#REF!*D337)","v":0}]
[null,327,null,null,{"$f":"IF(ISNUMBER($D$6),D338*$D$6,#REF!*D338)","v":0}]
[null,328,null,null,{"$f":"IF(ISNUMBER($D$6),D339*$D$6,#REF!*D339)","v":0}]
[null,329,null,null,{"$f":"IF(ISNUMBER($D$6),D340*$D$6,#REF!*D340)","v":0}]
[null,330,null,null,{"$f":"IF(ISNUMBER($D$6),D341*$D$6,#REF!*D341)","v":0}]
[null,331,null,null,{"$f":"IF(ISNUMBER($D$6),D342*$D$6,#REF!*D342)","v":0}]
[null,332,null,null,{"$f":"IF(ISNUMBER($D$6),D343*$D$6,#REF!*D343)","v":0}]
[null,333,null,null,{"$f":"IF(ISNUMBER($D$6),D344*$D$6,#REF!*D344)","v":0}]
[null,334,null,null,{"$f":"IF(ISNUMBER($D$6),D345*$D$6,#REF!*D345)","v":0}]
[null,335,null,null,{"$f":"IF(ISNUMBER($D$6),D346*$D$6,#REF!*D346)","v":0}]
[null,336,null,null,{"$f":"IF(ISNUMBER($D$6),D347*$D$6,#REF!*D347)","v":0}]
[null,337,null,null,{"$f":"IF(ISNUMBER($D$6),D348*$D$6,#REF!*D348)","v":0}]
[null,338,null,null,{"$f":"IF(ISNUMBER($D$6),D349*$D$6,#REF!*D349)","v":0}]
[null,339,null,null,{"$f":"IF(ISNUMBER($D$6),D350*$D$6,#REF!*D350)","v":0}]
[null,340,null,null,{"$f":"IF(ISNUMBER($D$6),D351*$D$6,#REF!*D351)","v":0}]
[null,341,null,null,{"$f":"IF(ISNUMBER($D$6),D352*$D$6,#REF!*D352)","v":0}]
[null,342,null,null,{"$f":"IF(ISNUMBER($D$6),D353*$D$6,#REF!*D353)","v":0}]
[null,343,null,null,{"$f":"IF(ISNUMBER($D$6),D354*$D$6,#REF!*D354)","v":0}]
[null,344,null,null,{"$f":"IF(ISNUMBER($D$6),D355*$D$6,#REF!*D355)","v":0}]
[null,345,null,null,{"$f":"IF(ISNUMBER($D$6),D356*$D$6,#REF!*D356)","v":0}]
[null,346,null,null,{"$f":"IF(ISNUMBER($D$6),D357*$D$6,#REF!*D357)","v":0}]
[null,347,null,null,{"$f":"IF(ISNUMBER($D$6),D358*$D$6,#REF!*D358)","v":0}]
[null,348,null,null,{"$f":"IF(ISNUMBER($D$6),D359*$D$6,#REF!*D359)","v":0}]
[null,349,null,null,{"$f":"IF(ISNUMBER($D$6),D360*$D$6,#REF!*D360)","v":0}]
[null,350,null,null,{"$f":"IF(ISNUMBER($D$6),D361*$D$6,#REF!*D361)","v":0}]
[null,351,null,null,{"$f":"IF(ISNUMBER($D$6),D362*$D$6,#REF!*D362)","v":0}]
[null,352,null,null,{"$f":"IF(ISNUMBER($D$6),D363*$D$6,#REF!*D363)","v":0}]
[null,353,null,null,{"$f":"IF(ISNUMBER($D$6),D364*$D$6,#REF!*D364)","v":0}]
[null,354,null,null,{"$f":"IF(ISNUMBER($D$6),D365*$D$6,#REF!*D365)","v":0}]
[null,355,null,null,{"$f":"IF(ISNUMBER($D$6),D366*$D$6,#REF!*D366)","v":0}]
[null,356,null,null,{"$f":"IF(ISNUMBER($D$6),D367*$D$6,#REF!*D367)","v":0}]
[null,357,null,null,{"$f":"IF(ISNUMBER($D$6),D368*$D$6,#REF!*D368)","v":0}]
[null,358,null,null,{"$f":"IF(ISNUMBER($D$6),D369*$D$6,#REF!*D369)","v":0}]
[null,359,null,null,{"$f":"IF(ISNUMBER($D$6),D370*$D$6,#REF!*D370)","v":0}]
[null,360,null,null,{"$f":"IF(ISNUMBER($D$6),D371*$D$6,#REF!*D371)","v":0}]
[null,361,null,null,{"$f":"IF(ISNUMBER($D$6),D372*$D$6,#REF!*D372)","v":0}]
[null,362,null,null,{"$f":"IF(ISNUMBER($D$6),D373*$D$6,#REF!*D373)","v":0}]
[null,363,null,null,{"$f":"IF(ISNUMBER($D$6),D374*$D$6,#REF!*D374)","v":0}]
[null,364,null,null,{"$f":"IF(ISNUMBER($D$6),D375*$D$6,#REF!*D375)","v":0}]
[null,365,null,null,{"$f":"IF(ISNUMBER($D$6),D376*$D$6,#REF!*D376)","v":0}]
[null,366,null,null,{"$f":"IF(ISNUMBER($D$6),D377*$D$6,#REF!*D377)","v":0}]
[null,367,null,null,{"$f":"IF(ISNUMBER($D$6),D378*$D$6,#REF!*D378)","v":0}]
[null,368,null,null,{"$f":"IF(ISNUMBER($D$6),D379*$D$6,#REF!*D379)","v":0}]
[null,369,null,null,{"$f":"IF(ISNUMBER($D$6),D380*$D$6,#REF!*D380)","v":0}]
[null,370,null,null,{"$f":"IF(ISNUMBER($D$6),D381*$D$6,#REF!*D381)","v":0}]
[null,371,null,null,{"$f":"IF(ISNUMBER($D$6),D382*$D$6,#REF!*D382)","v":0}]
[null,372,null,null,{"$f":"IF(ISNUMBER($D$6),D383*$D$6,#REF!*D383)","v":0}]
[null,373,null,null,{"$f":"IF(ISNUMBER($D$6),D384*$D$6,#REF!*D384)","v":0}]
[null,374,null,null,{"$f":"IF(ISNUMBER($D$6),D385*$D$6,#REF!*D385)","v":0}]
[null,375,null,null,{"$f":"IF(ISNUMBER($D$6),D386*$D$6,#REF!*D386)","v":0}]
[null,376,null,null,{"$f":"IF(ISNUMBER($D$6),D387*$D$6,#REF!*D387)","v":0}]
[null,377,null,null,{"$f":"IF(ISNUMBER($D$6),D388*$D$6,#REF!*D388)","v":0}]
[null,378,null,null,{"$f":"IF(ISNUMBER($D$6),D389*$D$6,#REF!*D389)","v":0}]
[null,379,null,null,{"$f":"IF(ISNUMBER($D$6),D390*$D$6,#REF!*D390)","v":0}]
[null,380,null,null,{"$f":"IF(ISNUMBER($D$6),D391*$D$6,#REF!*D391)","v":0}]
[null,381,null,null,{"$f":"IF(ISNUMBER($D$6),D392*$D$6,#REF!*D392)","v":0}]
[null,382,null,null,{"$f":"IF(ISNUMBER($D$6),D393*$D$6,#REF!*D393)","v":0}]
[null,383,null,null,{"$f":"IF(ISNUMBER($D$6),D394*$D$6,#REF!*D394)","v":0}]
[null,384,null,null,{"$f":"IF(ISNUMBER($D$6),D395*$D$6,#REF!*D395)","v":0}]
[null,385,null,null,{"$f":"IF(ISNUMBER($D$6),D396*$D$6,#REF!*D396)","v":0}]
[null,386,null,null,{"$f":"IF(ISNUMBER($D$6),D397*$D$6,#REF!*D397)","v":0}]
[null,{"$f":"+B397+1","v":387},null,null,{"$f":"IF(ISNUMBER($D$6),D398*$D$6,#REF!*D398)","v":0}]
[null,388,null,null,{"$f":"IF(ISNUMBER($D$6),D399*$D$6,#REF!*D399)","v":0}]
[null,389,null,null,{"$f":"IF(ISNUMBER($D$6),D400*$D$6,#REF!*D400)","v":0}]
[null,390,null,null,{"$f":"IF(ISNUMBER($D$6),D401*$D$6,#REF!*D401)","v":0}]
[null,391,null,null,{"$f":"IF(ISNUMBER($D$6),D402*$D$6,#REF!*D402)","v":0}]
[null,392,null,null,{"$f":"IF(ISNUMBER($D$6),D403*$D$6,#REF!*D403)","v":0}]
[null,393,null,null,{"$f":"IF(ISNUMBER($D$6),D404*$D$6,#REF!*D404)","v":0}]
[null,394,null,null,{"$f":"IF(ISNUMBER($D$6),D405*$D$6,#REF!*D405)","v":0}]
[null,395,null,null,{"$f":"IF(ISNUMBER($D$6),D406*$D$6,#REF!*D406)","v":0}]
[null,396,null,null,{"$f":"IF(ISNUMBER($D$6),D407*$D$6,#REF!*D407)","v":0}]
[null,397,null,null,{"$f":"IF(ISNUMBER($D$6),D408*$D$6,#REF!*D408)","v":0}]
[null,398,null,null,{"$f":"IF(ISNUMBER($D$6),D409*$D$6,#REF!*D409)","v":0}]
[null,399,null,null,{"$f":"IF(ISNUMBER($D$6),D410*$D$6,#REF!*D410)","v":0}]
[null,400,null,null,{"$f":"IF(ISNUMBER($D$6),D411*$D$6,#REF!*D411)","v":0}]
[null,401,null,null,{"$f":"IF(ISNUMBER($D$6),D412*$D$6,#REF!*D412)","v":0}]
[null,402,null,null,{"$f":"IF(ISNUMBER($D$6),D413*$D$6,#REF!*D413)","v":0}]
[null,403,null,null,{"$f":"IF(ISNUMBER($D$6),D414*$D$6,#REF!*D414)","v":0}]
[null,404,null,null,{"$f":"IF(ISNUMBER($D$6),D415*$D$6,#REF!*D415)","v":0}]
[null,405,null,null,{"$f":"IF(ISNUMBER($D$6),D416*$D$6,#REF!*D416)","v":0}]
[null,406,null,null,{"$f":"IF(ISNUMBER($D$6),D417*$D$6,#REF!*D417)","v":0}]
[null,407,null,null,{"$f":"IF(ISNUMBER($D$6),D418*$D$6,#REF!*D418)","v":0}]
[null,408,null,null,{"$f":"IF(ISNUMBER($D$6),D419*$D$6,#REF!*D419)","v":0}]
[null,409,null,null,{"$f":"IF(ISNUMBER($D$6),D420*$D$6,#REF!*D420)","v":0}]
[null,410,null,null,{"$f":"IF(ISNUMBER($D$6),D421*$D$6,#REF!*D421)","v":0}]
[null,411,null,null,{"$f":"IF(ISNUMBER($D$6),D422*$D$6,#REF!*D422)","v":0}]
[null,412,null,null,{"$f":"IF(ISNUMBER($D$6),D423*$D$6,#REF!*D423)","v":0}]
[null,413,null,null,{"$f":"IF(ISNUMBER($D$6),D424*$D$6,#REF!*D424)","v":0}]
[null,414,null,null,{"$f":"IF(ISNUMBER($D$6),D425*$D$6,#REF!*D425)","v":0}]
[null,415,null,null,{"$f":"IF(ISNUMBER($D$6),D426*$D$6,#REF!*D426)","v":0}]
[null,416,null,null,{"$f":"IF(ISNUMBER($D$6),D427*$D$6,#REF!*D427)","v":0}]
[null,417,null,null,{"$f":"IF(ISNUMBER($D$6),D428*$D$6,#REF!*D428)","v":0}]
[null,418,null,null,{"$f":"IF(ISNUMBER($D$6),D429*$D$6,#REF!*D429)","v":0}]
[null,419,null,null,{"$f":"IF(ISNUMBER($D$6),D430*$D$6,#REF!*D430)","v":0}]
[null,420,null,null,{"$f":"IF(ISNUMBER($D$6),D431*$D$6,#REF!*D431)","v":0}]
[null,421,null,null,{"$f":"IF(ISNUMBER($D$6),D432*$D$6,#REF!*D432)","v":0}]
[null,422,null,null,{"$f":"IF(ISNUMBER($D$6),D433*$D$6,#REF!*D433)","v":0}]
[null,423,null,null,{"$f":"IF(ISNUMBER($D$6),D434*$D$6,#REF!*D434)","v":0}]
[null,424,null,null,{"$f":"IF(ISNUMBER($D$6),D435*$D$6,#REF!*D435)","v":0}]
[null,425,null,null,{"$f":"IF(ISNUMBER($D$6),D436*$D$6,#REF!*D436)","v":0}]
[null,426,null,null,{"$f":"IF(ISNUMBER($D$6),D437*$D$6,#REF!*D437)","v":0}]
[null,427,null,null,{"$f":"IF(ISNUMBER($D$6),D438*$D$6,#REF!*D438)","v":0}]
[null,428,null,null,{"$f":"IF(ISNUMBER($D$6),D439*$D$6,#REF!*D439)","v":0}]
[null,429,null,null,{"$f":"IF(ISNUMBER($D$6),D440*$D$6,#REF!*D440)","v":0}]
[null,430,null,null,{"$f":"IF(ISNUMBER($D$6),D441*$D$6,#REF!*D441)","v":0}]
[null,431,null,null,{"$f":"IF(ISNUMBER($D$6),D442*$D$6,#REF!*D442)","v":0}]
[null,432,null,null,{"$f":"IF(ISNUMBER($D$6),D443*$D$6,#REF!*D443)","v":0}]
[null,433,null,null,{"$f":"IF(ISNUMBER($D$6),D444*$D$6,#REF!*D444)","v":0}]
[null,434,null,null,{"$f":"IF(ISNUMBER($D$6),D445*$D$6,#REF!*D445)","v":0}]
[null,435,null,null,{"$f":"IF(ISNUMBER($D$6),D446*$D$6,#REF!*D446)","v":0}]
[null,436,null,null,{"$f":"IF(ISNUMBER($D$6),D447*$D$6,#REF!*D447)","v":0}]
[null,437,null,null,{"$f":"IF(ISNUMBER($D$6),D448*$D$6,#REF!*D448)","v":0}]
[null,438,null,null,{"$f":"IF(ISNUMBER($D$6),D449*$D$6,#REF!*D449)","v":0}]
[null,439,null,null,{"$f":"IF(ISNUMBER($D$6),D450*$D$6,#REF!*D450)","v":0}]
[null,440,null,null,{"$f":"IF(ISNUMBER($D$6),D451*$D$6,#REF!*D451)","v":0}]
[null,441,null,null,{"$f":"IF(ISNUMBER($D$6),D452*$D$6,#REF!*D452)","v":0}]
[null,442,null,null,{"$f":"IF(ISNUMBER($D$6),D453*$D$6,#REF!*D453)","v":0}]
[null,443,null,null,{"$f":"IF(ISNUMBER($D$6),D454*$D$6,#REF!*D454)","v":0}]
[null,444,null,null,{"$f":"IF(ISNUMBER($D$6),D455*$D$6,#REF!*D455)","v":0}]
[null,445,null,null,{"$f":"IF(ISNUMBER($D$6),D456*$D$6,#REF!*D456)","v":0}]
[null,446,null,null,{"$f":"IF(ISNUMBER($D$6),D457*$D$6,#REF!*D457)","v":0}]
[null,447,null,null,{"$f":"IF(ISNUMBER($D$6),D458*$D$6,#REF!*D458)","v":0}]
[null,448,null,null,{"$f":"IF(ISNUMBER($D$6),D459*$D$6,#REF!*D459)","v":0}]
[null,449,null,null,{"$f":"IF(ISNUMBER($D$6),D460*$D$6,#REF!*D460)","v":0}]
[null,450,null,null,{"$f":"IF(ISNUMBER($D$6),D461*$D$6,#REF!*D461)","v":0}]
[null,{"$f":"+B461+1","v":451},null,null,{"$f":"IF(ISNUMBER($D$6),D462*$D$6,#REF!*D462)","v":0}]
[null,452,null,null,{"$f":"IF(ISNUMBER($D$6),D463*$D$6,#REF!*D463)","v":0}]
[null,453,null,null,{"$f":"IF(ISNUMBER($D$6),D464*$D$6,#REF!*D464)","v":0}]
[null,454,null,null,{"$f":"IF(ISNUMBER($D$6),D465*$D$6,#REF!*D465)","v":0}]
[null,455,null,null,{"$f":"IF(ISNUMBER($D$6),D466*$D$6,#REF!*D466)","v":0}]
[null,456,null,null,{"$f":"IF(ISNUMBER($D$6),D467*$D$6,#REF!*D467)","v":0}]
[null,457,null,null,{"$f":"IF(ISNUMBER($D$6),D468*$D$6,#REF!*D468)","v":0}]
[null,458,null,null,{"$f":"IF(ISNUMBER($D$6),D469*$D$6,#REF!*D469)","v":0}]
[null,459,null,null,{"$f":"IF(ISNUMBER($D$6),D470*$D$6,#REF!*D470)","v":0}]
[null,460,null,null,{"$f":"IF(ISNUMBER($D$6),D471*$D$6,#REF!*D471)","v":0}]
[null,461,null,null,{"$f":"IF(ISNUMBER($D$6),D472*$D$6,#REF!*D472)","v":0}]
[null,462,null,null,{"$f":"IF(ISNUMBER($D$6),D473*$D$6,#REF!*D473)","v":0}]
[null,463,null,null,{"$f":"IF(ISNUMBER($D$6),D474*$D$6,#REF!*D474)","v":0}]
[null,464,null,null,{"$f":"IF(ISNUMBER($D$6),D475*$D$6,#REF!*D475)","v":0}]
[null,465,null,null,{"$f":"IF(ISNUMBER($D$6),D476*$D$6,#REF!*D476)","v":0}]
[null,466,null,null,{"$f":"IF(ISNUMBER($D$6),D477*$D$6,#REF!*D477)","v":0}]
[null,467,null,null,{"$f":"IF(ISNUMBER($D$6),D478*$D$6,#REF!*D478)","v":0}]
[null,468,null,null,{"$f":"IF(ISNUMBER($D$6),D479*$D$6,#REF!*D479)","v":0}]
[null,469,null,null,{"$f":"IF(ISNUMBER($D$6),D480*$D$6,#REF!*D480)","v":0}]
[null,470,null,null,{"$f":"IF(ISNUMBER($D$6),D481*$D$6,#REF!*D481)","v":0}]
[null,471,null,null,{"$f":"IF(ISNUMBER($D$6),D482*$D$6,#REF!*D482)","v":0}]
[null,472,null,null,{"$f":"IF(ISNUMBER($D$6),D483*$D$6,#REF!*D483)","v":0}]
[null,473,null,null,{"$f":"IF(ISNUMBER($D$6),D484*$D$6,#REF!*D484)","v":0}]
[null,474,null,null,{"$f":"IF(ISNUMBER($D$6),D485*$D$6,#REF!*D485)","v":0}]
[null,475,null,null,{"$f":"IF(ISNUMBER($D$6),D486*$D$6,#REF!*D486)","v":0}]
[null,476,null,null,{"$f":"IF(ISNUMBER($D$6),D487*$D$6,#REF!*D487)","v":0}]
[null,477,null,null,{"$f":"IF(ISNUMBER($D$6),D488*$D$6,#REF!*D488)","v":0}]
[null,478,null,null,{"$f":"IF(ISNUMBER($D$6),D489*$D$6,#REF!*D489)","v":0}]
[null,479,null,null,{"$f":"IF(ISNUMBER($D$6),D490*$D$6,#REF!*D490)","v":0}]
[null,480,null,null,{"$f":"IF(ISNUMBER($D$6),D491*$D$6,#REF!*D491)","v":0}]
[null,481,null,null,{"$f":"IF(ISNUMBER($D$6),D492*$D$6,#REF!*D492)","v":0}]
[null,482,null,null,{"$f":"IF(ISNUMBER($D$6),D493*$D$6,#REF!*D493)","v":0}]
[null,483,null,null,{"$f":"IF(ISNUMBER($D$6),D494*$D$6,#REF!*D494)","v":0}]
[null,484,null,null,{"$f":"IF(ISNUMBER($D$6),D495*$D$6,#REF!*D495)","v":0}]
[null,485,null,null,{"$f":"IF(ISNUMBER($D$6),D496*$D$6,#REF!*D496)","v":0}]
[null,486,null,null,{"$f":"IF(ISNUMBER($D$6),D497*$D$6,#REF!*D497)","v":0}]
[null,487,null,null,{"$f":"IF(ISNUMBER($D$6),D498*$D$6,#REF!*D498)","v":0}]
[null,488,null,null,{"$f":"IF(ISNUMBER($D$6),D499*$D$6,#REF!*D499)","v":0}]
[null,489,null,null,{"$f":"IF(ISNUMBER($D$6),D500*$D$6,#REF!*D500)","v":0}]
[null,490,null,null,{"$f":"IF(ISNUMBER($D$6),D501*$D$6,#REF!*D501)","v":0}]
[null,491,null,null,{"$f":"IF(ISNUMBER($D$6),D502*$D$6,#REF!*D502)","v":0}]
[null,492,null,null,{"$f":"IF(ISNUMBER($D$6),D503*$D$6,#REF!*D503)","v":0}]
[null,493,null,null,{"$f":"IF(ISNUMBER($D$6),D504*$D$6,#REF!*D504)","v":0}]
[null,494,null,null,{"$f":"IF(ISNUMBER($D$6),D505*$D$6,#REF!*D505)","v":0}]
[null,495,null,null,{"$f":"IF(ISNUMBER($D$6),D506*$D$6,#REF!*D506)","v":0}]
[null,496,null,null,{"$f":"IF(ISNUMBER($D$6),D507*$D$6,#REF!*D507)","v":0}]
[null,497,null,null,{"$f":"IF(ISNUMBER($D$6),D508*$D$6,#REF!*D508)","v":0}]
[null,498,null,null,{"$f":"IF(ISNUMBER($D$6),D509*$D$6,#REF!*D509)","v":0}]
[null,499,null,null,{"$f":"IF(ISNUMBER($D$6),D510*$D$6,#REF!*D510)","v":0}]
[null,500,null,null,{"$f":"IF(ISNUMBER($D$6),D511*$D$6,#REF!*D511)","v":0}]
[null,501,null,null,{"$f":"IF(ISNUMBER($D$6),D512*$D$6,#REF!*D512)","v":0}]
[null,502,null,null,{"$f":"IF(ISNUMBER($D$6),D513*$D$6,#REF!*D513)","v":0}]
[null,503,null,null,{"$f":"IF(ISNUMBER($D$6),D514*$D$6,#REF!*D514)","v":0}]
[null,504,null,null,{"$f":"IF(ISNUMBER($D$6),D515*$D$6,#REF!*D515)","v":0}]
[null,505,null,null,{"$f":"IF(ISNUMBER($D$6),D516*$D$6,#REF!*D516)","v":0}]
[null,506,null,null,{"$f":"IF(ISNUMBER($D$6),D517*$D$6,#REF!*D517)","v":0}]
[null,507,null,null,{"$f":"IF(ISNUMBER($D$6),D518*$D$6,#REF!*D518)","v":0}]
[null,508,null,null,{"$f":"IF(ISNUMBER($D$6),D519*$D$6,#REF!*D519)","v":0}]
[null,509,null,null,{"$f":"IF(ISNUMBER($D$6),D520*$D$6,#REF!*D520)","v":0}]
[null,510,null,null,{"$f":"IF(ISNUMBER($D$6),D521*$D$6,#REF!*D521)","v":0}]
[null,511,null,null,{"$f":"IF(ISNUMBER($D$6),D522*$D$6,#REF!*D522)","v":0}]
[null,512,null,null,{"$f":"IF(ISNUMBER($D$6),D523*$D$6,#REF!*D523)","v":0}]
[null,513,null,null,{"$f":"IF(ISNUMBER($D$6),D524*$D$6,#REF!*D524)","v":0}]
[null,514,null,null,{"$f":"IF(ISNUMBER($D$6),D525*$D$6,#REF!*D525)","v":0}]
[null,{"$f":"+B525+1","v":515},null,null,{"$f":"IF(ISNUMBER($D$6),D526*$D$6,#REF!*D526)","v":0}]
[null,516,null,null,{"$f":"IF(ISNUMBER($D$6),D527*$D$6,#REF!*D527)","v":0}]
[null,517,null,null,{"$f":"IF(ISNUMBER($D$6),D528*$D$6,#REF!*D528)","v":0}]
[null,518,null,null,{"$f":"IF(ISNUMBER($D$6),D529*$D$6,#REF!*D529)","v":0}]
[null,519,null,null,{"$f":"IF(ISNUMBER($D$6),D530*$D$6,#REF!*D530)","v":0}]
[null,520,null,null,{"$f":"IF(ISNUMBER($D$6),D531*$D$6,#REF!*D531)","v":0}]
[null,521,null,null,{"$f":"IF(ISNUMBER($D$6),D532*$D$6,#REF!*D532)","v":0}]
[null,522,null,null,{"$f":"IF(ISNUMBER($D$6),D533*$D$6,#REF!*D533)","v":0}]
[null,523,null,null,{"$f":"IF(ISNUMBER($D$6),D534*$D$6,#REF!*D534)","v":0}]
[null,524,null,null,{"$f":"IF(ISNUMBER($D$6),D535*$D$6,#REF!*D535)","v":0}]
[null,525,null,null,{"$f":"IF(ISNUMBER($D$6),D536*$D$6,#REF!*D536)","v":0}]
[null,526,null,null,{"$f":"IF(ISNUMBER($D$6),D537*$D$6,#REF!*D537)","v":0}]
[null,527,null,null,{"$f":"IF(ISNUMBER($D$6),D538*$D$6,#REF!*D538)","v":0}]
[null,528,null,null,{"$f":"IF(ISNUMBER($D$6),D539*$D$6,#REF!*D539)","v":0}]
[null,529,null,null,{"$f":"IF(ISNUMBER($D$6),D540*$D$6,#REF!*D540)","v":0}]
[null,530,null,null,{"$f":"IF(ISNUMBER($D$6),D541*$D$6,#REF!*D541)","v":0}]
[null,531,null,null,{"$f":"IF(ISNUMBER($D$6),D542*$D$6,#REF!*D542)","v":0}]
[null,532,null,null,{"$f":"IF(ISNUMBER($D$6),D543*$D$6,#REF!*D543)","v":0}]
[null,533,null,null,{"$f":"IF(ISNUMBER($D$6),D544*$D$6,#REF!*D544)","v":0}]
[null,534,null,null,{"$f":"IF(ISNUMBER($D$6),D545*$D$6,#REF!*D545)","v":0}]
[null,535,null,null,{"$f":"IF(ISNUMBER($D$6),D546*$D$6,#REF!*D546)","v":0}]
[null,536,null,null,{"$f":"IF(ISNUMBER($D$6),D547*$D$6,#REF!*D547)","v":0}]
[null,537,null,null,{"$f":"IF(ISNUMBER($D$6),D548*$D$6,#REF!*D548)","v":0}]
[null,538,null,null,{"$f":"IF(ISNUMBER($D$6),D549*$D$6,#REF!*D549)","v":0}]
[null,539,null,null,{"$f":"IF(ISNUMBER($D$6),D550*$D$6,#REF!*D550)","v":0}]
[null,540,null,null,{"$f":"IF(ISNUMBER($D$6),D551*$D$6,#REF!*D551)","v":0}]
[null,541,null,null,{"$f":"IF(ISNUMBER($D$6),D552*$D$6,#REF!*D552)","v":0}]
[null,542,null,null,{"$f":"IF(ISNUMBER($D$6),D553*$D$6,#REF!*D553)","v":0}]
[null,543,null,null,{"$f":"IF(ISNUMBER($D$6),D554*$D$6,#REF!*D554)","v":0}]
[null,544,null,null,{"$f":"IF(ISNUMBER($D$6),D555*$D$6,#REF!*D555)","v":0}]
[null,545,null,null,{"$f":"IF(ISNUMBER($D$6),D556*$D$6,#REF!*D556)","v":0}]
[null,546,null,null,{"$f":"IF(ISNUMBER($D$6),D557*$D$6,#REF!*D557)","v":0}]
[null,547,null,null,{"$f":"IF(ISNUMBER($D$6),D558*$D$6,#REF!*D558)","v":0}]
[null,548,null,null,{"$f":"IF(ISNUMBER($D$6),D559*$D$6,#REF!*D559)","v":0}]
[null,549,null,null,{"$f":"IF(ISNUMBER($D$6),D560*$D$6,#REF!*D560)","v":0}]
[null,550,null,null,{"$f":"IF(ISNUMBER($D$6),D561*$D$6,#REF!*D561)","v":0}]
[null,551,null,null,{"$f":"IF(ISNUMBER($D$6),D562*$D$6,#REF!*D562)","v":0}]
[null,552,null,null,{"$f":"IF(ISNUMBER($D$6),D563*$D$6,#REF!*D563)","v":0}]
[null,553,null,null,{"$f":"IF(ISNUMBER($D$6),D564*$D$6,#REF!*D564)","v":0}]
[null,554,null,null,{"$f":"IF(ISNUMBER($D$6),D565*$D$6,#REF!*D565)","v":0}]
[null,555,null,null,{"$f":"IF(ISNUMBER($D$6),D566*$D$6,#REF!*D566)","v":0}]
[null,556,null,null,{"$f":"IF(ISNUMBER($D$6),D567*$D$6,#REF!*D567)","v":0}]
[null,557,null,null,{"$f":"IF(ISNUMBER($D$6),D568*$D$6,#REF!*D568)","v":0}]
[null,558,null,null,{"$f":"IF(ISNUMBER($D$6),D569*$D$6,#REF!*D569)","v":0}]
[null,559,null,null,{"$f":"IF(ISNUMBER($D$6),D570*$D$6,#REF!*D570)","v":0}]
[null,560,null,null,{"$f":"IF(ISNUMBER($D$6),D571*$D$6,#REF!*D571)","v":0}]
[null,561,null,null,{"$f":"IF(ISNUMBER($D$6),D572*$D$6,#REF!*D572)","v":0}]
[null,562,null,null,{"$f":"IF(ISNUMBER($D$6),D573*$D$6,#REF!*D573)","v":0}]
[null,563,null,null,{"$f":"IF(ISNUMBER($D$6),D574*$D$6,#REF!*D574)","v":0}]
[null,564,null,null,{"$f":"IF(ISNUMBER($D$6),D575*$D$6,#REF!*D575)","v":0}]
[null,565,null,null,{"$f":"IF(ISNUMBER($D$6),D576*$D$6,#REF!*D576)","v":0}]
[null,566,null,null,{"$f":"IF(ISNUMBER($D$6),D577*$D$6,#REF!*D577)","v":0}]
[null,567,null,null,{"$f":"IF(ISNUMBER($D$6),D578*$D$6,#REF!*D578)","v":0}]
[null,568,null,null,{"$f":"IF(ISNUMBER($D$6),D579*$D$6,#REF!*D579)","v":0}]
[null,569,null,null,{"$f":"IF(ISNUMBER($D$6),D580*$D$6,#REF!*D580)","v":0}]
[null,570,null,null,{"$f":"IF(ISNUMBER($D$6),D581*$D$6,#REF!*D581)","v":0}]
[null,571,null,null,{"$f":"IF(ISNUMBER($D$6),D582*$D$6,#REF!*D582)","v":0}]
[null,572,null,null,{"$f":"IF(ISNUMBER($D$6),D583*$D$6,#REF!*D583)","v":0}]
[null,573,null,null,{"$f":"IF(ISNUMBER($D$6),D584*$D$6,#REF!*D584)","v":0}]
[null,574,null,null,{"$f":"IF(ISNUMBER($D$6),D585*$D$6,#REF!*D585)","v":0}]
[null,575,null,null,{"$f":"IF(ISNUMBER($D$6),D586*$D$6,#REF!*D586)","v":0}]
[null,576,null,null,{"$f":"IF(ISNUMBER($D$6),D587*$D$6,#REF!*D587)","v":0}]
[null,577,null,null,{"$f":"IF(ISNUMBER($D$6),D588*$D$6,#REF!*D588)","v":0}]
[null,578,null,null,{"$f":"IF(ISNUMBER($D$6),D589*$D$6,#REF!*D589)","v":0}]
[null,{"$f":"+B589+1","v":579},null,null,{"$f":"IF(ISNUMBER($D$6),D590*$D$6,#REF!*D590)","v":0}]
[null,580,null,null,{"$f":"IF(ISNUMBER($D$6),D591*$D$6,#REF!*D591)","v":0}]
[null,581,null,null,{"$f":"IF(ISNUMBER($D$6),D592*$D$6,#REF!*D592)","v":0}]
[null,582,null,null,{"$f":"IF(ISNUMBER($D$6),D593*$D$6,#REF!*D593)","v":0}]
[null,583,null,null,{"$f":"IF(ISNUMBER($D$6),D594*$D$6,#REF!*D594)","v":0}]
[null,584,null,null,{"$f":"IF(ISNUMBER($D$6),D595*$D$6,#REF!*D595)","v":0}]
[null,585,null,null,{"$f":"IF(ISNUMBER($D$6),D596*$D$6,#REF!*D596)","v":0}]
[null,586,null,null,{"$f":"IF(ISNUMBER($D$6),D597*$D$6,#REF!*D597)","v":0}]
[null,587,null,null,{"$f":"IF(ISNUMBER($D$6),D598*$D$6,#REF!*D598)","v":0}]
[null,588,null,null,{"$f":"IF(ISNUMBER($D$6),D599*$D$6,#REF!*D599)","v":0}]
[null,589,null,null,{"$f":"IF(ISNUMBER($D$6),D600*$D$6,#REF!*D600)","v":0}]
[null,590,null,null,{"$f":"IF(ISNUMBER($D$6),D601*$D$6,#REF!*D601)","v":0}]
[null,591,null,null,{"$f":"IF(ISNUMBER($D$6),D602*$D$6,#REF!*D602)","v":0}]
[null,592,null,null,{"$f":"IF(ISNUMBER($D$6),D603*$D$6,#REF!*D603)","v":0}]
[null,593,null,null,{"$f":"IF(ISNUMBER($D$6),D604*$D$6,#REF!*D604)","v":0}]
[null,594,null,null,{"$f":"IF(ISNUMBER($D$6),D605*$D$6,#REF!*D605)","v":0}]
[null,595,null,null,{"$f":"IF(ISNUMBER($D$6),D606*$D$6,#REF!*D606)","v":0}]
[null,596,null,null,{"$f":"IF(ISNUMBER($D$6),D607*$D$6,#REF!*D607)","v":0}]
[null,597,null,null,{"$f":"IF(ISNUMBER($D$6),D608*$D$6,#REF!*D608)","v":0}]
[null,598,null,null,{"$f":"IF(ISNUMBER($D$6),D609*$D$6,#REF!*D609)","v":0}]
[null,599,null,null,{"$f":"IF(ISNUMBER($D$6),D610*$D$6,#REF!*D610)","v":0}]
[null,600,null,null,{"$f":"IF(ISNUMBER($D$6),D611*$D$6,#REF!*D611)","v":0}]
[null,601,null,null,{"$f":"IF(ISNUMBER($D$6),D612*$D$6,#REF!*D612)","v":0}]
[null,602,null,null,{"$f":"IF(ISNUMBER($D$6),D613*$D$6,#REF!*D613)","v":0}]
[null,603,null,null,{"$f":"IF(ISNUMBER($D$6),D614*$D$6,#REF!*D614)","v":0}]
[null,604,null,null,{"$f":"IF(ISNUMBER($D$6),D615*$D$6,#REF!*D615)","v":0}]
[null,605,null,null,{"$f":"IF(ISNUMBER($D$6),D616*$D$6,#REF!*D616)","v":0}]
[null,606,null,null,{"$f":"IF(ISNUMBER($D$6),D617*$D$6,#REF!*D617)","v":0}]
[null,607,null,null,{"$f":"IF(ISNUMBER($D$6),D618*$D$6,#REF!*D618)","v":0}]
[null,608,null,null,{"$f":"IF(ISNUMBER($D$6),D619*$D$6,#REF!*D619)","v":0}]
[null,609,null,null,{"$f":"IF(ISNUMBER($D$6),D620*$D$6,#REF!*D620)","v":0}]
[null,610,null,null,{"$f":"IF(ISNUMBER($D$6),D621*$D$6,#REF!*D621)","v":0}]
[null,611,null,null,{"$f":"IF(ISNUMBER($D$6),D622*$D$6,#REF!*D622)","v":0}]
[null,612,null,null,{"$f":"IF(ISNUMBER($D$6),D623*$D$6,#REF!*D623)","v":0}]
[null,613,null,null,{"$f":"IF(ISNUMBER($D$6),D624*$D$6,#REF!*D624)","v":0}]
[null,614,null,null,{"$f":"IF(ISNUMBER($D$6),D625*$D$6,#REF!*D625)","v":0}]
[null,615,null,null,{"$f":"IF(ISNUMBER($D$6),D626*$D$6,#REF!*D626)","v":0}]
[null,616,null,null,{"$f":"IF(ISNUMBER($D$6),D627*$D$6,#REF!*D627)","v":0}]
[null,617,null,null,{"$f":"IF(ISNUMBER($D$6),D628*$D$6,#REF!*D628)","v":0}]
[null,618,null,null,{"$f":"IF(ISNUMBER($D$6),D629*$D$6,#REF!*D629)","v":0}]
[null,619,null,null,{"$f":"IF(ISNUMBER($D$6),D630*$D$6,#REF!*D630)","v":0}]
[null,620,null,null,{"$f":"IF(ISNUMBER($D$6),D631*$D$6,#REF!*D631)","v":0}]
[null,621,null,null,{"$f":"IF(ISNUMBER($D$6),D632*$D$6,#REF!*D632)","v":0}]
[null,622,null,null,{"$f":"IF(ISNUMBER($D$6),D633*$D$6,#REF!*D633)","v":0}]
[null,623,null,null,{"$f":"IF(ISNUMBER($D$6),D634*$D$6,#REF!*D634)","v":0}]
[null,624,null,null,{"$f":"IF(ISNUMBER($D$6),D635*$D$6,#REF!*D635)","v":0}]
[null,625,null,null,{"$f":"IF(ISNUMBER($D$6),D636*$D$6,#REF!*D636)","v":0}]
[null,626,null,null,{"$f":"IF(ISNUMBER($D$6),D637*$D$6,#REF!*D637)","v":0}]
[null,627,null,null,{"$f":"IF(ISNUMBER($D$6),D638*$D$6,#REF!*D638)","v":0}]
[null,628,null,null,{"$f":"IF(ISNUMBER($D$6),D639*$D$6,#REF!*D639)","v":0}]
[null,629,null,null,{"$f":"IF(ISNUMBER($D$6),D640*$D$6,#REF!*D640)","v":0}]
[null,630,null,null,{"$f":"IF(ISNUMBER($D$6),D641*$D$6,#REF!*D641)","v":0}]
[null,631,null,null,{"$f":"IF(ISNUMBER($D$6),D642*$D$6,#REF!*D642)","v":0}]
[null,632,null,null,{"$f":"IF(ISNUMBER($D$6),D643*$D$6,#REF!*D643)","v":0}]
[null,633,null,null,{"$f":"IF(ISNUMBER($D$6),D644*$D$6,#REF!*D644)","v":0}]
[null,634,null,null,{"$f":"IF(ISNUMBER($D$6),D645*$D$6,#REF!*D645)","v":0}]
[null,635,null,null,{"$f":"IF(ISNUMBER($D$6),D646*$D$6,#REF!*D646)","v":0}]
[null,636,null,null,{"$f":"IF(ISNUMBER($D$6),D647*$D$6,#REF!*D647)","v":0}]
[null,637,null,null,{"$f":"IF(ISNUMBER($D$6),D648*$D$6,#REF!*D648)","v":0}]
[null,638,null,null,{"$f":"IF(ISNUMBER($D$6),D649*$D$6,#REF!*D649)","v":0}]
[null,639,null,null,{"$f":"IF(ISNUMBER($D$6),D650*$D$6,#REF!*D650)","v":0}]
[null,640,null,null,{"$f":"IF(ISNUMBER($D$6),D651*$D$6,#REF!*D651)","v":0}]
[null,641,null,null,{"$f":"IF(ISNUMBER($D$6),D652*$D$6,#REF!*D652)","v":0}]
[null,642,null,null,{"$f":"IF(ISNUMBER($D$6),D653*$D$6,#REF!*D653)","v":0}]
[null,{"$f":"+B653+1","v":643},null,null,{"$f":"IF(ISNUMBER($D$6),D654*$D$6,#REF!*D654)","v":0}]
[null,644,null,null,{"$f":"IF(ISNUMBER($D$6),D655*$D$6,#REF!*D655)","v":0}]
[null,645,null,null,{"$f":"IF(ISNUMBER($D$6),D656*$D$6,#REF!*D656)","v":0}]
[null,646,null,null,{"$f":"IF(ISNUMBER($D$6),D657*$D$6,#REF!*D657)","v":0}]
[null,647,null,null,{"$f":"IF(ISNUMBER($D$6),D658*$D$6,#REF!*D658)","v":0}]
[null,648,null,null,{"$f":"IF(ISNUMBER($D$6),D659*$D$6,#REF!*D659)","v":0}]
[null,649,null,null,{"$f":"IF(ISNUMBER($D$6),D660*$D$6,#REF!*D660)","v":0}]
[null,650,null,null,{"$f":"IF(ISNUMBER($D$6),D661*$D$6,#REF!*D661)","v":0}]
[null,651,null,null,{"$f":"IF(ISNUMBER($D$6),D662*$D$6,#REF!*D662)","v":0}]
[null,652,null,null,{"$f":"IF(ISNUMBER($D$6),D663*$D$6,#REF!*D663)","v":0}]
[null,653,null,null,{"$f":"IF(ISNUMBER($D$6),D664*$D$6,#REF!*D664)","v":0}]
[null,654,null,null,{"$f":"IF(ISNUMBER($D$6),D665*$D$6,#REF!*D665)","v":0}]
[null,655,null,null,{"$f":"IF(ISNUMBER($D$6),D666*$D$6,#REF!*D666)","v":0}]
[null,656,null,null,{"$f":"IF(ISNUMBER($D$6),D667*$D$6,#REF!*D667)","v":0}]
[null,657,null,null,{"$f":"IF(ISNUMBER($D$6),D668*$D$6,#REF!*D668)","v":0}]
[null,658,null,null,{"$f":"IF(ISNUMBER($D$6),D669*$D$6,#REF!*D669)","v":0}]
[null,659,null,null,{"$f":"IF(ISNUMBER($D$6),D670*$D$6,#REF!*D670)","v":0}]
[null,660,null,null,{"$f":"IF(ISNUMBER($D$6),D671*$D$6,#REF!*D671)","v":0}]
[null,661,null,null,{"$f":"IF(ISNUMBER($D$6),D672*$D$6,#REF!*D672)","v":0}]
[null,662,null,null,{"$f":"IF(ISNUMBER($D$6),D673*$D$6,#REF!*D673)","v":0}]
[null,663,null,null,{"$f":"IF(ISNUMBER($D$6),D674*$D$6,#REF!*D674)","v":0}]
[null,664,null,null,{"$f":"IF(ISNUMBER($D$6),D675*$D$6,#REF!*D675)","v":0}]
[null,665,null,null,{"$f":"IF(ISNUMBER($D$6),D676*$D$6,#REF!*D676)","v":0}]
[null,666,null,null,{"$f":"IF(ISNUMBER($D$6),D677*$D$6,#REF!*D677)","v":0}]
[null,667,null,null,{"$f":"IF(ISNUMBER($D$6),D678*$D$6,#REF!*D678)","v":0}]
[null,668,null,null,{"$f":"IF(ISNUMBER($D$6),D679*$D$6,#REF!*D679)","v":0}]
[null,669,null,null,{"$f":"IF(ISNUMBER($D$6),D680*$D$6,#REF!*D680)","v":0}]
[null,670,null,null,{"$f":"IF(ISNUMBER($D$6),D681*$D$6,#REF!*D681)","v":0}]
[null,671,null,null,{"$f":"IF(ISNUMBER($D$6),D682*$D$6,#REF!*D682)","v":0}]
[null,672,null,null,{"$f":"IF(ISNUMBER($D$6),D683*$D$6,#REF!*D683)","v":0}]
[null,673,null,null,{"$f":"IF(ISNUMBER($D$6),D684*$D$6,#REF!*D684)","v":0}]
[null,674,null,null,{"$f":"IF(ISNUMBER($D$6),D685*$D$6,#REF!*D685)","v":0}]
[null,675,null,null,{"$f":"IF(ISNUMBER($D$6),D686*$D$6,#REF!*D686)","v":0}]
[null,676,null,null,{"$f":"IF(ISNUMBER($D$6),D687*$D$6,#REF!*D687)","v":0}]
[null,677,null,null,{"$f":"IF(ISNUMBER($D$6),D688*$D$6,#REF!*D688)","v":0}]
[null,678,null,null,{"$f":"IF(ISNUMBER($D$6),D689*$D$6,#REF!*D689)","v":0}]
[null,679,null,null,{"$f":"IF(ISNUMBER($D$6),D690*$D$6,#REF!*D690)","v":0}]
[null,680,null,null,{"$f":"IF(ISNUMBER($D$6),D691*$D$6,#REF!*D691)","v":0}]
[null,681,null,null,{"$f":"IF(ISNUMBER($D$6),D692*$D$6,#REF!*D692)","v":0}]
[null,682,null,null,{"$f":"IF(ISNUMBER($D$6),D693*$D$6,#REF!*D693)","v":0}]
[null,683,null,null,{"$f":"IF(ISNUMBER($D$6),D694*$D$6,#REF!*D694)","v":0}]
[null,684,null,null,{"$f":"IF(ISNUMBER($D$6),D695*$D$6,#REF!*D695)","v":0}]
[null,685,null,null,{"$f":"IF(ISNUMBER($D$6),D696*$D$6,#REF!*D696)","v":0}]
[null,686,null,null,{"$f":"IF(ISNUMBER($D$6),D697*$D$6,#REF!*D697)","v":0}]
[null,687,null,null,{"$f":"IF(ISNUMBER($D$6),D698*$D$6,#REF!*D698)","v":0}]
[null,688,null,null,{"$f":"IF(ISNUMBER($D$6),D699*$D$6,#REF!*D699)","v":0}]
[null,689,null,null,{"$f":"IF(ISNUMBER($D$6),D700*$D$6,#REF!*D700)","v":0}]
[null,690,null,null,{"$f":"IF(ISNUMBER($D$6),D701*$D$6,#REF!*D701)","v":0}]
[null,691,null,null,{"$f":"IF(ISNUMBER($D$6),D702*$D$6,#REF!*D702)","v":0}]
[null,692,null,null,{"$f":"IF(ISNUMBER($D$6),D703*$D$6,#REF!*D703)","v":0}]
[null,693,null,null,{"$f":"IF(ISNUMBER($D$6),D704*$D$6,#REF!*D704)","v":0}]
[null,694,null,null,{"$f":"IF(ISNUMBER($D$6),D705*$D$6,#REF!*D705)","v":0}]
[null,695,null,null,{"$f":"IF(ISNUMBER($D$6),D706*$D$6,#REF!*D706)","v":0}]
[null,696,null,null,{"$f":"IF(ISNUMBER($D$6),D707*$D$6,#REF!*D707)","v":0}]
[null,697,null,null,{"$f":"IF(ISNUMBER($D$6),D708*$D$6,#REF!*D708)","v":0}]
[null,698,null,null,{"$f":"IF(ISNUMBER($D$6),D709*$D$6,#REF!*D709)","v":0}]
[null,699,null,null,{"$f":"IF(ISNUMBER($D$6),D710*$D$6,#REF!*D710)","v":0}]
[null,700,null,null,{"$f":"IF(ISNUMBER($D$6),D711*$D$6,#REF!*D711)","v":0}]
[null,701,null,null,{"$f":"IF(ISNUMBER($D$6),D712*$D$6,#REF!*D712)","v":0}]
[null,702,null,null,{"$f":"IF(ISNUMBER($D$6),D713*$D$6,#REF!*D713)","v":0}]
[null,703,null,null,{"$f":"IF(ISNUMBER($D$6),D714*$D$6,#REF!*D714)","v":0}]
[null,704,null,null,{"$f":"IF(ISNUMBER($D$6),D715*$D$6,#REF!*D715)","v":0}]
[null,705,null,null,{"$f":"IF(ISNUMBER($D$6),D716*$D$6,#REF!*D716)","v":0}]
[null,706,null,null,{"$f":"IF(ISNUMBER($D$6),D717*$D$6,#REF!*D717)","v":0}]
[null,{"$f":"+B717+1","v":707},null,null,{"$f":"IF(ISNUMBER($D$6),D718*$D$6,#REF!*D718)","v":0}]
[null,708,null,null,{"$f":"IF(ISNUMBER($D$6),D719*$D$6,#REF!*D719)","v":0}]
[null,709,null,null,{"$f":"IF(ISNUMBER($D$6),D720*$D$6,#REF!*D720)","v":0}]
[null,710,null,null,{"$f":"IF(ISNUMBER($D$6),D721*$D$6,#REF!*D721)","v":0}]
[null,711,null,null,{"$f":"IF(ISNUMBER($D$6),D722*$D$6,#REF!*D722)","v":0}]
[null,712,null,null,{"$f":"IF(ISNUMBER($D$6),D723*$D$6,#REF!*D723)","v":0}]
[null,713,null,null,{"$f":"IF(ISNUMBER($D$6),D724*$D$6,#REF!*D724)","v":0}]
[null,714,null,null,{"$f":"IF(ISNUMBER($D$6),D725*$D$6,#REF!*D725)","v":0}]
[null,715,null,null,{"$f":"IF(ISNUMBER($D$6),D726*$D$6,#REF!*D726)","v":0}]
[null,716,null,null,{"$f":"IF(ISNUMBER($D$6),D727*$D$6,#REF!*D727)","v":0}]
[null,717,null,null,{"$f":"IF(ISNUMBER($D$6),D728*$D$6,#REF!*D728)","v":0}]
[null,718,null,null,{"$f":"IF(ISNUMBER($D$6),D729*$D$6,#REF!*D729)","v":0}]
[null,719,null,null,{"$f":"IF(ISNUMBER($D$6),D730*$D$6,#REF!*D730)","v":0}]
[null,720,null,null,{"$f":"IF(ISNUMBER($D$6),D731*$D$6,#REF!*D731)","v":0}]
[null,721,null,null,{"$f":"IF(ISNUMBER($D$6),D732*$D$6,#REF!*D732)","v":0}]
[null,722,null,null,{"$f":"IF(ISNUMBER($D$6),D733*$D$6,#REF!*D733)","v":0}]
[null,723,null,null,{"$f":"IF(ISNUMBER($D$6),D734*$D$6,#REF!*D734)","v":0}]
[null,724,null,null,{"$f":"IF(ISNUMBER($D$6),D735*$D$6,#REF!*D735)","v":0}]
[null,725,null,null,{"$f":"IF(ISNUMBER($D$6),D736*$D$6,#REF!*D736)","v":0}]
[null,726,null,null,{"$f":"IF(ISNUMBER($D$6),D737*$D$6,#REF!*D737)","v":0}]
[null,727,null,null,{"$f":"IF(ISNUMBER($D$6),D738*$D$6,#REF!*D738)","v":0}]
[null,728,null,null,{"$f":"IF(ISNUMBER($D$6),D739*$D$6,#REF!*D739)","v":0}]
[null,729,null,null,{"$f":"IF(ISNUMBER($D$6),D740*$D$6,#REF!*D740)","v":0}]
[null,730,null,null,{"$f":"IF(ISNUMBER($D$6),D741*$D$6,#REF!*D741)","v":0}]
[null,731,null,null,{"$f":"IF(ISNUMBER($D$6),D742*$D$6,#REF!*D742)","v":0}]
[null,732,null,null,{"$f":"IF(ISNUMBER($D$6),D743*$D$6,#REF!*D743)","v":0}]
[null,733,null,null,{"$f":"IF(ISNUMBER($D$6),D744*$D$6,#REF!*D744)","v":0}]
[null,734,null,null,{"$f":"IF(ISNUMBER($D$6),D745*$D$6,#REF!*D745)","v":0}]
[null,735,null,null,{"$f":"IF(ISNUMBER($D$6),D746*$D$6,#REF!*D746)","v":0}]
[null,736,null,null,{"$f":"IF(ISNUMBER($D$6),D747*$D$6,#REF!*D747)","v":0}]
[null,737,null,null,{"$f":"IF(ISNUMBER($D$6),D748*$D$6,#REF!*D748)","v":0}]
[null,738,null,null,{"$f":"IF(ISNUMBER($D$6),D749*$D$6,#REF!*D749)","v":0}]
[null,739,null,null,{"$f":"IF(ISNUMBER($D$6),D750*$D$6,#REF!*D750)","v":0}]
[null,740,null,null,{"$f":"IF(ISNUMBER($D$6),D751*$D$6,#REF!*D751)","v":0}]
[null,741,null,null,{"$f":"IF(ISNUMBER($D$6),D752*$D$6,#REF!*D752)","v":0}]
[null,742,null,null,{"$f":"IF(ISNUMBER($D$6),D753*$D$6,#REF!*D753)","v":0}]
[null,743,null,null,{"$f":"IF(ISNUMBER($D$6),D754*$D$6,#REF!*D754)","v":0}]
[null,744,null,null,{"$f":"IF(ISNUMBER($D$6),D755*$D$6,#REF!*D755)","v":0}]
[null,745,null,null,{"$f":"IF(ISNUMBER($D$6),D756*$D$6,#REF!*D756)","v":0}]
[null,746,null,null,{"$f":"IF(ISNUMBER($D$6),D757*$D$6,#REF!*D757)","v":0}]
[null,747,null,null,{"$f":"IF(ISNUMBER($D$6),D758*$D$6,#REF!*D758)","v":0}]
[null,748,null,null,{"$f":"IF(ISNUMBER($D$6),D759*$D$6,#REF!*D759)","v":0}]
[null,749,null,null,{"$f":"IF(ISNUMBER($D$6),D760*$D$6,#REF!*D760)","v":0}]
[null,750,null,null,{"$f":"IF(ISNUMBER($D$6),D761*$D$6,#REF!*D761)","v":0}]
[null,751,null,null,{"$f":"IF(ISNUMBER($D$6),D762*$D$6,#REF!*D762)","v":0}]
[null,752,null,null,{"$f":"IF(ISNUMBER($D$6),D763*$D$6,#REF!*D763)","v":0}]
[null,753,null,null,{"$f":"IF(ISNUMBER($D$6),D764*$D$6,#REF!*D764)","v":0}]
[null,754,null,null,{"$f":"IF(ISNUMBER($D$6),D765*$D$6,#REF!*D765)","v":0}]
[null,755,null,null,{"$f":"IF(ISNUMBER($D$6),D766*$D$6,#REF!*D766)","v":0}]
[null,756,null,null,{"$f":"IF(ISNUMBER($D$6),D767*$D$6,#REF!*D767)","v":0}]
[null,{"$f":"+B767+1","v":757},null,null,{"$f":"IF(ISNUMBER($D$6),D768*$D$6,#REF!*D768)","v":0}]
[null,{"$f":"+B768+1","v":758},null,null,{"$f":"IF(ISNUMBER($D$6),D769*$D$6,#REF!*D769)","v":0}]
[null,759,null,null,{"$f":"IF(ISNUMBER($D$6),D770*$D$6,#REF!*D770)","v":0}]
[null,760,null,null,{"$f":"IF(ISNUMBER($D$6),D771*$D$6,#REF!*D771)","v":0}]
[null,761,null,null,{"$f":"IF(ISNUMBER($D$6),D772*$D$6,#REF!*D772)","v":0}]
[null,762,null,null,{"$f":"IF(ISNUMBER($D$6),D773*$D$6,#REF!*D773)","v":0}]
[null,763,null,null,{"$f":"IF(ISNUMBER($D$6),D774*$D$6,#REF!*D774)","v":0}]
[null,764,null,null,{"$f":"IF(ISNUMBER($D$6),D775*$D$6,#REF!*D775)","v":0}]
[null,765,null,null,{"$f":"IF(ISNUMBER($D$6),D776*$D$6,#REF!*D776)","v":0}]
[null,766,null,null,{"$f":"IF(ISNUMBER($D$6),D777*$D$6,#REF!*D777)","v":0}]
[null,767,null,null,{"$f":"IF(ISNUMBER($D$6),D778*$D$6,#REF!*D778)","v":0}]
[null,768,null,null,{"$f":"IF(ISNUMBER($D$6),D779*$D$6,#REF!*D779)","v":0}]
[null,769,null,null,{"$f":"IF(ISNUMBER($D$6),D780*$D$6,#REF!*D780)","v":0}]
[null,770,null,null,{"$f":"IF(ISNUMBER($D$6),D781*$D$6,#REF!*D781)","v":0}]
[null,771,null,null,{"$f":"IF(ISNUMBER($D$6),D782*$D$6,#REF!*D782)","v":0}]
[null,772,null,null,{"$f":"IF(ISNUMBER($D$6),D783*$D$6,#REF!*D783)","v":0}]
[null,773,null,null,{"$f":"IF(ISNUMBER($D$6),D784*$D$6,#REF!*D784)","v":0}]
[null,774,null,null,{"$f":"IF(ISNUMBER($D$6),D785*$D$6,#REF!*D785)","v":0}]
[null,775,null,null,{"$f":"IF(ISNUMBER($D$6),D786*$D$6,#REF!*D786)","v":0}]
[null,{"$f":"+B786+1","v":776},null,null,{"$f":"IF(ISNUMBER($D$6),D787*$D$6,#REF!*D787)","v":0}]
[null,{"$f":"+B787+1","v":777},null,null,{"$f":"IF(ISNUMBER($D$6),D788*$D$6,#REF!*D788)","v":0}]
[null,778,null,null,{"$f":"IF(ISNUMBER($D$6),D789*$D$6,#REF!*D789)","v":0}]
[null,779,null,null,{"$f":"IF(ISNUMBER($D$6),D790*$D$6,#REF!*D790)","v":0}]
[null,780,null,null,{"$f":"IF(ISNUMBER($D$6),D791*$D$6,#REF!*D791)","v":0}]
[null,781,null,null,{"$f":"IF(ISNUMBER($D$6),D792*$D$6,#REF!*D792)","v":0}]
[null,782,null,null,{"$f":"IF(ISNUMBER($D$6),D793*$D$6,#REF!*D793)","v":0}]
[null,783,null,null,{"$f":"IF(ISNUMBER($D$6),D794*$D$6,#REF!*D794)","v":0}]
[null,784,null,null,{"$f":"IF(ISNUMBER($D$6),D795*$D$6,#REF!*D795)","v":0}]
[null,785,null,null,{"$f":"IF(ISNUMBER($D$6),D796*$D$6,#REF!*D796)","v":0}]
[null,786,null,null,{"$f":"IF(ISNUMBER($D$6),D797*$D$6,#REF!*D797)","v":0}]
[null,787,null,null,{"$f":"IF(ISNUMBER($D$6),D798*$D$6,#REF!*D798)","v":0}]
[null,788,null,null,{"$f":"IF(ISNUMBER($D$6),D799*$D$6,#REF!*D799)","v":0}]
[null,789,null,null,{"$f":"IF(ISNUMBER($D$6),D800*$D$6,#REF!*D800)","v":0}]
[null,790,null,null,{"$f":"IF(ISNUMBER($D$6),D801*$D$6,#REF!*D801)","v":0}]
[null,791,null,null,{"$f":"IF(ISNUMBER($D$6),D802*$D$6,#REF!*D802)","v":0}]
[null,792,null,null,{"$f":"IF(ISNUMBER($D$6),D803*$D$6,#REF!*D803)","v":0}]
[null,793,null,null,{"$f":"IF(ISNUMBER($D$6),D804*$D$6,#REF!*D804)","v":0}]
[null,794,null,null,{"$f":"IF(ISNUMBER($D$6),D805*$D$6,#REF!*D805)","v":0}]
[null,795,null,null,{"$f":"IF(ISNUMBER($D$6),D806*$D$6,#REF!*D806)","v":0}]
[null,796,null,null,{"$f":"IF(ISNUMBER($D$6),D807*$D$6,#REF!*D807)","v":0}]
[null,797,null,null,{"$f":"IF(ISNUMBER($D$6),D808*$D$6,#REF!*D808)","v":0}]
[null,798,null,null,{"$f":"IF(ISNUMBER($D$6),D809*$D$6,#REF!*D809)","v":0}]
[null,799,null,null,{"$f":"IF(ISNUMBER($D$6),D810*$D$6,#REF!*D810)","v":0}]
[null,800,null,null,{"$f":"IF(ISNUMBER($D$6),D811*$D$6,#REF!*D811)","v":0}]
[null,801,null,null,{"$f":"IF(ISNUMBER($D$6),D812*$D$6,#REF!*D812)","v":0}]
[null,802,null,null,{"$f":"IF(ISNUMBER($D$6),D813*$D$6,#REF!*D813)","v":0}]
[null,803,null,null,{"$f":"IF(ISNUMBER($D$6),D814*$D$6,#REF!*D814)","v":0}]
[null,804,null,null,{"$f":"IF(ISNUMBER($D$6),D815*$D$6,#REF!*D815)","v":0}]
[null,805,null,null,{"$f":"IF(ISNUMBER($D$6),D816*$D$6,#REF!*D816)","v":0}]
[null,806,null,null,{"$f":"IF(ISNUMBER($D$6),D817*$D$6,#REF!*D817)","v":0}]
[null,807,null,null,{"$f":"IF(ISNUMBER($D$6),D818*$D$6,#REF!*D818)","v":0}]
[null,808,null,null,{"$f":"IF(ISNUMBER($D$6),D819*$D$6,#REF!*D819)","v":0}]
[null,809,null,null,{"$f":"IF(ISNUMBER($D$6),D820*$D$6,#REF!*D820)","v":0}]
[null,810,null,null,{"$f":"IF(ISNUMBER($D$6),D821*$D$6,#REF!*D821)","v":0}]
[null,811,null,null,{"$f":"IF(ISNUMBER($D$6),D822*$D$6,#REF!*D822)","v":0}]
[null,812,null,null,{"$f":"IF(ISNUMBER($D$6),D823*$D$6,#REF!*D823)","v":0}]
[null,813,null,null,{"$f":"IF(ISNUMBER($D$6),D824*$D$6,#REF!*D824)","v":0}]
[null,814,null,null,{"$f":"IF(ISNUMBER($D$6),D825*$D$6,#REF!*D825)","v":0}]
[null,815,null,null,{"$f":"IF(ISNUMBER($D$6),D826*$D$6,#REF!*D826)","v":0}]
[null,816,null,null,{"$f":"IF(ISNUMBER($D$6),D827*$D$6,#REF!*D827)","v":0}]
[null,817,null,null,{"$f":"IF(ISNUMBER($D$6),D828*$D$6,#REF!*D828)","v":0}]
[null,818,null,null,{"$f":"IF(ISNUMBER($D$6),D829*$D$6,#REF!*D829)","v":0}]
[null,819,null,null,{"$f":"IF(ISNUMBER($D$6),D830*$D$6,#REF!*D830)","v":0}]
[null,820,null,null,{"$f":"IF(ISNUMBER($D$6),D831*$D$6,#REF!*D831)","v":0}]
[null,821,null,null,{"$f":"IF(ISNUMBER($D$6),D832*$D$6,#REF!*D832)","v":0}]
[null,822,null,null,{"$f":"IF(ISNUMBER($D$6),D833*$D$6,#REF!*D833)","v":0}]
[null,823,null,null,{"$f":"IF(ISNUMBER($D$6),D834*$D$6,#REF!*D834)","v":0}]
[null,824,null,null,{"$f":"IF(ISNUMBER($D$6),D835*$D$6,#REF!*D835)","v":0}]
[null,825,null,null,{"$f":"IF(ISNUMBER($D$6),D836*$D$6,#REF!*D836)","v":0}]
[null,826,null,null,{"$f":"IF(ISNUMBER($D$6),D837*$D$6,#REF!*D837)","v":0}]
[null,827,null,null,{"$f":"IF(ISNUMBER($D$6),D838*$D$6,#REF!*D838)","v":0}]
[null,828,null,null,{"$f":"IF(ISNUMBER($D$6),D839*$D$6,#REF!*D839)","v":0}]
[null,829,null,null,{"$f":"IF(ISNUMBER($D$6),D840*$D$6,#REF!*D840)","v":0}]
[null,830,null,null,{"$f":"IF(ISNUMBER($D$6),D841*$D$6,#REF!*D841)","v":0}]
[null,831,null,null,{"$f":"IF(ISNUMBER($D$6),D842*$D$6,#REF!*D842)","v":0}]
[null,832,null,null,{"$f":"IF(ISNUMBER($D$6),D843*$D$6,#REF!*D843)","v":0}]
[null,833,null,null,{"$f":"IF(ISNUMBER($D$6),D844*$D$6,#REF!*D844)","v":0}]
[null,834,null,null,{"$f":"IF(ISNUMBER($D$6),D845*$D$6,#REF!*D845)","v":0}]
[null,835,null,null,{"$f":"IF(ISNUMBER($D$6),D846*$D$6,#REF!*D846)","v":0}]
[null,836,null,null,{"$f":"IF(ISNUMBER($D$6),D847*$D$6,#REF!*D847)","v":0}]
[null,837,null,null,{"$f":"IF(ISNUMBER($D$6),D848*$D$6,#REF!*D848)","v":0}]
[null,838,null,null,{"$f":"IF(ISNUMBER($D$6),D849*$D$6,#REF!*D849)","v":0}]
[null,839,null,null,{"$f":"IF(ISNUMBER($D$6),D850*$D$6,#REF!*D850)","v":0}]
[null,840,null,null,{"$f":"IF(ISNUMBER($D$6),D851*$D$6,#REF!*D851)","v":0}]
[null,{"$f":"+B851+1","v":841},null,null,{"$f":"IF(ISNUMBER($D$6),D852*$D$6,#REF!*D852)","v":0}]
[null,842,null,null,{"$f":"IF(ISNUMBER($D$6),D853*$D$6,#REF!*D853)","v":0}]
[null,843,null,null,{"$f":"IF(ISNUMBER($D$6),D854*$D$6,#REF!*D854)","v":0}]
[null,844,null,null,{"$f":"IF(ISNUMBER($D$6),D855*$D$6,#REF!*D855)","v":0}]
[null,845,null,null,{"$f":"IF(ISNUMBER($D$6),D856*$D$6,#REF!*D856)","v":0}]
[null,846,null,null,{"$f":"IF(ISNUMBER($D$6),D857*$D$6,#REF!*D857)","v":0}]
[null,847,null,null,{"$f":"IF(ISNUMBER($D$6),D858*$D$6,#REF!*D858)","v":0}]
[null,848,null,null,{"$f":"IF(ISNUMBER($D$6),D859*$D$6,#REF!*D859)","v":0}]
[null,849,null,null,{"$f":"IF(ISNUMBER($D$6),D860*$D$6,#REF!*D860)","v":0}]
[null,850,null,null,{"$f":"IF(ISNUMBER($D$6),D861*$D$6,#REF!*D861)","v":0}]
[null,851,null,null,{"$f":"IF(ISNUMBER($D$6),D862*$D$6,#REF!*D862)","v":0}]
[null,852,null,null,{"$f":"IF(ISNUMBER($D$6),D863*$D$6,#REF!*D863)","v":0}]
[null,853,null,null,{"$f":"IF(ISNUMBER($D$6),D864*$D$6,#REF!*D864)","v":0}]
[null,854,null,null,{"$f":"IF(ISNUMBER($D$6),D865*$D$6,#REF!*D865)","v":0}]
[null,855,null,null,{"$f":"IF(ISNUMBER($D$6),D866*$D$6,#REF!*D866)","v":0}]
[null,856,null,null,{"$f":"IF(ISNUMBER($D$6),D867*$D$6,#REF!*D867)","v":0}]
[null,857,null,null,{"$f":"IF(ISNUMBER($D$6),D868*$D$6,#REF!*D868)","v":0}]
[null,858,null,null,{"$f":"IF(ISNUMBER($D$6),D869*$D$6,#REF!*D869)","v":0}]
[null,859,null,null,{"$f":"IF(ISNUMBER($D$6),D870*$D$6,#REF!*D870)","v":0}]
[null,860,null,null,{"$f":"IF(ISNUMBER($D$6),D871*$D$6,#REF!*D871)","v":0}]
[null,861,null,null,{"$f":"IF(ISNUMBER($D$6),D872*$D$6,#REF!*D872)","v":0}]
[null,862,null,null,{"$f":"IF(ISNUMBER($D$6),D873*$D$6,#REF!*D873)","v":0}]
[null,863,null,null,{"$f":"IF(ISNUMBER($D$6),D874*$D$6,#REF!*D874)","v":0}]
[null,864,null,null,{"$f":"IF(ISNUMBER($D$6),D875*$D$6,#REF!*D875)","v":0}]
[null,865,null,null,{"$f":"IF(ISNUMBER($D$6),D876*$D$6,#REF!*D876)","v":0}]
[null,866,null,null,{"$f":"IF(ISNUMBER($D$6),D877*$D$6,#REF!*D877)","v":0}]
[null,867,null,null,{"$f":"IF(ISNUMBER($D$6),D878*$D$6,#REF!*D878)","v":0}]
[null,868,null,null,{"$f":"IF(ISNUMBER($D$6),D879*$D$6,#REF!*D879)","v":0}]
[null,869,null,null,{"$f":"IF(ISNUMBER($D$6),D880*$D$6,#REF!*D880)","v":0}]
[null,870,null,null,{"$f":"IF(ISNUMBER($D$6),D881*$D$6,#REF!*D881)","v":0}]
[null,871,null,null,{"$f":"IF(ISNUMBER($D$6),D882*$D$6,#REF!*D882)","v":0}]
[null,872,null,null,{"$f":"IF(ISNUMBER($D$6),D883*$D$6,#REF!*D883)","v":0}]
[null,873,null,null,{"$f":"IF(ISNUMBER($D$6),D884*$D$6,#REF!*D884)","v":0}]
[null,874,null,null,{"$f":"IF(ISNUMBER($D$6),D885*$D$6,#REF!*D885)","v":0}]
[null,875,null,null,{"$f":"IF(ISNUMBER($D$6),D886*$D$6,#REF!*D886)","v":0}]
[null,876,null,null,{"$f":"IF(ISNUMBER($D$6),D887*$D$6,#REF!*D887)","v":0}]
[null,877,null,null,{"$f":"IF(ISNUMBER($D$6),D888*$D$6,#REF!*D888)","v":0}]
[null,878,null,null,{"$f":"IF(ISNUMBER($D$6),D889*$D$6,#REF!*D889)","v":0}]
[null,879,null,null,{"$f":"IF(ISNUMBER($D$6),D890*$D$6,#REF!*D890)","v":0}]
[null,880,null,null,{"$f":"IF(ISNUMBER($D$6),D891*$D$6,#REF!*D891)","v":0}]
[null,881,null,null,{"$f":"IF(ISNUMBER($D$6),D892*$D$6,#REF!*D892)","v":0}]
[null,882,null,null,{"$f":"IF(ISNUMBER($D$6),D893*$D$6,#REF!*D893)","v":0}]
[null,883,null,null,{"$f":"IF(ISNUMBER($D$6),D894*$D$6,#REF!*D894)","v":0}]
[null,884,null,null,{"$f":"IF(ISNUMBER($D$6),D895*$D$6,#REF!*D895)","v":0}]
[null,885,null,null,{"$f":"IF(ISNUMBER($D$6),D896*$D$6,#REF!*D896)","v":0}]
[null,886,null,null,{"$f":"IF(ISNUMBER($D$6),D897*$D$6,#REF!*D897)","v":0}]
[null,887,null,null,{"$f":"IF(ISNUMBER($D$6),D898*$D$6,#REF!*D898)","v":0}]
[null,888,null,null,{"$f":"IF(ISNUMBER($D$6),D899*$D$6,#REF!*D899)","v":0}]
[null,889,null,null,{"$f":"IF(ISNUMBER($D$6),D900*$D$6,#REF!*D900)","v":0}]
[null,890,null,null,{"$f":"IF(ISNUMBER($D$6),D901*$D$6,#REF!*D901)","v":0}]
[null,891,null,null,{"$f":"IF(ISNUMBER($D$6),D902*$D$6,#REF!*D902)","v":0}]
[null,892,null,null,{"$f":"IF(ISNUMBER($D$6),D903*$D$6,#REF!*D903)","v":0}]
[null,893,null,null,{"$f":"IF(ISNUMBER($D$6),D904*$D$6,#REF!*D904)","v":0}]
[null,894,null,null,{"$f":"IF(ISNUMBER($D$6),D905*$D$6,#REF!*D905)","v":0}]
[null,895,null,null,{"$f":"IF(ISNUMBER($D$6),D906*$D$6,#REF!*D906)","v":0}]
[null,896,null,null,{"$f":"IF(ISNUMBER($D$6),D907*$D$6,#REF!*D907)","v":0}]
[null,897,null,null,{"$f":"IF(ISNUMBER($D$6),D908*$D$6,#REF!*D908)","v":0}]
[null,898,null,null,{"$f":"IF(ISNUMBER($D$6),D909*$D$6,#REF!*D909)","v":0}]
[null,899,null,null,{"$f":"IF(ISNUMBER($D$6),D910*$D$6,#REF!*D910)","v":0}]
[null,900,null,null,{"$f":"IF(ISNUMBER($D$6),D911*$D$6,#REF!*D911)","v":0}]
[null,901,null,null,{"$f":"IF(ISNUMBER($D$6),D912*$D$6,#REF!*D912)","v":0}]
[null,902,null,null,{"$f":"IF(ISNUMBER($D$6),D913*$D$6,#REF!*D913)","v":0}]
[null,903,null,null,{"$f":"IF(ISNUMBER($D$6),D914*$D$6,#REF!*D914)","v":0}]
[null,904,null,null,{"$f":"IF(ISNUMBER($D$6),D915*$D$6,#REF!*D915)","v":0}]
[null,{"$f":"+B915+1","v":905},null,null,{"$f":"IF(ISNUMBER($D$6),D916*$D$6,#REF!*D916)","v":0}]
[null,906,null,null,{"$f":"IF(ISNUMBER($D$6),D917*$D$6,#REF!*D917)","v":0}]
[null,907,null,null,{"$f":"IF(ISNUMBER($D$6),D918*$D$6,#REF!*D918)","v":0}]
[null,908,null,null,{"$f":"IF(ISNUMBER($D$6),D919*$D$6,#REF!*D919)","v":0}]
[null,909,null,null,{"$f":"IF(ISNUMBER($D$6),D920*$D$6,#REF!*D920)","v":0}]
[null,910,null,null,{"$f":"IF(ISNUMBER($D$6),D921*$D$6,#REF!*D921)","v":0}]
[null,911,null,null,{"$f":"IF(ISNUMBER($D$6),D922*$D$6,#REF!*D922)","v":0}]
[null,912,null,null,{"$f":"IF(ISNUMBER($D$6),D923*$D$6,#REF!*D923)","v":0}]
[null,913,null,null,{"$f":"IF(ISNUMBER($D$6),D924*$D$6,#REF!*D924)","v":0}]
[null,914,null,null,{"$f":"IF(ISNUMBER($D$6),D925*$D$6,#REF!*D925)","v":0}]
[null,915,null,null,{"$f":"IF(ISNUMBER($D$6),D926*$D$6,#REF!*D926)","v":0}]
[null,916,null,null,{"$f":"IF(ISNUMBER($D$6),D927*$D$6,#REF!*D927)","v":0}]
[null,917,null,null,{"$f":"IF(ISNUMBER($D$6),D928*$D$6,#REF!*D928)","v":0}]
[null,918,null,null,{"$f":"IF(ISNUMBER($D$6),D929*$D$6,#REF!*D929)","v":0}]
[null,919,null,null,{"$f":"IF(ISNUMBER($D$6),D930*$D$6,#REF!*D930)","v":0}]
[null,920,null,null,{"$f":"IF(ISNUMBER($D$6),D931*$D$6,#REF!*D931)","v":0}]
[null,921,null,null,{"$f":"IF(ISNUMBER($D$6),D932*$D$6,#REF!*D932)","v":0}]
[null,922,null,null,{"$f":"IF(ISNUMBER($D$6),D933*$D$6,#REF!*D933)","v":0}]
[null,923,null,null,{"$f":"IF(ISNUMBER($D$6),D934*$D$6,#REF!*D934)","v":0}]
[null,924,null,null,{"$f":"IF(ISNUMBER($D$6),D935*$D$6,#REF!*D935)","v":0}]
[null,925,null,null,{"$f":"IF(ISNUMBER($D$6),D936*$D$6,#REF!*D936)","v":0}]
[null,926,null,null,{"$f":"IF(ISNUMBER($D$6),D937*$D$6,#REF!*D937)","v":0}]
[null,927,null,null,{"$f":"IF(ISNUMBER($D$6),D938*$D$6,#REF!*D938)","v":0}]
[null,928,null,null,{"$f":"IF(ISNUMBER($D$6),D939*$D$6,#REF!*D939)","v":0}]
[null,929,null,null,{"$f":"IF(ISNUMBER($D$6),D940*$D$6,#REF!*D940)","v":0}]
[null,930,null,null,{"$f":"IF(ISNUMBER($D$6),D941*$D$6,#REF!*D941)","v":0}]
[null,931,null,null,{"$f":"IF(ISNUMBER($D$6),D942*$D$6,#REF!*D942)","v":0}]
[null,932,null,null,{"$f":"IF(ISNUMBER($D$6),D943*$D$6,#REF!*D943)","v":0}]
[null,933,null,null,{"$f":"IF(ISNUMBER($D$6),D944*$D$6,#REF!*D944)","v":0}]
[null,934,null,null,{"$f":"IF(ISNUMBER($D$6),D945*$D$6,#REF!*D945)","v":0}]
[null,935,null,null,{"$f":"IF(ISNUMBER($D$6),D946*$D$6,#REF!*D946)","v":0}]
[null,936,null,null,{"$f":"IF(ISNUMBER($D$6),D947*$D$6,#REF!*D947)","v":0}]
[null,937,null,null,{"$f":"IF(ISNUMBER($D$6),D948*$D$6,#REF!*D948)","v":0}]
[null,938,null,null,{"$f":"IF(ISNUMBER($D$6),D949*$D$6,#REF!*D949)","v":0}]
[null,939,null,null,{"$f":"IF(ISNUMBER($D$6),D950*$D$6,#REF!*D950)","v":0}]
[null,940,null,null,{"$f":"IF(ISNUMBER($D$6),D951*$D$6,#REF!*D951)","v":0}]
[null,941,null,null,{"$f":"IF(ISNUMBER($D$6),D952*$D$6,#REF!*D952)","v":0}]
[null,942,null,null,{"$f":"IF(ISNUMBER($D$6),D953*$D$6,#REF!*D953)","v":0}]
[null,943,null,null,{"$f":"IF(ISNUMBER($D$6),D954*$D$6,#REF!*D954)","v":0}]
[null,944,null,null,{"$f":"IF(ISNUMBER($D$6),D955*$D$6,#REF!*D955)","v":0}]
[null,945,null,null,{"$f":"IF(ISNUMBER($D$6),D956*$D$6,#REF!*D956)","v":0}]
[null,946,null,null,{"$f":"IF(ISNUMBER($D$6),D957*$D$6,#REF!*D957)","v":0}]
[null,947,null,null,{"$f":"IF(ISNUMBER($D$6),D958*$D$6,#REF!*D958)","v":0}]
[null,948,null,null,{"$f":"IF(ISNUMBER($D$6),D959*$D$6,#REF!*D959)","v":0}]
[null,949,null,null,{"$f":"IF(ISNUMBER($D$6),D960*$D$6,#REF!*D960)","v":0}]
[null,950,null,null,{"$f":"IF(ISNUMBER($D$6),D961*$D$6,#REF!*D961)","v":0}]
[null,951,null,null,{"$f":"IF(ISNUMBER($D$6),D962*$D$6,#REF!*D962)","v":0}]
[null,952,null,null,{"$f":"IF(ISNUMBER($D$6),D963*$D$6,#REF!*D963)","v":0}]
[null,953,null,null,{"$f":"IF(ISNUMBER($D$6),D964*$D$6,#REF!*D964)","v":0}]
[null,954,null,null,{"$f":"IF(ISNUMBER($D$6),D965*$D$6,#REF!*D965)","v":0}]
[null,955,null,null,{"$f":"IF(ISNUMBER($D$6),D966*$D$6,#REF!*D966)","v":0}]
[null,956,null,null,{"$f":"IF(ISNUMBER($D$6),D967*$D$6,#REF!*D967)","v":0}]
[null,957,null,null,{"$f":"IF(ISNUMBER($D$6),D968*$D$6,#REF!*D968)","v":0}]
[null,958,null,null,{"$f":"IF(ISNUMBER($D$6),D969*$D$6,#REF!*D969)","v":0}]
[null,959,null,null,{"$f":"IF(ISNUMBER($D$6),D970*$D$6,#REF!*D970)","v":0}]
[null,960,null,null,{"$f":"IF(ISNUMBER($D$6),D971*$D$6,#REF!*D971)","v":0}]
[null,961,null,null,{"$f":"IF(ISNUMBER($D$6),D972*$D$6,#REF!*D972)","v":0}]
[null,962,null,null,{"$f":"IF(ISNUMBER($D$6),D973*$D$6,#REF!*D973)","v":0}]
[null,963,null,null,{"$f":"IF(ISNUMBER($D$6),D974*$D$6,#REF!*D974)","v":0}]
[null,964,null,null,{"$f":"IF(ISNUMBER($D$6),D975*$D$6,#REF!*D975)","v":0}]
[null,965,null,null,{"$f":"IF(ISNUMBER($D$6),D976*$D$6,#REF!*D976)","v":0}]
[null,966,null,null,{"$f":"IF(ISNUMBER($D$6),D977*$D$6,#REF!*D977)","v":0}]
[null,967,null,null,{"$f":"IF(ISNUMBER($D$6),D978*$D$6,#REF!*D978)","v":0}]
[null,968,null,null,{"$f":"IF(ISNUMBER($D$6),D979*$D$6,#REF!*D979)","v":0}]
[null,{"$f":"+B979+1","v":969},null,null,{"$f":"IF(ISNUMBER($D$6),D980*$D$6,#REF!*D980)","v":0}]
[null,970,null,null,{"$f":"IF(ISNUMBER($D$6),D981*$D$6,#REF!*D981)","v":0}]
[null,971,null,null,{"$f":"IF(ISNUMBER($D$6),D982*$D$6,#REF!*D982)","v":0}]
[null,972,null,null,{"$f":"IF(ISNUMBER($D$6),D983*$D$6,#REF!*D983)","v":0}]
[null,973,null,null,{"$f":"IF(ISNUMBER($D$6),D984*$D$6,#REF!*D984)","v":0}]
[null,974,null,null,{"$f":"IF(ISNUMBER($D$6),D985*$D$6,#REF!*D985)","v":0}]
[null,975,null,null,{"$f":"IF(ISNUMBER($D$6),D986*$D$6,#REF!*D986)","v":0}]
[null,976,null,null,{"$f":"IF(ISNUMBER($D$6),D987*$D$6,#REF!*D987)","v":0}]
[null,977,null,null,{"$f":"IF(ISNUMBER($D$6),D988*$D$6,#REF!*D988)","v":0}]
[null,978,null,null,{"$f":"IF(ISNUMBER($D$6),D989*$D$6,#REF!*D989)","v":0}]
[null,979,null,null,{"$f":"IF(ISNUMBER($D$6),D990*$D$6,#REF!*D990)","v":0}]
[null,980,null,null,{"$f":"IF(ISNUMBER($D$6),D991*$D$6,#REF!*D991)","v":0}]
[null,981,null,null,{"$f":"IF(ISNUMBER($D$6),D992*$D$6,#REF!*D992)","v":0}]
[null,982,null,null,{"$f":"IF(ISNUMBER($D$6),D993*$D$6,#REF!*D993)","v":0}]
[null,983,null,null,{"$f":"IF(ISNUMBER($D$6),D994*$D$6,#REF!*D994)","v":0}]
[null,984,null,null,{"$f":"IF(ISNUMBER($D$6),D995*$D$6,#REF!*D995)","v":0}]
[null,985,null,null,{"$f":"IF(ISNUMBER($D$6),D996*$D$6,#REF!*D996)","v":0}]
[null,986,null,null,{"$f":"IF(ISNUMBER($D$6),D997*$D$6,#REF!*D997)","v":0}]
[null,987,null,null,{"$f":"IF(ISNUMBER($D$6),D998*$D$6,#REF!*D998)","v":0}]
[null,988,null,null,{"$f":"IF(ISNUMBER($D$6),D999*$D$6,#REF!*D999)","v":0}]
[null,989,null,null,{"$f":"IF(ISNUMBER($D$6),D1000*$D$6,#REF!*D1000)","v":0}]
[null,990,null,null,{"$f":"IF(ISNUMBER($D$6),D1001*$D$6,#REF!*D1001)","v":0}]
[null,991,null,null,{"$f":"IF(ISNUMBER($D$6),D1002*$D$6,#REF!*D1002)","v":0}]
[null,992,null,null,{"$f":"IF(ISNUMBER($D$6),D1003*$D$6,#REF!*D1003)","v":0}]
[null,993,null,null,{"$f":"IF(ISNUMBER($D$6),D1004*$D$6,#REF!*D1004)","v":0}]
[null,994,null,null,{"$f":"IF(ISNUMBER($D$6),D1005*$D$6,#REF!*D1005)","v":0}]
[null,995,null,null,{"$f":"IF(ISNUMBER($D$6),D1006*$D$6,#REF!*D1006)","v":0}]
[null,996,null,null,{"$f":"IF(ISNUMBER($D$6),D1007*$D$6,#REF!*D1007)","v":0}]
[null,997,null,null,{"$f":"IF(ISNUMBER($D$6),D1008*$D$6,#REF!*D1008)","v":0}]
[null,998,null,null,{"$f":"IF(ISNUMBER($D$6),D1009*$D$6,#REF!*D1009)","v":0}]
[null,999,null,null,{"$f":"IF(ISNUMBER($D$6),D1010*$D$6,#REF!*D1010)","v":0}]
[null,1000,null,null,{"$f":"IF(ISNUMBER($D$6),D1011*$D$6,#REF!*D1011)","v":0}]

{"sheet":"Pontos de Monitorização6","index":9,"n_rows":1011,"n_cols":5,"rows_kept":1011,"cut":false,"hidden":true,"merged":[[1,1,2,4],[4,1,4,2],[5,1,5,2],[7,1,7,2]]}
[]
[null,"SISTEMAS DE QUANTIFICAÇÃO, MONITORIZAÇÃO CONTÍNUA E GESTÃO DE ENERGIA"]
[]
[]
[null,"Identifique a fonte de energia:",null,{"$f":"+Economias!E77","v":0},"(t)"]
[null,"Fator de conversão:",null,{"$f":"+Economias!E80","v":0},{"$f":"\"tep/\"&$E$5&\"\"","v":"tep/(t)"}]
[]
[null,"Indique o número total de pontos a monitorizar:"]
[]
[]
[null,"número do ponto de monitorização","Identificação do ponto de monitorização",{"$f":"IF(D5=\"Energia elétrica\",\"Utilização anual de \"&$D$5&\" (kWh/ano)\",\"Utilização anual de \"&$D$5&\" (t/ano)\")","v":"Utilização anual de 0 (t/ano)"},"Consumo energético referente ao ano de referência (tep/ano)"]
[null,1,null,null,{"$f":"IF(ISNUMBER($D$6),D12*$D$6,#REF!*D12)","v":0}]
[null,{"$f":"+B12+1","v":2},null,null,{"$f":"IF(ISNUMBER($D$6),D13*$D$6,#REF!*D13)","v":0}]
[null,{"$f":"+B13+1","v":3},null,null,{"$f":"IF(ISNUMBER($D$6),D14*$D$6,#REF!*D14)","v":0}]
[null,4,null,null,{"$f":"IF(ISNUMBER($D$6),D15*$D$6,#REF!*D15)","v":0}]
[null,5,null,null,{"$f":"IF(ISNUMBER($D$6),D16*$D$6,#REF!*D16)","v":0}]
[null,6,null,null,{"$f":"IF(ISNUMBER($D$6),D17*$D$6,#REF!*D17)","v":0}]
[null,7,null,null,{"$f":"IF(ISNUMBER($D$6),D18*$D$6,#REF!*D18)","v":0}]
[null,8,null,null,{"$f":"IF(ISNUMBER($D$6),D19*$D$6,#REF!*D19)","v":0}]
[null,9,null,null,{"$f":"IF(ISNUMBER($D$6),D20*$D$6,#REF!*D20)","v":0}]
[null,10,null,null,{"$f":"IF(ISNUMBER($D$6),D21*$D$6,#REF!*D21)","v":0}]
[null,11,null,null,{"$f":"IF(ISNUMBER($D$6),D22*$D$6,#REF!*D22)","v":0}]
[null,12,null,null,{"$f":"IF(ISNUMBER($D$6),D23*$D$6,#REF!*D23)","v":0}]
[null,13,null,null,{"$f":"IF(ISNUMBER($D$6),D24*$D$6,#REF!*D24)","v":0}]
[null,14,null,null,{"$f":"IF(ISNUMBER($D$6),D25*$D$6,#REF!*D25)","v":0}]
[null,15,null,null,{"$f":"IF(ISNUMBER($D$6),D26*$D$6,#REF!*D26)","v":0}]
[null,16,null,null,{"$f":"IF(ISNUMBER($D$6),D27*$D$6,#REF!*D27)","v":0}]
[null,17,null,null,{"$f":"IF(ISNUMBER($D$6),D28*$D$6,#REF!*D28)","v":0}]
[null,18,null,null,{"$f":"IF(ISNUMBER($D$6),D29*$D$6,#REF!*D29)","v":0}]
[null,19,null,null,{"$f":"IF(ISNUMBER($D$6),D30*$D$6,#REF!*D30)","v":0}]
[null,20,null,null,{"$f":"IF(ISNUMBER($D$6),D31*$D$6,#REF!*D31)","v":0}]
[null,21,null,null,{"$f":"IF(ISNUMBER($D$6),D32*$D$6,#REF!*D32)","v":0}]
[null,22,null,null,{"$f":"IF(ISNUMBER($D$6),D33*$D$6,#REF!*D33)","v":0}]
[null,23,null,null,{"$f":"IF(ISNUMBER($D$6),D34*$D$6,#REF!*D34)","v":0}]
[null,24,null,null,{"$f":"IF(ISNUMBER($D$6),D35*$D$6,#REF!*D35)","v":0}]
[null,25,null,null,{"$f":"IF(ISNUMBER($D$6),D36*$D$6,#REF!*D36)","v":0}]
[null,26,null,null,{"$f":"IF(ISNUMBER($D$6),D37*$D$6,#REF!*D37)","v":0}]
[null,27,null,null,{"$f":"IF(ISNUMBER($D$6),D38*$D$6,#REF!*D38)","v":0}]
[null,28,null,null,{"$f":"IF(ISNUMBER($D$6),D39*$D$6,#REF!*D39)","v":0}]
[null,29,null,null,{"$f":"IF(ISNUMBER($D$6),D40*$D$6,#REF!*D40)","v":0}]
[null,30,null,null,{"$f":"IF(ISNUMBER($D$6),D41*$D$6,#REF!*D41)","v":0}]
[null,31,null,null,{"$f":"IF(ISNUMBER($D$6),D42*$D$6,#REF!*D42)","v":0}]
[null,32,null,null,{"$f":"IF(ISNUMBER($D$6),D43*$D$6,#REF!*D43)","v":0}]
[null,33,null,null,{"$f":"IF(ISNUMBER($D$6),D44*$D$6,#REF!*D44)","v":0}]
[null,34,null,null,{"$f":"IF(ISNUMBER($D$6),D45*$D$6,#REF!*D45)","v":0}]
[null,35,null,null,{"$f":"IF(ISNUMBER($D$6),D46*$D$6,#REF!*D46)","v":0}]
[null,36,null,null,{"$f":"IF(ISNUMBER($D$6),D47*$D$6,#REF!*D47)","v":0}]
[null,37,null,null,{"$f":"IF(ISNUMBER($D$6),D48*$D$6,#REF!*D48)","v":0}]
[null,38,null,null,{"$f":"IF(ISNUMBER($D$6),D49*$D$6,#REF!*D49)","v":0}]
[null,39,null,null,{"$f":"IF(ISNUMBER($D$6),D50*$D$6,#REF!*D50)","v":0}]
[null,40,null,null,{"$f":"IF(ISNUMBER($D$6),D51*$D$6,#REF!*D51)","v":0}]
[null,41,null,null,{"$f":"IF(ISNUMBER($D$6),D52*$D$6,#REF!*D52)","v":0}]
[null,42,null,null,{"$f":"IF(ISNUMBER($D$6),D53*$D$6,#REF!*D53)","v":0}]
[null,43,null,null,{"$f":"IF(ISNUMBER($D$6),D54*$D$6,#REF!*D54)","v":0}]
[null,44,null,null,{"$f":"IF(ISNUMBER($D$6),D55*$D$6,#REF!*D55)","v":0}]
[null,45,null,null,{"$f":"IF(ISNUMBER($D$6),D56*$D$6,#REF!*D56)","v":0}]
[null,46,null,null,{"$f":"IF(ISNUMBER($D$6),D57*$D$6,#REF!*D57)","v":0}]
[null,47,null,null,{"$f":"IF(ISNUMBER($D$6),D58*$D$6,#REF!*D58)","v":0}]
[null,48,null,null,{"$f":"IF(ISNUMBER($D$6),D59*$D$6,#REF!*D59)","v":0}]
[null,49,null,null,{"$f":"IF(ISNUMBER($D$6),D60*$D$6,#REF!*D60)","v":0}]
[null,50,null,null,{"$f":"IF(ISNUMBER($D$6),D61*$D$6,#REF!*D61)","v":0}]
[null,51,null,null,{"$f":"IF(ISNUMBER($D$6),D62*$D$6,#REF!*D62)","v":0}]
[null,52,null,null,{"$f":"IF(ISNUMBER($D$6),D63*$D$6,#REF!*D63)","v":0}]
[null,53,null,null,{"$f":"IF(ISNUMBER($D$6),D64*$D$6,#REF!*D64)","v":0}]
[null,54,null,null,{"$f":"IF(ISNUMBER($D$6),D65*$D$6,#REF!*D65)","v":0}]
[null,55,null,null,{"$f":"IF(ISNUMBER($D$6),D66*$D$6,#REF!*D66)","v":0}]
[null,56,null,null,{"$f":"IF(ISNUMBER($D$6),D67*$D$6,#REF!*D67)","v":0}]
[null,57,null,null,{"$f":"IF(ISNUMBER($D$6),D68*$D$6,#REF!*D68)","v":0}]
[null,58,null,null,{"$f":"IF(ISNUMBER($D$6),D69*$D$6,#REF!*D69)","v":0}]
[null,59,null,null,{"$f":"IF(ISNUMBER($D$6),D70*$D$6,#REF!*D70)","v":0}]
[null,60,null,null,{"$f":"IF(ISNUMBER($D$6),D71*$D$6,#REF!*D71)","v":0}]
[null,61,null,null,{"$f":"IF(ISNUMBER($D$6),D72*$D$6,#REF!*D72)","v":0}]
[null,62,null,null,{"$f":"IF(ISNUMBER($D$6),D73*$D$6,#REF!*D73)","v":0}]
[null,63,null,null,{"$f":"IF(ISNUMBER($D$6),D74*$D$6,#REF!*D74)","v":0}]
[null,64,null,null,{"$f":"IF(ISNUMBER($D$6),D75*$D$6,#REF!*D75)","v":0}]
[null,65,null,null,{"$f":"IF(ISNUMBER($D$6),D76*$D$6,#REF!*D76)","v":0}]
[null,66,null,null,{"$f":"IF(ISNUMBER($D$6),D77*$D$6,#REF!*D77)","v":0}]
[null,{"$f":"+B77+1","v":67},null,null,{"$f":"IF(ISNUMBER($D$6),D78*$D$6,#REF!*D78)","v":0}]
[null,68,null,null,{"$f":"IF(ISNUMBER($D$6),D79*$D$6,#REF!*D79)","v":0}]
[null,69,null,null,{"$f":"IF(ISNUMBER($D$6),D80*$D$6,#REF!*D80)","v":0}]
[null,70,null,null,{"$f":"IF(ISNUMBER($D$6),D81*$D$6,#REF!*D81)","v":0}]
[null,71,null,null,{"$f":"IF(ISNUMBER($D$6),D82*$D$6,#REF!*D82)","v":0}]
[null,72,null,null,{"$f":"IF(ISNUMBER($D$6),D83*$D$6,#REF!*D83)","v":0}]
[null,73,null,null,{"$f":"IF(ISNUMBER($D$6),D84*$D$6,#REF!*D84)","v":0}]
[null,74,null,null,{"$f":"IF(ISNUMBER($D$6),D85*$D$6,#REF!*D85)","v":0}]
[null,75,null,null,{"$f":"IF(ISNUMBER($D$6),D86*$D$6,#REF!*D86)","v":0}]
[null,76,null,null,{"$f":"IF(ISNUMBER($D$6),D87*$D$6,#REF!*D87)","v":0}]
[null,77,null,null,{"$f":"IF(ISNUMBER($D$6),D88*$D$6,#REF!*D88)","v":0}]
[null,78,null,null,{"$f":"IF(ISNUMBER($D$6),D89*$D$6,#REF!*D89)","v":0}]
[null,79,null,null,{"$f":"IF(ISNUMBER($D$6),D90*$D$6,#REF!*D90)","v":0}]
[null,80,null,null,{"$f":"IF(ISNUMBER($D$6),D91*$D$6,#REF!*D91)","v":0}]
[null,81,null,null,{"$f":"IF(ISNUMBER($D$6),D92*$D$6,#REF!*D92)","v":0}]
[null,82,null,null,{"$f":"IF(ISNUMBER($D$6),D93*$D$6,#REF!*D93)","v":0}]
[null,83,null,null,{"$f":"IF(ISNUMBER($D$6),D94*$D$6,#REF!*D94)","v":0}]
[null,84,null,null,{"$f":"IF(ISNUMBER($D$6),D95*$D$6,#REF!*D95)","v":0}]
[null,85,null,null,{"$f":"IF(ISNUMBER($D$6),D96*$D$6,#REF!*D96)","v":0}]
[null,86,null,null,{"$f":"IF(ISNUMBER($D$6),D97*$D$6,#REF!*D97)","v":0}]
[null,87,null,null,{"$f":"IF(ISNUMBER($D$6),D98*$D$6,#REF!*D98)","v":0}]
[null,88,null,null,{"$f":"IF(ISNUMBER($D$6),D99*$D$6,#REF!*D99)","v":0}]
[null,89,null,null,{"$f":"IF(ISNUMBER($D$6),D100*$D$6,#REF!*D100)","v":0}]
[null,90,null,null,{"$f":"IF(ISNUMBER($D$6),D101*$D$6,#REF!*D101)","v":0}]
[null,91,null,null,{"$f":"IF(ISNUMBER($D$6),D102*$D$6,#REF!*D102)","v":0}]
[null,92,null,null,{"$f":"IF(ISNUMBER($D$6),D103*$D$6,#REF!*D103)","v":0}]
[null,93,null,null,{"$f":"IF(ISNUMBER($D$6),D104*$D$6,#REF!*D104)","v":0}]
[null,94,null,null,{"$f":"IF(ISNUMBER($D$6),D105*$D$6,#REF!*D105)","v":0}]
[null,95,null,null,{"$f":"IF(ISNUMBER($D$6),D106*$D$6,#REF!*D106)","v":0}]
[null,96,null,null,{"$f":"IF(ISNUMBER($D$6),D107*$D$6,#REF!*D107)","v":0}]
[null,97,null,null,{"$f":"IF(ISNUMBER($D$6),D108*$D$6,#REF!*D108)","v":0}]
[null,98,null,null,{"$f":"IF(ISNUMBER($D$6),D109*$D$6,#REF!*D109)","v":0}]
[null,99,null,null,{"$f":"IF(ISNUMBER($D$6),D110*$D$6,#REF!*D110)","v":0}]
[null,100,null,null,{"$f":"IF(ISNUMBER($D$6),D111*$D$6,#REF!*D111)","v":0}]
[null,101,null,null,{"$f":"IF(ISNUMBER($D$6),D112*$D$6,#REF!*D112)","v":0}]
[null,102,null,null,{"$f":"IF(ISNUMBER($D$6),D113*$D$6,#REF!*D113)","v":0}]
[null,103,null,null,{"$f":"IF(ISNUMBER($D$6),D114*$D$6,#REF!*D114)","v":0}]
[null,104,null,null,{"$f":"IF(ISNUMBER($D$6),D115*$D$6,#REF!*D115)","v":0}]
[null,105,null,null,{"$f":"IF(ISNUMBER($D$6),D116*$D$6,#REF!*D116)","v":0}]
[null,106,null,null,{"$f":"IF(ISNUMBER($D$6),D117*$D$6,#REF!*D117)","v":0}]
[null,107,null,null,{"$f":"IF(ISNUMBER($D$6),D118*$D$6,#REF!*D118)","v":0}]
[null,108,null,null,{"$f":"IF(ISNUMBER($D$6),D119*$D$6,#REF!*D119)","v":0}]
[null,109,null,null,{"$f":"IF(ISNUMBER($D$6),D120*$D$6,#REF!*D120)","v":0}]
[null,110,null,null,{"$f":"IF(ISNUMBER($D$6),D121*$D$6,#REF!*D121)","v":0}]
[null,111,null,null,{"$f":"IF(ISNUMBER($D$6),D122*$D$6,#REF!*D122)","v":0}]
[null,112,null,null,{"$f":"IF(ISNUMBER($D$6),D123*$D$6,#REF!*D123)","v":0}]
[null,113,null,null,{"$f":"IF(ISNUMBER($D$6),D124*$D$6,#REF!*D124)","v":0}]
[null,114,null,null,{"$f":"IF(ISNUMBER($D$6),D125*$D$6,#REF!*D125)","v":0}]
[null,115,null,null,{"$f":"IF(ISNUMBER($D$6),D126*$D$6,#REF!*D126)","v":0}]
[null,116,null,null,{"$f":"IF(ISNUMBER($D$6),D127*$D$6,#REF!*D127)","v":0}]
[null,117,null,null,{"$f":"IF(ISNUMBER($D$6),D128*$D$6,#REF!*D128)","v":0}]
[null,118,null,null,{"$f":"IF(ISNUMBER($D$6),D129*$D$6,#REF!*D129)","v":0}]
[null,119,null,null,{"$f":"IF(ISNUMBER($D$6),D130*$D$6,#REF!*D130)","v":0}]
[null,120,null,null,{"$f":"IF(ISNUMBER($D$6),D131*$D$6,#REF!*D131)","v":0}]
[null,121,null,null,{"$f":"IF(ISNUMBER($D$6),D132*$D$6,#REF!*D132)","v":0}]
[null,122,null,null,{"$f":"IF(ISNUMBER($D$6),D133*$D$6,#REF!*D133)","v":0}]
[null,123,null,null,{"$f":"IF(ISNUMBER($D$6),D134*$D$6,#REF!*D134)","v":0}]
[null,124,null,null,{"$f":"IF(ISNUMBER($D$6),D135*$D$6,#REF!*D135)","v":0}]
[null,125,null,null,{"$f":"IF(ISNUMBER($D$6),D136*$D$6,#REF!*D136)","v":0}]
[null,126,null,null,{"$f":"IF(ISNUMBER($D$6),D137*$D$6,#REF!*D137)","v":0}]
[null,127,null,null,{"$f":"IF(ISNUMBER($D$6),D138*$D$6,#REF!*D138)","v":0}]
[null,128,null,null,{"$f":"IF(ISNUMBER($D$6),D139*$D$6,#REF!*D139)","v":0}]
[null,129,null,null,{"$f":"IF(ISNUMBER($D$6),D140*$D$6,#REF!*D140)","v":0}]
[null,130,null,null,{"$f":"IF(ISNUMBER($D$6),D141*$D$6,#REF!*D141)","v":0}]
[null,{"$f":"+B141+1","v":131},null,null,{"$f":"IF(ISNUMBER($D$6),D142*$D$6,#REF!*D142)","v":0}]
[null,132,null,null,{"$f":"IF(ISNUMBER($D$6),D143*$D$6,#REF!*D143)","v":0}]
[null,133,null,null,{"$f":"IF(ISNUMBER($D$6),D144*$D$6,#REF!*D144)","v":0}]
[null,134,null,null,{"$f":"IF(ISNUMBER($D$6),D145*$D$6,#REF!*D145)","v":0}]
[null,135,null,null,{"$f":"IF(ISNUMBER($D$6),D146*$D$6,#REF!*D146)","v":0}]
[null,136,null,null,{"$f":"IF(ISNUMBER($D$6),D147*$D$6,#REF!*D147)","v":0}]
[null,137,null,null,{"$f":"IF(ISNUMBER($D$6),D148*$D$6,#REF!*D148)","v":0}]
[null,138,null,null,{"$f":"IF(ISNUMBER($D$6),D149*$D$6,#REF!*D149)","v":0}]
[null,139,null,null,{"$f":"IF(ISNUMBER($D$6),D150*$D$6,#REF!*D150)","v":0}]
[null,140,null,null,{"$f":"IF(ISNUMBER($D$6),D151*$D$6,#REF!*D151)","v":0}]
[null,141,null,null,{"$f":"IF(ISNUMBER($D$6),D152*$D$6,#REF!*D152)","v":0}]
[null,142,null,null,{"$f":"IF(ISNUMBER($D$6),D153*$D$6,#REF!*D153)","v":0}]
[null,143,null,null,{"$f":"IF(ISNUMBER($D$6),D154*$D$6,#REF!*D154)","v":0}]
[null,144,null,null,{"$f":"IF(ISNUMBER($D$6),D155*$D$6,#REF!*D155)","v":0}]
[null,145,null,null,{"$f":"IF(ISNUMBER($D$6),D156*$D$6,#REF!*D156)","v":0}]
[null,146,null,null,{"$f":"IF(ISNUMBER($D$6),D157*$D$6,#REF!*D157)","v":0}]
[null,147,null,null,{"$f":"IF(ISNUMBER($D$6),D158*$D$6,#REF!*D158)","v":0}]
[null,148,null,null,{"$f":"IF(ISNUMBER($D$6),D159*$D$6,#REF!*D159)","v":0}]
[null,149,null,null,{"$f":"IF(ISNUMBER($D$6),D160*$D$6,#REF!*D160)","v":0}]
[null,150,null,null,{"$f":"IF(ISNUMBER($D$6),D161*$D$6,#REF!*D161)","v":0}]
[null,151,null,null,{"$f":"IF(ISNUMBER($D$6),D162*$D$6,#REF!*D162)","v":0}]
[null,152,null,null,{"$f":"IF(ISNUMBER($D$6),D163*$D$6,#REF!*D163)","v":0}]
[null,153,null,null,{"$f":"IF(ISNUMBER($D$6),D164*$D$6,#REF!*D164)","v":0}]
[null,154,null,null,{"$f":"IF(ISNUMBER($D$6),D165*$D$6,#REF!*D165)","v":0}]
[null,155,null,null,{"$f":"IF(ISNUMBER($D$6),D166*$D$6,#REF!*D166)","v":0}]
[null,156,null,null,{"$f":"IF(ISNUMBER($D$6),D167*$D$6,#REF!*D167)","v":0}]
[null,157,null,null,{"$f":"IF(ISNUMBER($D$6),D168*$D$6,#REF!*D168)","v":0}]
[null,158,null,null,{"$f":"IF(ISNUMBER($D$6),D169*$D$6,#REF!*D169)","v":0}]
[null,159,null,null,{"$f":"IF(ISNUMBER($D$6),D170*$D$6,#REF!*D170)","v":0}]
[null,160,null,null,{"$f":"IF(ISNUMBER($D$6),D171*$D$6,#REF!*D171)","v":0}]
[null,161,null,null,{"$f":"IF(ISNUMBER($D$6),D172*$D$6,#REF!*D172)","v":0}]
[null,162,null,null,{"$f":"IF(ISNUMBER($D$6),D173*$D$6,#REF!*D173)","v":0}]
[null,163,null,null,{"$f":"IF(ISNUMBER($D$6),D174*$D$6,#REF!*D174)","v":0}]
[null,164,null,null,{"$f":"IF(ISNUMBER($D$6),D175*$D$6,#REF!*D175)","v":0}]
[null,165,null,null,{"$f":"IF(ISNUMBER($D$6),D176*$D$6,#REF!*D176)","v":0}]
[null,166,null,null,{"$f":"IF(ISNUMBER($D$6),D177*$D$6,#REF!*D177)","v":0}]
[null,167,null,null,{"$f":"IF(ISNUMBER($D$6),D178*$D$6,#REF!*D178)","v":0}]
[null,168,null,null,{"$f":"IF(ISNUMBER($D$6),D179*$D$6,#REF!*D179)","v":0}]
[null,169,null,null,{"$f":"IF(ISNUMBER($D$6),D180*$D$6,#REF!*D180)","v":0}]
[null,170,null,null,{"$f":"IF(ISNUMBER($D$6),D181*$D$6,#REF!*D181)","v":0}]
[null,171,null,null,{"$f":"IF(ISNUMBER($D$6),D182*$D$6,#REF!*D182)","v":0}]
[null,172,null,null,{"$f":"IF(ISNUMBER($D$6),D183*$D$6,#REF!*D183)","v":0}]
[null,173,null,null,{"$f":"IF(ISNUMBER($D$6),D184*$D$6,#REF!*D184)","v":0}]
[null,174,null,null,{"$f":"IF(ISNUMBER($D$6),D185*$D$6,#REF!*D185)","v":0}]
[null,175,null,null,{"$f":"IF(ISNUMBER($D$6),D186*$D$6,#REF!*D186)","v":0}]
[null,176,null,null,{"$f":"IF(ISNUMBER($D$6),D187*$D$6,#REF!*D187)","v":0}]
[null,177,null,null,{"$f":"IF(ISNUMBER($D$6),D188*$D$6,#REF!*D188)","v":0}]
[null,178,null,null,{"$f":"IF(ISNUMBER($D$6),D189*$D$6,#REF!*D189)","v":0}]
[null,179,null,null,{"$f":"IF(ISNUMBER($D$6),D190*$D$6,#REF!*D190)","v":0}]
[null,180,null,null,{"$f":"IF(ISNUMBER($D$6),D191*$D$6,#REF!*D191)","v":0}]
[null,181,null,null,{"$f":"IF(ISNUMBER($D$6),D192*$D$6,#REF!*D192)","v":0}]
[null,182,null,null,{"$f":"IF(ISNUMBER($D$6),D193*$D$6,#REF!*D193)","v":0}]
[null,183,null,null,{"$f":"IF(ISNUMBER($D$6),D194*$D$6,#REF!*D194)","v":0}]
[null,184,null,null,{"$f":"IF(ISNUMBER($D$6),D195*$D$6,#REF!*D195)","v":0}]
[null,185,null,null,{"$f":"IF(ISNUMBER($D$6),D196*$D$6,#REF!*D196)","v":0}]
[null,186,null,null,{"$f":"IF(ISNUMBER($D$6),D197*$D$6,#REF!*D197)","v":0}]
[null,187,null,null,{"$f":"IF(ISNUMBER($D$6),D198*$D$6,#REF!*D198)","v":0}]
[null,188,null,null,{"$f":"IF(ISNUMBER($D$6),D199*$D$6,#REF!*D199)","v":0}]
[null,189,null,null,{"$f":"IF(ISNUMBER($D$6),D200*$D$6,#REF!*D200)","v":0}]
[null,190,null,null,{"$f":"IF(ISNUMBER($D$6),D201*$D$6,#REF!*D201)","v":0}]
[null,191,null,null,{"$f":"IF(ISNUMBER($D$6),D202*$D$6,#REF!*D202)","v":0}]
[null,192,null,null,{"$f":"IF(ISNUMBER($D$6),D203*$D$6,#REF!*D203)","v":0}]
[null,193,null,null,{"$f":"IF(ISNUMBER($D$6),D204*$D$6,#REF!*D204)","v":0}]
[null,194,null,null,{"$f":"IF(ISNUMBER($D$6),D205*$D$6,#REF!*D205)","v":0}]
[null,{"$f":"+B205+1","v":195},null,null,{"$f":"IF(ISNUMBER($D$6),D206*$D$6,#REF!*D206)","v":0}]
[null,196,null,null,{"$f":"IF(ISNUMBER($D$6),D207*$D$6,#REF!*D207)","v":0}]
[null,197,null,null,{"$f":"IF(ISNUMBER($D$6),D208*$D$6,#REF!*D208)","v":0}]
[null,198,null,null,{"$f":"IF(ISNUMBER($D$6),D209*$D$6,#REF!*D209)","v":0}]
[null,199,null,null,{"$f":"IF(ISNUMBER($D$6),D210*$D$6,#REF!*D210)","v":0}]
[null,200,null,null,{"$f":"IF(ISNUMBER($D$6),D211*$D$6,#REF!*D211)","v":0}]
[null,201,null,null,{"$f":"IF(ISNUMBER($D$6),D212*$D$6,#REF!*D212)","v":0}]
[null,202,null,null,{"$f":"IF(ISNUMBER($D$6),D213*$D$6,#REF!*D213)","v":0}]
[null,203,null,null,{"$f":"IF(ISNUMBER($D$6),D214*$D$6,#REF!*D214)","v":0}]
[null,204,null,null,{"$f":"IF(ISNUMBER($D$6),D215*$D$6,#REF!*D215)","v":0}]
[null,205,null,null,{"$f":"IF(ISNUMBER($D$6),D216*$D$6,#REF!*D216)","v":0}]
[null,206,null,null,{"$f":"IF(ISNUMBER($D$6),D217*$D$6,#REF!*D217)","v":0}]
[null,207,null,null,{"$f":"IF(ISNUMBER($D$6),D218*$D$6,#REF!*D218)","v":0}]
[null,208,null,null,{"$f":"IF(ISNUMBER($D$6),D219*$D$6,#REF!*D219)","v":0}]
[null,209,null,null,{"$f":"IF(ISNUMBER($D$6),D220*$D$6,#REF!*D220)","v":0}]
[null,210,null,null,{"$f":"IF(ISNUMBER($D$6),D221*$D$6,#REF!*D221)","v":0}]
[null,211,null,null,{"$f":"IF(ISNUMBER($D$6),D222*$D$6,#REF!*D222)","v":0}]
[null,212,null,null,{"$f":"IF(ISNUMBER($D$6),D223*$D$6,#REF!*D223)","v":0}]
[null,213,null,null,{"$f":"IF(ISNUMBER($D$6),D224*$D$6,#REF!*D224)","v":0}]
[null,214,null,null,{"$f":"IF(ISNUMBER($D$6),D225*$D$6,#REF!*D225)","v":0}]
[null,215,null,null,{"$f":"IF(ISNUMBER($D$6),D226*$D$6,#REF!*D226)","v":0}]
[null,216,null,null,{"$f":"IF(ISNUMBER($D$6),D227*$D$6,#REF!*D227)","v":0}]
[null,217,null,null,{"$f":"IF(ISNUMBER($D$6),D228*$D$6,#REF!*D228)","v":0}]
[null,218,null,null,{"$f":"IF(ISNUMBER($D$6),D229*$D$6,#REF!*D229)","v":0}]
[null,219,null,null,{"$f":"IF(ISNUMBER($D$6),D230*$D$6,#REF!*D230)","v":0}]
[null,220,null,null,{"$f":"IF(ISNUMBER($D$6),D231*$D$6,#REF!*D231)","v":0}]
[null,221,null,null,{"$f":"IF(ISNUMBER($D$6),D232*$D$6,#REF!*D232)","v":0}]
[null,222,null,null,{"$f":"IF(ISNUMBER($D$6),D233*$D$6,#REF!*D233)","v":0}]
[null,223,null,null,{"$f":"IF(ISNUMBER($D$6),D234*$D$6,#REF!*D234)","v":0}]
[null,224,null,null,{"$f":"IF(ISNUMBER($D$6),D235*$D$6,#REF!*D235)","v":0}]
[null,225,null,null,{"$f":"IF(ISNUMBER($D$6),D236*$D$6,#REF!*D236)","v":0}]
[null,226,null,null,{"$f":"IF(ISNUMBER($D$6),D237*$D$6,#REF!*D237)","v":0}]
[null,227,null,null,{"$f":"IF(ISNUMBER($D$6),D238*$D$6,#REF!*D238)","v":0}]
[null,228,null,null,{"$f":"IF(ISNUMBER($D$6),D239*$D$6,#REF!*D239)","v":0}]
[null,229,null,null,{"$f":"IF(ISNUMBER($D$6),D240*$D$6,#REF!*D240)","v":0}]
[null,230,null,null,{"$f":"IF(ISNUMBER($D$6),D241*$D$6,#REF!*D241)","v":0}]
[null,231,null,null,{"$f":"IF(ISNUMBER($D$6),D242*$D$6,#REF!*D242)","v":0}]
[null,232,null,null,{"$f":"IF(ISNUMBER($D$6),D243*$D$6,#REF!*D243)","v":0}]
[null,233,null,null,{"$f":"IF(ISNUMBER($D$6),D244*$D$6,#REF!*D244)","v":0}]
[null,234,null,null,{"$f":"IF(ISNUMBER($D$6),D245*$D$6,#REF!*D245)","v":0}]
[null,235,null,null,{"$f":"IF(ISNUMBER($D$6),D246*$D$6,#REF!*D246)","v":0}]
[null,236,null,null,{"$f":"IF(ISNUMBER($D$6),D247*$D$6,#REF!*D247)","v":0}]
[null,237,null,null,{"$f":"IF(ISNUMBER($D$6),D248*$D$6,#REF!*D248)","v":0}]
[null,238,null,null,{"$f":"IF(ISNUMBER($D$6),D249*$D$6,#REF!*D249)","v":0}]
[null,239,null,null,{"$f":"IF(ISNUMBER($D$6),D250*$D$6,#REF!*D250)","v":0}]
[null,240,null,null,{"$f":"IF(ISNUMBER($D$6),D251*$D$6,#REF!*D251)","v":0}]
[null,241,null,null,{"$f":"IF(ISNUMBER($D$6),D252*$D$6,#REF!*D252)","v":0}]
[null,242,null,null,{"$f":"IF(ISNUMBER($D$6),D253*$D$6,#REF!*D253)","v":0}]
[null,243,null,null,{"$f":"IF(ISNUMBER($D$6),D254*$D$6,#REF!*D254)","v":0}]
[null,244,null,null,{"$f":"IF(ISNUMBER($D$6),D255*$D$6,#REF!*D255)","v":0}]
[null,245,null,null,{"$f":"IF(ISNUMBER($D$6),D256*$D$6,#REF!*D256)","v":0}]
[null,246,null,null,{"$f":"IF(ISNUMBER($D$6),D257*$D$6,#REF!*D257)","v":0}]
[null,247,null,null,{"$f":"IF(ISNUMBER($D$6),D258*$D$6,#REF!*D258)","v":0}]
[null,248,null,null,{"$f":"IF(ISNUMBER($D$6),D259*$D$6,#REF!*D259)","v":0}]
[null,249,null,null,{"$f":"IF(ISNUMBER($D$6),D260*$D$6,#REF!*D260)","v":0}]
[null,250,null,null,{"$f":"IF(ISNUMBER($D$6),D261*$D$6,#REF!*D261)","v":0}]
[null,251,null,null,{"$f":"IF(ISNUMBER($D$6),D262*$D$6,#REF!*D262)","v":0}]
[null,252,null,null,{"$f":"IF(ISNUMBER($D$6),D263*$D$6,#REF!*D263)","v":0}]
[null,253,null,null,{"$f":"IF(ISNUMBER($D$6),D264*$D$6,#REF!*D264)","v":0}]
[null,254,null,null,{"$f":"IF(ISNUMBER($D$6),D265*$D$6,#REF!*D265)","v":0}]
[null,255,null,null,{"$f":"IF(ISNUMBER($D$6),D266*$D$6,#REF!*D266)","v":0}]
[null,256,null,null,{"$f":"IF(ISNUMBER($D$6),D267*$D$6,#REF!*D267)","v":0}]
[null,257,null,null,{"$f":"IF(ISNUMBER($D$6),D268*$D$6,#REF!*D268)","v":0}]
[null,258,null,null,{"$f":"IF(ISNUMBER($D$6),D269*$D$6,#REF!*D269)","v":0}]
[null,{"$f":"+B269+1","v":259},null,null,{"$f":"IF(ISNUMBER($D$6),D270*$D$6,#REF!*D270)","v":0}]
[null,260,null,null,{"$f":"IF(ISNUMBER($D$6),D271*$D$6,#REF!*D271)","v":0}]
[null,261,null,null,{"$f":"IF(ISNUMBER($D$6),D272*$D$6,#REF!*D272)","v":0}]
[null,262,null,null,{"$f":"IF(ISNUMBER($D$6),D273*$D$6,#REF!*D273)","v":0}]
[null,263,null,null,{"$f":"IF(ISNUMBER($D$6),D274*$D$6,#REF!*D274)","v":0}]
[null,264,null,null,{"$f":"IF(ISNUMBER($D$6),D275*$D$6,#REF!*D275)","v":0}]
[null,265,null,null,{"$f":"IF(ISNUMBER($D$6),D276*$D$6,#REF!*D276)","v":0}]
[null,266,null,null,{"$f":"IF(ISNUMBER($D$6),D277*$D$6,#REF!*D277)","v":0}]
[null,267,null,null,{"$f":"IF(ISNUMBER($D$6),D278*$D$6,#REF!*D278)","v":0}]
[null,268,null,null,{"$f":"IF(ISNUMBER($D$6),D279*$D$6,#REF!*D279)","v":0}]
[null,269,null,null,{"$f":"IF(ISNUMBER($D$6),D280*$D$6,#REF!*D280)","v":0}]
[null,270,null,null,{"$f":"IF(ISNUMBER($D$6),D281*$D$6,#REF!*D281)","v":0}]
[null,271,null,null,{"$f":"IF(ISNUMBER($D$6),D282*$D$6,#REF!*D282)","v":0}]
[null,272,null,null,{"$f":"IF(ISNUMBER($D$6),D283*$D$6,#REF!*D283)","v":0}]
[null,273,null,null,{"$f":"IF(ISNUMBER($D$6),D284*$D$6,#REF!*D284)","v":0}]
[null,274,null,null,{"$f":"IF(ISNUMBER($D$6),D285*$D$6,#REF!*D285)","v":0}]
[null,275,null,null,{"$f":"IF(ISNUMBER($D$6),D286*$D$6,#REF!*D286)","v":0}]
[null,276,null,null,{"$f":"IF(ISNUMBER($D$6),D287*$D$6,#REF!*D287)","v":0}]
[null,277,null,null,{"$f":"IF(ISNUMBER($D$6),D288*$D$6,#REF!*D288)","v":0}]
[null,278,null,null,{"$f":"IF(ISNUMBER($D$6),D289*$D$6,#REF!*D289)","v":0}]
[null,279,null,null,{"$f":"IF(ISNUMBER($D$6),D290*$D$6,#REF!*D290)","v":0}]
[null,280,null,null,{"$f":"IF(ISNUMBER($D$6),D291*$D$6,#REF!*D291)","v":0}]
[null,281,null,null,{"$f":"IF(ISNUMBER($D$6),D292*$D$6,#REF!*D292)","v":0}]
[null,282,null,null,{"$f":"IF(ISNUMBER($D$6),D293*$D$6,#REF!*D293)","v":0}]
[null,283,null,null,{"$f":"IF(ISNUMBER($D$6),D294*$D$6,#REF!*D294)","v":0}]
[null,284,null,null,{"$f":"IF(ISNUMBER($D$6),D295*$D$6,#REF!*D295)","v":0}]
[null,285,null,null,{"$f":"IF(ISNUMBER($D$6),D296*$D$6,#REF!*D296)","v":0}]
[null,286,null,null,{"$f":"IF(ISNUMBER($D$6),D297*$D$6,#REF!*D297)","v":0}]
[null,287,null,null,{"$f":"IF(ISNUMBER($D$6),D298*$D$6,#REF!*D298)","v":0}]
[null,288,null,null,{"$f":"IF(ISNUMBER($D$6),D299*$D$6,#REF!*D299)","v":0}]
[null,289,null,null,{"$f":"IF(ISNUMBER($D$6),D300*$D$6,#REF!*D300)","v":0}]
[null,290,null,null,{"$f":"IF(ISNUMBER($D$6),D301*$D$6,#REF!*D301)","v":0}]
[null,291,null,null,{"$f":"IF(ISNUMBER($D$6),D302*$D$6,#REF!*D302)","v":0}]
[null,292,null,null,{"$f":"IF(ISNUMBER($D$6),D303*$D$6,#REF!*D303)","v":0}]
[null,293,null,null,{"$f":"IF(ISNUMBER($D$6),D304*$D$6,#REF!*D304)","v":0}]
[null,294,null,null,{"$f":"IF(ISNUMBER($D$6),D305*$D$6,#REF!*D305)","v":0}]
[null,295,null,null,{"$f":"IF(ISNUMBER($D$6),D306*$D$6,#REF!*D306)","v":0}]
[null,296,null,null,{"$f":"IF(ISNUMBER($D$6),D307*$D$6,#REF!*D307)","v":0}]
[null,297,null,null,{"$f":"IF(ISNUMBER($D$6),D308*$D$6,#REF!*D308)","v":0}]
[null,298,null,null,{"$f":"IF(ISNUMBER($D$6),D309*$D$6,#REF!*D309)","v":0}]
[null,299,null,null,{"$f":"IF(ISNUMBER($D$6),D310*$D$6,#REF!*D310)","v":0}]
[null,300,null,null,{"$f":"IF(ISNUMBER($D$6),D311*$D$6,#REF!*D311)","v":0}]
[null,301,null,null,{"$f":"IF(ISNUMBER($D$6),D312*$D$6,#REF!*D312)","v":0}]
[null,302,null,null,{"$f":"IF(ISNUMBER($D$6),D313*$D$6,#REF!*D313)","v":0}]
[null,303,null,null,{"$f":"IF(ISNUMBER($D$6),D314*$D$6,#REF!*D314)","v":0}]
[null,304,null,null,{"$f":"IF(ISNUMBER($D$6),D315*$D$6,#REF!*D315)","v":0}]
[null,305,null,null,{"$f":"IF(ISNUMBER($D$6),D316*$D$6,#REF!*D316)","v":0}]
[null,306,null,null,{"$f":"IF(ISNUMBER($D$6),D317*$D$6,#REF!*D317)","v":0}]
[null,307,null,null,{"$f":"IF(ISNUMBER($D$6),D318*$D$6,#REF!*D318)","v":0}]
[null,308,null,null,{"$f":"IF(ISNUMBER($D$6),D319*$D$6,#REF!*D319)","v":0}]
[null,309,null,null,{"$f":"IF(ISNUMBER($D$6),D320*$D$6,#REF!*D320)","v":0}]
[null,310,null,null,{"$f":"IF(ISNUMBER($D$6),D321*$D$6,#REF!*D321)","v":0}]
[null,311,null,null,{"$f":"IF(ISNUMBER($D$6),D322*$D$6,#REF!*D322)","v":0}]
[null,312,null,null,{"$f":"IF(ISNUMBER($D$6),D323*$D$6,#REF!*D323)","v":0}]
[null,313,null,null,{"$f":"IF(ISNUMBER($D$6),D324*$D$6,#REF!*D324)","v":0}]
[null,314,null,null,{"$f":"IF(ISNUMBER($D$6),D325*$D$6,#REF!*D325)","v":0}]
[null,315,null,null,{"$f":"IF(ISNUMBER($D$6),D326*$D$6,#REF!*D326)","v":0}]
[null,316,null,null,{"$f":"IF(ISNUMBER($D$6),D327*$D$6,#REF!*D327)","v":0}]
[null,317,null,null,{"$f":"IF(ISNUMBER($D$6),D328*$D$6,#REF!*D328)","v":0}]
[null,318,null,null,{"$f":"IF(ISNUMBER($D$6),D329*$D$6,#REF!*D329)","v":0}]
[null,319,null,null,{"$f":"IF(ISNUMBER($D$6),D330*$D$6,#REF!*D330)","v":0}]
[null,320,null,null,{"$f":"IF(ISNUMBER($D$6),D331*$D$6,#REF!*D331)","v":0}]
[null,321,null,null,{"$f":"IF(ISNUMBER($D$6),D332*$D$6,#REF!*D332)","v":0}]
[null,322,null,null,{"$f":"IF(ISNUMBER($D$6),D333*$D$6,#REF!*D333)","v":0}]
[null,{"$f":"+B333+1","v":323},null,null,{"$f":"IF(ISNUMBER($D$6),D334*$D$6,#REF!*D334)","v":0}]
[null,324,null,null,{"$f":"IF(ISNUMBER($D$6),D335*$D$6,#REF!*D335)","v":0}]
[null,325,null,null,{"$f":"IF(ISNUMBER($D$6),D336*$D$6,#REF!*D336)","v":0}]
[null,326,null,null,{"$f":"IF(ISNUMBER($D$6),D337*$D$6,#REF!*D337)","v":0}]
[null,327,null,null,{"$f":"IF(ISNUMBER($D$6),D338*$D$6,#REF!*D338)","v":0}]
[null,328,null,null,{"$f":"IF(ISNUMBER($D$6),D339*$D$6,#REF!*D339)","v":0}]
[null,329,null,null,{"$f":"IF(ISNUMBER($D$6),D340*$D$6,#REF!*D340)","v":0}]
[null,330,null,null,{"$f":"IF(ISNUMBER($D$6),D341*$D$6,#REF!*D341)","v":0}]
[null,331,null,null,{"$f":"IF(ISNUMBER($D$6),D342*$D$6,#REF!*D342)","v":0}]
[null,332,null,null,{"$f":"IF(ISNUMBER($D$6),D343*$D$6,#REF!*D343)","v":0}]
[null,333,null,null,{"$f":"IF(ISNUMBER($D$6),D344*$D$6,#REF!*D344)","v":0}]
[null,334,null,null,{"$f":"IF(ISNUMBER($D$6),D345*$D$6,#REF!*D345)","v":0}]
[null,335,null,null,{"$f":"IF(ISNUMBER($D$6),D346*$D$6,#REF!*D346)","v":0}]
[null,336,null,null,{"$f":"IF(ISNUMBER($D$6),D347*$D$6,#REF!*D347)","v":0}]
[null,337,null,null,{"$f":"IF(ISNUMBER($D$6),D348*$D$6,#REF!*D348)","v":0}]
[null,338,null,null,{"$f":"IF(ISNUMBER($D$6),D349*$D$6,#REF!*D349)","v":0}]
[null,339,null,null,{"$f":"IF(ISNUMBER($D$6),D350*$D$6,#REF!*D350)","v":0}]
[null,340,null,null,{"$f":"IF(ISNUMBER($D$6),D351*$D$6,#REF!*D351)","v":0}]
[null,341,null,null,{"$f":"IF(ISNUMBER($D$6),D352*$D$6,#REF!*D352)","v":0}]
[null,342,null,null,{"$f":"IF(ISNUMBER($D$6),D353*$D$6,#REF!*D353)","v":0}]
[null,343,null,null,{"$f":"IF(ISNUMBER($D$6),D354*$D$6,#REF!*D354)","v":0}]
[null,344,null,null,{"$f":"IF(ISNUMBER($D$6),D355*$D$6,#REF!*D355)","v":0}]
[null,345,null,null,{"$f":"IF(ISNUMBER($D$6),D356*$D$6,#REF!*D356)","v":0}]
[null,346,null,null,{"$f":"IF(ISNUMBER($D$6),D357*$D$6,#REF!*D357)","v":0}]
[null,347,null,null,{"$f":"IF(ISNUMBER($D$6),D358*$D$6,#REF!*D358)","v":0}]
[null,348,null,null,{"$f":"IF(ISNUMBER($D$6),D359*$D$6,#REF!*D359)","v":0}]
[null,349,null,null,{"$f":"IF(ISNUMBER($D$6),D360*$D$6,#REF!*D360)","v":0}]
[null,350,null,null,{"$f":"IF(ISNUMBER($D$6),D361*$D$6,#REF!*D361)","v":0}]
[null,351,null,null,{"$f":"IF(ISNUMBER($D$6),D362*$D$6,#REF!*D362)","v":0}]
[null,352,null,null,{"$f":"IF(ISNUMBER($D$6),D363*$D$6,#REF!*D363)","v":0}]
[null,353,null,null,{"$f":"IF(ISNUMBER($D$6),D364*$D$6,#REF!*D364)","v":0}]
[null,354,null,null,{"$f":"IF(ISNUMBER($D$6),D365*$D$6,#REF!*D365)","v":0}]
[null,355,null,null,{"$f":"IF(ISNUMBER($D$6),D366*$D$6,#REF!*D366)","v":0}]
[null,356,null,null,{"$f":"IF(ISNUMBER($D$6),D367*$D$6,#REF!*D367)","v":0}]
[null,357,null,null,{"$f":"IF(ISNUMBER($D$6),D368*$D$6,#REF!*D368)","v":0}]
[null,358,null,null,{"$f":"IF(ISNUMBER($D$6),D369*$D$6,#REF!*D369)","v":0}]
[null,359,null,null,{"$f":"IF(ISNUMBER($D$6),D370*$D$6,#REF!*D370)","v":0}]
[null,360,null,null,{"$f":"IF(ISNUMBER($D$6),D371*$D$6,#REF!*D371)","v":0}]
[null,361,null,null,{"$f":"IF(ISNUMBER($D$6),D372*$D$6,#REF!*D372)","v":0}]
[null,362,null,null,{"$f":"IF(ISNUMBER($D$6),D373*$D$6,#REF!*D373)","v":0}]
[null,363,null,null,{"$f":"IF(ISNUMBER($D$6),D374*$D$6,#REF!*D374)","v":0}]
[null,364,null,null,{"$f":"IF(ISNUMBER($D$6),D375*$D$6,#REF!*D375)","v":0}]
[null,365,null,null,{"$f":"IF(ISNUMBER($D$6),D376*$D$6,#REF!*D376)","v":0}]
[null,366,null,null,{"$f":"IF(ISNUMBER($D$6),D377*$D$6,#REF!*D377)","v":0}]
[null,367,null,null,{"$f":"IF(ISNUMBER($D$6),D378*$D$6,#REF!*D378)","v":0}]
[null,368,null,null,{"$f":"IF(ISNUMBER($D$6),D379*$D$6,#REF!*D379)","v":0}]
[null,369,null,null,{"$f":"IF(ISNUMBER($D$6),D380*$D$6,#REF!*D380)","v":0}]
[null,370,null,null,{"$f":"IF(ISNUMBER($D$6),D381*$D$6,#REF!*D381)","v":0}]
[null,371,null,null,{"$f":"IF(ISNUMBER($D$6),D382*$D$6,#REF!*D382)","v":0}]
[null,372,null,null,{"$f":"IF(ISNUMBER($D$6),D383*$D$6,#REF!*D383)","v":0}]
[null,373,null,null,{"$f":"IF(ISNUMBER($D$6),D384*$D$6,#REF!*D384)","v":0}]
[null,374,null,null,{"$f":"IF(ISNUMBER($D$6),D385*$D$6,#REF!*D385)","v":0}]
[null,375,null,null,{"$f":"IF(ISNUMBER($D$6),D386*$D$6,#REF!*D386)","v":0}]
[null,376,null,null,{"$f":"IF(ISNUMBER($D$6),D387*$D$6,#REF!*D387)","v":0}]
[null,377,null,null,{"$f":"IF(ISNUMBER($D$6),D388*$D$6,#REF!*D388)","v":0}]
[null,378,null,null,{"$f":"IF(ISNUMBER($D$6),D389*$D$6,#REF!*D389)","v":0}]
[null,379,null,null,{"$f":"IF(ISNUMBER($D$6),D390*$D$6,#REF!*D390)","v":0}]
[null,380,null,null,{"$f":"IF(ISNUMBER($D$6),D391*$D$6,#REF!*D391)","v":0}]
[null,381,null,null,{"$f":"IF(ISNUMBER($D$6),D392*$D$6,#REF!*D392)","v":0}]
[null,382,null,null,{"$f":"IF(ISNUMBER($D$6),D393*$D$6,#REF!*D393)","v":0}]
[null,383,null,null,{"$f":"IF(ISNUMBER($D$6),D394*$D$6,#REF!*D394)","v":0}]
[null,384,null,null,{"$f":"IF(ISNUMBER($D$6),D395*$D$6,#REF!*D395)","v":0}]
[null,385,null,null,{"$f":"IF(ISNUMBER($D$6),D396*$D$6,#REF!*D396)","v":0}]
[null,386,null,null,{"$f":"IF(ISNUMBER($D$6),D397*$D$6,#REF!*D397)","v":0}]
[null,{"$f":"+B397+1","v":387},null,null,{"$f":"IF(ISNUMBER($D$6),D398*$D$6,#REF!*D398)","v":0}]
[null,388,null,null,{"$f":"IF(ISNUMBER($D$6),D399*$D$6,#REF!*D399)","v":0}]
[null,389,null,null,{"$f":"IF(ISNUMBER($D$6),D400*$D$6,#REF!*D400)","v":0}]
[null,390,null,null,{"$f":"IF(ISNUMBER($D$6),D401*$D$6,#REF!*D401)","v":0}]
[null,391,null,null,{"$f":"IF(ISNUMBER($D$6),D402*$D$6,#REF!*D402)","v":0}]
[null,392,null,null,{"$f":"IF(ISNUMBER($D$6),D403*$D$6,#REF!*D403)","v":0}]
[null,393,null,null,{"$f":"IF(ISNUMBER($D$6),D404*$D$6,#REF!*D404)","v":0}]
[null,394,null,null,{"$f":"IF(ISNUMBER($D$6),D405*$D$6,#REF!*D405)","v":0}]
[null,395,null,null,{"$f":"IF(ISNUMBER($D$6),D406*$D$6,#REF!*D406)","v":0}]
[null,396,null,null,{"$f":"IF(ISNUMBER($D$6),D407*$D$6,#REF!*D407)","v":0}]
[null,397,null,null,{"$f":"IF(ISNUMBER($D$6),D408*$D$6,#REF!*D408)","v":0}]
[null,398,null,null,{"$f":"IF(ISNUMBER($D$6),D409*$D$6,#REF!*D409)","v":0}]
[null,399,null,null,{"$f":"IF(ISNUMBER($D$6),D410*$D$6,#REF!*D410)","v":0}]
[null,400,null,null,{"$f":"IF(ISNUMBER($D$6),D411*$D$6,#REF!*D411)","v":0}]
[null,401,null,null,{"$f":"IF(ISNUMBER($D$6),D412*$D$6,#REF!*D412)","v":0}]
[null,402,null,null,{"$f":"IF(ISNUMBER($D$6),D413*$D$6,#REF!*D413)","v":0}]
[null,403,null,null,{"$f":"IF(ISNUMBER($D$6),D414*$D$6,#REF!*D414)","v":0}]
[null,404,null,null,{"$f":"IF(ISNUMBER($D$6),D415*$D$6,#REF!*D415)","v":0}]
[null,405,null,null,{"$f":"IF(ISNUMBER($D$6),D416*$D$6,#REF!*D416)","v":0}]
[null,406,null,null,{"$f":"IF(ISNUMBER($D$6),D417*$D$6,#REF!*D417)","v":0}]
[null,407,null,null,{"$f":"IF(ISNUMBER($D$6),D418*$D$6,#REF!*D418)","v":0}]
[null,408,null,null,{"$f":"IF(ISNUMBER($D$6),D419*$D$6,#REF!*D419)","v":0}]
[null,409,null,null,{"$f":"IF(ISNUMBER($D$6),D420*$D$6,#REF!*D420)","v":0}]
[null,410,null,null,{"$f":"IF(ISNUMBER($D$6),D421*$D$6,#REF!*D421)","v":0}]
[null,411,null,null,{"$f":"IF(ISNUMBER($D$6),D422*$D$6,#REF!*D422)","v":0}]
[null,412,null,null,{"$f":"IF(ISNUMBER($D$6),D423*$D$6,#REF!*D423)","v":0}]
[null,413,null,null,{"$f":"IF(ISNUMBER($D$6),D424*$D$6,#REF!*D424)","v":0}]
[null,414,null,null,{"$f":"IF(ISNUMBER($D$6),D425*$D$6,#REF!*D425)","v":0}]
[null,415,null,null,{"$f":"IF(ISNUMBER($D$6),D426*$D$6,#REF!*D426)","v":0}]
[null,416,null,null,{"$f":"IF(ISNUMBER($D$6),D427*$D$6,#REF!*D427)","v":0}]
[null,417,null,null,{"$f":"IF(ISNUMBER($D$6),D428*$D$6,#REF!*D428)","v":0}]
[null,418,null,null,{"$f":"IF(ISNUMBER($D$6),D429*$D$6,#REF!*D429)","v":0}]
[null,419,null,null,{"$f":"IF(ISNUMBER($D$6),D430*$D$6,#REF!*D430)","v":0}]
[null,420,null,null,{"$f":"IF(ISNUMBER($D$6),D431*$D$6,#REF!*D431)","v":0}]
[null,421,null,null,{"$f":"IF(ISNUMBER($D$6),D432*$D$6,#REF!*D432)","v":0}]
[null,422,null,null,{"$f":"IF(ISNUMBER($D$6),D433*$D$6,#REF!*D433)","v":0}]
[null,423,null,null,{"$f":"IF(ISNUMBER($D$6),D434*$D$6,#REF!*D434)","v":0}]
[null,424,null,null,{"$f":"IF(ISNUMBER($D$6),D435*$D$6,#REF!*D435)","v":0}]
[null,425,null,null,{"$f":"IF(ISNUMBER($D$6),D436*$D$6,#REF!*D436)","v":0}]
[null,426,null,null,{"$f":"IF(ISNUMBER($D$6),D437*$D$6,#REF!*D437)","v":0}]
[null,427,null,null,{"$f":"IF(ISNUMBER($D$6),D438*$D$6,#REF!*D438)","v":0}]
[null,428,null,null,{"$f":"IF(ISNUMBER($D$6),D439*$D$6,#REF!*D439)","v":0}]
[null,429,null,null,{"$f":"IF(ISNUMBER($D$6),D440*$D$6,#REF!*D440)","v":0}]
[null,430,null,null,{"$f":"IF(ISNUMBER($D$6),D441*$D$6,#REF!*D441)","v":0}]
[null,431,null,null,{"$f":"IF(ISNUMBER($D$6),D442*$D$6,#REF!*D442)","v":0}]
[null,432,null,null,{"$f":"IF(ISNUMBER($D$6),D443*$D$6,#REF!*D443)","v":0}]
[null,433,null,null,{"$f":"IF(ISNUMBER($D$6),D444*$D$6,#REF!*D444)","v":0}]
[null,434,null,null,{"$f":"IF(ISNUMBER($D$6),D445*$D$6,#REF!*D445)","v":0}]
[null,435,null,null,{"$f":"IF(ISNUMBER($D$6),D446*$D$6,#REF!*D446)","v":0}]
[null,436,null,null,{"$f":"IF(ISNUMBER($D$6),D447*$D$6,#REF!*D447)","v":0}]
[null,437,null,null,{"$f":"IF(ISNUMBER($D$6),D448*$D$6,#REF!*D448)","v":0}]
[null,438,null,null,{"$f":"IF(ISNUMBER($D$6),D449*$D$6,#REF!*D449)","v":0}]
[null,439,null,null,{"$f":"IF(ISNUMBER($D$6),D450*$D$6,#REF!*D450)","v":0}]
[null,440,null,null,{"$f":"IF(ISNUMBER($D$6),D451*$D$6,#REF!*D451)","v":0}]
[null,441,null,null,{"$f":"IF(ISNUMBER($D$6),D452*$D$6,#REF!*D452)","v":0}]
[null,442,null,null,{"$f":"IF(ISNUMBER($D$6),D453*$D$6,#REF!*D453)","v":0}]
[null,443,null,null,{"$f":"IF(ISNUMBER($D$6),D454*$D$6,#REF!*D454)","v":0}]
[null,444,null,null,{"$f":"IF(ISNUMBER($D$6),D455*$D$6,#REF!*D455)","v":0}]
[null,445,null,null,{"$f":"IF(ISNUMBER($D$6),D456*$D$6,#REF!*D456)","v":0}]
[null,446,null,null,{"$f":"IF(ISNUMBER($D$6),D457*$D$6,#REF!*D457)","v":0}]
[null,447,null,null,{"$f":"IF(ISNUMBER($D$6),D458*$D$6,#REF!*D458)","v":0}]
[null,448,null,null,{"$f":"IF(ISNUMBER($D$6),D459*$D$6,#REF!*D459)","v":0}]
[null,449,null,null,{"$f":"IF(ISNUMBER($D$6),D460*$D$6,#REF!*D460)","v":0}]
[null,450,null,null,{"$f":"IF(ISNUMBER($D$6),D461*$D$6,#REF!*D461)","v":0}]
[null,{"$f":"+B461+1","v":451},null,null,{"$f":"IF(ISNUMBER($D$6),D462*$D$6,#REF!*D462)","v":0}]
[null,452,null,null,{"$f":"IF(ISNUMBER($D$6),D463*$D$6,#REF!*D463)","v":0}]
[null,453,null,null,{"$f":"IF(ISNUMBER($D$6),D464*$D$6,#REF!*D464)","v":0}]
[null,454,null,null,{"$f":"IF(ISNUMBER($D$6),D465*$D$6,#REF!*D465)","v":0}]
[null,455,null,null,{"$f":"IF(ISNUMBER($D$6),D466*$D$6,#REF!*D466)","v":0}]
[null,456,null,null,{"$f":"IF(ISNUMBER($D$6),D467*$D$6,#REF!*D467)","v":0}]
[null,457,null,null,{"$f":"IF(ISNUMBER($D$6),D468*$D$6,#REF!*D468)","v":0}]
[null,458,null,null,{"$f":"IF(ISNUMBER($D$6),D469*$D$6,#REF!*D469)","v":0}]
[null,459,null,null,{"$f":"IF(ISNUMBER($D$6),D470*$D$6,#REF!*D470)","v":0}]
[null,460,null,null,{"$f":"IF(ISNUMBER($D$6),D471*$D$6,#REF!*D471)","v":0}]
[null,461,null,null,{"$f":"IF(ISNUMBER($D$6),D472*$D$6,#REF!*D472)","v":0}]
[null,462,null,null,{"$f":"IF(ISNUMBER($D$6),D473*$D$6,#REF!*D473)","v":0}]
[null,463,null,null,{"$f":"IF(ISNUMBER($D$6),D474*$D$6,#REF!*D474)","v":0}]
[null,464,null,null,{"$f":"IF(ISNUMBER($D$6),D475*$D$6,#REF!*D475)","v":0}]
[null,465,null,null,{"$f":"IF(ISNUMBER($D$6),D476*$D$6,#REF!*D476)","v":0}]
[null,466,null,null,{"$f":"IF(ISNUMBER($D$6),D477*$D$6,#REF!*D477)","v":0}]
[null,467,null,null,{"$f":"IF(ISNUMBER($D$6),D478*$D$6,#REF!*D478)","v":0}]
[null,468,null,null,{"$f":"IF(ISNUMBER($D$6),D479*$D$6,#REF!*D479)","v":0}]
[null,469,null,null,{"$f":"IF(ISNUMBER($D$6),D480*$D$6,#REF!*D480)","v":0}]
[null,470,null,null,{"$f":"IF(ISNUMBER($D$6),D481*$D$6,#REF!*D481)","v":0}]
[null,471,null,null,{"$f":"IF(ISNUMBER($D$6),D482*$D$6,#REF!*D482)","v":0}]
[null,472,null,null,{"$f":"IF(ISNUMBER($D$6),D483*$D$6,#REF!*D483)","v":0}]
[null,473,null,null,{"$f":"IF(ISNUMBER($D$6),D484*$D$6,#REF!*D484)","v":0}]
[null,474,null,null,{"$f":"IF(ISNUMBER($D$6),D485*$D$6,#REF!*D485)","v":0}]
[null,475,null,null,{"$f":"IF(ISNUMBER($D$6),D486*$D$6,#REF!*D486)","v":0}]
[null,476,null,null,{"$f":"IF(ISNUMBER($D$6),D487*$D$6,#REF!*D487)","v":0}]
[null,477,null,null,{"$f":"IF(ISNUMBER($D$6),D488*$D$6,#REF!*D488)","v":0}]
[null,478,null,null,{"$f":"IF(ISNUMBER($D$6),D489*$D$6,#REF!*D489)","v":0}]
[null,479,null,null,{"$f":"IF(ISNUMBER($D$6),D490*$D$6,#REF!*D490)","v":0}]
[null,480,null,null,{"$f":"IF(ISNUMBER($D$6),D491*$D$6,#REF!*D491)","v":0}]
[null,481,null,null,{"$f":"IF(ISNUMBER($D$6),D492*$D$6,#REF!*D492)","v":0}]
[null,482,null,null,{"$f":"IF(ISNUMBER($D$6),D493*$D$6,#REF!*D493)","v":0}]
[null,483,null,null,{"$f":"IF(ISNUMBER($D$6),D494*$D$6,#REF!*D494)","v":0}]
[null,484,null,null,{"$f":"IF(ISNUMBER($D$6),D495*$D$6,#REF!*D495)","v":0}]
[null,485,null,null,{"$f":"IF(ISNUMBER($D$6),D496*$D$6,#REF!*D496)","v":0}]
[null,486,null,null,{"$f":"IF(ISNUMBER($D$6),D497*$D$6,#REF!*D497)","v":0}]
[null,487,null,null,{"$f":"IF(ISNUMBER($D$6),D498*$D$6,#REF!*D498)","v":0}]
[null,488,null,null,{"$f":"IF(ISNUMBER($D$6),D499*$D$6,#REF!*D499)","v":0}]
[null,489,null,null,{"$f":"IF(ISNUMBER($D$6),D500*$D$6,#REF!*D500)","v":0}]
[null,490,null,null,{"$f":"IF(ISNUMBER($D$6),D501*$D$6,#REF!*D501)","v":0}]
[null,491,null,null,{"$f":"IF(ISNUMBER($D$6),D502*$D$6,#REF!*D502)","v":0}]
[null,492,null,null,{"$f":"IF(ISNUMBER($D$6),D503*$D$6,#REF!*D503)","v":0}]
[null,493,null,null,{"$f":"IF(ISNUMBER($D$6),D504*$D$6,#REF!*D504)","v":0}]
[null,494,null,null,{"$f":"IF(ISNUMBER($D$6),D505*$D$6,#REF!*D505)","v":0}]
[null,495,null,null,{"$f":"IF(ISNUMBER($D$6),D506*$D$6,#REF!*D506)","v":0}]
[null,496,null,null,{"$f":"IF(ISNUMBER($D$6),D507*$D$6,#REF!*D507)","v":0}]
[null,497,null,null,{"$f":"IF(ISNUMBER($D$6),D508*$D$6,#REF!*D508)","v":0}]
[null,498,null,null,{"$f":"IF(ISNUMBER($D$6),D509*$D$6,#REF!*D509)","v":0}]
[null,499,null,null,{"$f":"IF(ISNUMBER($D$6),D510*$D$6,#REF!*D510)","v":0}]
[null,500,null,null,{"$f":"IF(ISNUMBER($D$6),D511*$D$6,#REF!*D511)","v":0}]
[null,501,null,null,{"$f":"IF(ISNUMBER($D$6),D512*$D$6,#REF!*D512)","v":0}]
[null,502,null,null,{"$f":"IF(ISNUMBER($D$6),D513*$D$6,#REF!*D513)","v":0}]
[null,503,null,null,{"$f":"IF(ISNUMBER($D$6),D514*$D$6,#REF!*D514)","v":0}]
[null,504,null,null,{"$f":"IF(ISNUMBER($D$6),D515*$D$6,#REF!*D515)","v":0}]
[null,505,null,null,{"$f":"IF(ISNUMBER($D$6),D516*$D$6,#REF!*D516)","v":0}]
[null,506,null,null,{"$f":"IF(ISNUMBER($D$6),D517*$D$6,#REF!*D517)","v":0}]
[null,507,null,null,{"$f":"IF(ISNUMBER($D$6),D518*$D$6,#REF!*D518)","v":0}]
[null,508,null,null,{"$f":"IF(ISNUMBER($D$6),D519*$D$6,#REF!*D519)","v":0}]
[null,509,null,null,{"$f":"IF(ISNUMBER($D$6),D520*$D$6,#REF!*D520)","v":0}]
[null,510,null,null,{"$f":"IF(ISNUMBER($D$6),D521*$D$6,#REF!*D521)","v":0}]
[null,511,null,null,{"$f":"IF(ISNUMBER($D$6),D522*$D$6,#REF!*D522)","v":0}]
[null,512,null,null,{"$f":"IF(ISNUMBER($D$6),D523*$D$6,#REF!*D523)","v":0}]
[null,513,null,null,{"$f":"IF(ISNUMBER($D$6),D524*$D$6,#REF!*D524)","v":0}]
[null,514,null,null,{"$f":"IF(ISNUMBER($D$6),D525*$D$6,#REF!*D525)","v":0}]
[null,{"$f":"+B525+1","v":515},null,null,{"$f":"IF(ISNUMBER($D$6),D526*$D$6,#REF!*D526)","v":0}]
[null,516,null,null,{"$f":"IF(ISNUMBER($D$6),D527*$D$6,#REF!*D527)","v":0}]
[null,517,null,null,{"$f":"IF(ISNUMBER($D$6),D528*$D$6,#REF!*D528)","v":0}]
[null,518,null,null,{"$f":"IF(ISNUMBER($D$6),D529*$D$6,#REF!*D529)","v":0}]
[null,519,null,null,{"$f":"IF(ISNUMBER($D$6),D530*$D$6,#REF!*D530)","v":0}]
[null,520,null,null,{"$f":"IF(ISNUMBER($D$6),D531*$D$6,#REF!*D531)","v":0}]
[null,521,null,null,{"$f":"IF(ISNUMBER($D$6),D532*$D$6,#REF!*D532)","v":0}]
[null,522,null,null,{"$f":"IF(ISNUMBER($D$6),D533*$D$6,#REF!*D533)","v":0}]
[null,523,null,null,{"$f":"IF(ISNUMBER($D$6),D534*$D$6,#REF!*D534)","v":0}]
[null,524,null,null,{"$f":"IF(ISNUMBER($D$6),D535*$D$6,#REF!*D535)","v":0}]
[null,525,null,null,{"$f":"IF(ISNUMBER($D$6),D536*$D$6,#REF!*D536)","v":0}]
[null,526,null,null,{"$f":"IF(ISNUMBER($D$6),D537*$D$6,#REF!*D537)","v":0}]
[null,527,null,null,{"$f":"IF(ISNUMBER($D$6),D538*$D$6,#REF!*D538)","v":0}]
[null,528,null,null,{"$f":"IF(ISNUMBER($D$6),D539*$D$6,#REF!*D539)","v":0}]
[null,529,null,null,{"$f":"IF(ISNUMBER($D$6),D540*$D$6,#REF!*D540)","v":0}]
[null,530,null,null,{"$f":"IF(ISNUMBER($D$6),D541*$D$6,#REF!*D541)","v":0}]
[null,531,null,null,{"$f":"IF(ISNUMBER($D$6),D542*$D$6,#REF!*D542)","v":0}]
[null,532,null,null,{"$f":"IF(ISNUMBER($D$6),D543*$D$6,#REF!*D543)","v":0}]
[null,533,null,null,{"$f":"IF(ISNUMBER($D$6),D544*$D$6,#REF!*D544)","v":0}]
[null,534,null,null,{"$f":"IF(ISNUMBER($D$6),D545*$D$6,#REF!*D545)","v":0}]
[null,535,null,null,{"$f":"IF(ISNUMBER($D$6),D546*$D$6,#REF!*D546)","v":0}]
[null,536,null,null,{"$f":"IF(ISNUMBER($D$6),D547*$D$6,#REF!*D547)","v":0}]
[null,537,null,null,{"$f":"IF(ISNUMBER($D$6),D548*$D$6,#REF!*D548)","v":0}]
[null,538,null,null,{"$f":"IF(ISNUMBER($D$6),D549*$D$6,#REF!*D549)","v":0}]
[null,539,null,null,{"$f":"IF(ISNUMBER($D$6),D550*$D$6,#REF!*D550)","v":0}]
[null,540,null,null,{"$f":"IF(ISNUMBER($D$6),D551*$D$6,#REF!*D551)","v":0}]
[null,541,null,null,{"$f":"IF(ISNUMBER($D$6),D552*$D$6,#REF!*D552)","v":0}]
[null,542,null,null,{"$f":"IF(ISNUMBER($D$6),D553*$D$6,#REF!*D553)","v":0}]
[null,543,null,null,{"$f":"IF(ISNUMBER($D$6),D554*$D$6,#REF!*D554)","v":0}]
[null,544,null,null,{"$f":"IF(ISNUMBER($D$6),D555*$D$6,#REF!*D555)","v":0}]
[null,545,null,null,{"$f":"IF(ISNUMBER($D$6),D556*$D$6,#REF!*D556)","v":0}]
[null,546,null,null,{"$f":"IF(ISNUMBER($D$6),D557*$D$6,#REF!*D557)","v":0}]
[null,547,null,null,{"$f":"IF(ISNUMBER($D$6),D558*$D$6,#REF!*D558)","v":0}]
[null,548,null,null,{"$f":"IF(ISNUMBER($D$6),D559*$D$6,#REF!*D559)","v":0}]
[null,549,null,null,{"$f":"IF(ISNUMBER($D$6),D560*$D$6,#REF!*D560)","v":0}]
[null,550,null,null,{"$f":"IF(ISNUMBER($D$6),D561*$D$6,#REF!*D561)","v":0}]
[null,551,null,null,{"$f":"IF(ISNUMBER($D$6),D562*$D$6,#REF!*D562)","v":0}]
[null,552,null,null,{"$f":"IF(ISNUMBER($D$6),D563*$D$6,#REF!*D563)","v":0}]
[null,553,null,null,{"$f":"IF(ISNUMBER($D$6),D564*$D$6,#REF!*D564)","v":0}]
[null,554,null,null,{"$f":"IF(ISNUMBER($D$6),D565*$D$6,#REF!*D565)","v":0}]
[null,555,null,null,{"$f":"IF(ISNUMBER($D$6),D566*$D$6,#REF!*D566)","v":0}]
[null,556,null,null,{"$f":"IF(ISNUMBER($D$6),D567*$D$6,#REF!*D567)","v":0}]
[null,557,null,null,{"$f":"IF(ISNUMBER($D$6),D568*$D$6,#REF!*D568)","v":0}]
[null,558,null,null,{"$f":"IF(ISNUMBER($D$6),D569*$D$6,#REF!*D569)","v":0}]
[null,559,null,null,{"$f":"IF(ISNUMBER($D$6),D570*$D$6,#REF!*D570)","v":0}]
[null,560,null,null,{"$f":"IF(ISNUMBER($D$6),D571*$D$6,#REF!*D571)","v":0}]
[null,561,null,null,{"$f":"IF(ISNUMBER($D$6),D572*$D$6,#REF!*D572)","v":0}]
[null,562,null,null,{"$f":"IF(ISNUMBER($D$6),D573*$D$6,#REF!*D573)","v":0}]
[null,563,null,null,{"$f":"IF(ISNUMBER($D$6),D574*$D$6,#REF!*D574)","v":0}]
[null,564,null,null,{"$f":"IF(ISNUMBER($D$6),D575*$D$6,#REF!*D575)","v":0}]
[null,565,null,null,{"$f":"IF(ISNUMBER($D$6),D576*$D$6,#REF!*D576)","v":0}]
[null,566,null,null,{"$f":"IF(ISNUMBER($D$6),D577*$D$6,#REF!*D577)","v":0}]
[null,567,null,null,{"$f":"IF(ISNUMBER($D$6),D578*$D$6,#REF!*D578)","v":0}]
[null,568,null,null,{"$f":"IF(ISNUMBER($D$6),D579*$D$6,#REF!*D579)","v":0}]
[null,569,null,null,{"$f":"IF(ISNUMBER($D$6),D580*$D$6,#REF!*D580)","v":0}]
[null,570,null,null,{"$f":"IF(ISNUMBER($D$6),D581*$D$6,#REF!*D581)","v":0}]
[null,571,null,null,{"$f":"IF(ISNUMBER($D$6),D582*$D$6,#REF!*D582)","v":0}]
[null,572,null,null,{"$f":"IF(ISNUMBER($D$6),D583*$D$6,#REF!*D583)","v":0}]
[null,573,null,null,{"$f":"IF(ISNUMBER($D$6),D584*$D$6,#REF!*D584)","v":0}]
[null,574,null,null,{"$f":"IF(ISNUMBER($D$6),D585*$D$6,#REF!*D585)","v":0}]
[null,575,null,null,{"$f":"IF(ISNUMBER($D$6),D586*$D$6,#REF!*D586)","v":0}]
[null,576,null,null,{"$f":"IF(ISNUMBER($D$6),D587*$D$6,#REF!*D587)","v":0}]
[null,577,null,null,{"$f":"IF(ISNUMBER($D$6),D588*$D$6,#REF!*D588)","v":0}]
[null,578,null,null,{"$f":"IF(ISNUMBER($D$6),D589*$D$6,#REF!*D589)","v":0}]
[null,{"$f":"+B589+1","v":579},null,null,{"$f":"IF(ISNUMBER($D$6),D590*$D$6,#REF!*D590)","v":0}]
[null,580,null,null,{"$f":"IF(ISNUMBER($D$6),D591*$D$6,#REF!*D591)","v":0}]
[null,581,null,null,{"$f":"IF(ISNUMBER($D$6),D592*$D$6,#REF!*D592)","v":0}]
[null,582,null,null,{"$f":"IF(ISNUMBER($D$6),D593*$D$6,#REF!*D593)","v":0}]
[null,583,null,null,{"$f":"IF(ISNUMBER($D$6),D594*$D$6,#REF!*D594)","v":0}]
[null,584,null,null,{"$f":"IF(ISNUMBER($D$6),D595*$D$6,#REF!*D595)","v":0}]
[null,585,null,null,{"$f":"IF(ISNUMBER($D$6),D596*$D$6,#REF!*D596)","v":0}]
[null,586,null,null,{"$f":"IF(ISNUMBER($D$6),D597*$D$6,#REF!*D597)","v":0}]
[null,587,null,null,{"$f":"IF(ISNUMBER($D$6),D598*$D$6,#REF!*D598)","v":0}]
[null,588,null,null,{"$f":"IF(ISNUMBER($D$6),D599*$D$6,#REF!*D599)","v":0}]
[null,589,null,null,{"$f":"IF(ISNUMBER($D$6),D600*$D$6,#REF!*D600)","v":0}]
[null,590,null,null,{"$f":"IF(ISNUMBER($D$6),D601*$D$6,#REF!*D601)","v":0}]
[null,591,null,null,{"$f":"IF(ISNUMBER($D$6),D602*$D$6,#REF!*D602)","v":0}]
[null,592,null,null,{"$f":"IF(ISNUMBER($D$6),D603*$D$6,#REF!*D603)","v":0}]
[null,593,null,null,{"$f":"IF(ISNUMBER($D$6),D604*$D$6,#REF!*D604)","v":0}]
[null,594,null,null,{"$f":"IF(ISNUMBER($D$6),D605*$D$6,#REF!*D605)","v":0}]
[null,595,null,null,{"$f":"IF(ISNUMBER($D$6),D606*$D$6,#REF!*D606)","v":0}]
[null,596,null,null,{"$f":"IF(ISNUMBER($D$6),D607*$D$6,#REF!*D607)","v":0}]
[null,597,null,null,{"$f":"IF(ISNUMBER($D$6),D608*$D$6,#REF!*D608)","v":0}]
[null,598,null,null,{"$f":"IF(ISNUMBER($D$6),D609*$D$6,#REF!*D609)","v":0}]
[null,599,null,null,{"$f":"IF(ISNUMBER($D$6),D610*$D$6,#REF!*D610)","v":0}]
[null,600,null,null,{"$f":"IF(ISNUMBER($D$6),D611*$D$6,#REF!*D611)","v":0}]
[null,601,null,null,{"$f":"IF(ISNUMBER($D$6),D612*$D$6,#REF!*D612)","v":0}]
[null,602,null,null,{"$f":"IF(ISNUMBER($D$6),D613*$D$6,#REF!*D613)","v":0}]
[null,603,null,null,{"$f":"IF(ISNUMBER($D$6),D614*$D$6,#REF!*D614)","v":0}]
[null,604,null,null,{"$f":"IF(ISNUMBER($D$6),D615*$D$6,#REF!*D615)","v":0}]
[null,605,null,null,{"$f":"IF(ISNUMBER($D$6),D616*$D$6,#REF!*D616)","v":0}]
[null,606,null,null,{"$f":"IF(ISNUMBER($D$6),D617*$D$6,#REF!*D617)","v":0}]
[null,607,null,null,{"$f":"IF(ISNUMBER($D$6),D618*$D$6,#REF!*D618)","v":0}]
[null,608,null,null,{"$f":"IF(ISNUMBER($D$6),D619*$D$6,#REF!*D619)","v":0}]
[null,609,null,null,{"$f":"IF(ISNUMBER($D$6),D620*$D$6,#REF!*D620)","v":0}]
[null,610,null,null,{"$f":"IF(ISNUMBER($D$6),D621*$D$6,#REF!*D621)","v":0}]
[null,611,null,null,{"$f":"IF(ISNUMBER($D$6),D622*$D$6,#REF!*D622)","v":0}]
[null,612,null,null,{"$f":"IF(ISNUMBER($D$6),D623*$D$6,#REF!*D623)","v":0}]
[null,613,null,null,{"$f":"IF(ISNUMBER($D$6),D624*$D$6,#REF!*D624)","v":0}]
[null,614,null,null,{"$f":"IF(ISNUMBER($D$6),D625*$D$6,#REF!*D625)","v":0}]
[null,615,null,null,{"$f":"IF(ISNUMBER($D$6),D626*$D$6,#REF!*D626)","v":0}]
[null,616,null,null,{"$f":"IF(ISNUMBER($D$6),D627*$D$6,#REF!*D627)","v":0}]
[null,617,null,null,{"$f":"IF(ISNUMBER($D$6),D628*$D$6,#REF!*D628)","v":0}]
[null,618,null,null,{"$f":"IF(ISNUMBER($D$6),D629*$D$6,#REF!*D629)","v":0}]
[null,619,null,null,{"$f":"IF(ISNUMBER($D$6),D630*$D$6,#REF!*D630)","v":0}]
[null,620,null,null,{"$f":"IF(ISNUMBER($D$6),D631*$D$6,#REF!*D631)","v":0}]
[null,621,null,null,{"$f":"IF(ISNUMBER($D$6),D632*$D$6,#REF!*D632)","v":0}]
[null,622,null,null,{"$f":"IF(ISNUMBER($D$6),D633*$D$6,#REF!*D633)","v":0}]
[null,623,null,null,{"$f":"IF(ISNUMBER($D$6),D634*$D$6,#REF!*D634)","v":0}]
[null,624,null,null,{"$f":"IF(ISNUMBER($D$6),D635*$D$6,#REF!*D635)","v":0}]
[null,625,null,null,{"$f":"IF(ISNUMBER($D$6),D636*$D$6,#REF!*D636)","v":0}]
[null,626,null,null,{"$f":"IF(ISNUMBER($D$6),D637*$D$6,#REF!*D637)","v":0}]
[null,627,null,null,{"$f":"IF(ISNUMBER($D$6),D638*$D$6,#REF!*D638)","v":0}]
[null,628,null,null,{"$f":"IF(ISNUMBER($D$6),D639*$D$6,#REF!*D639)","v":0}]
[null,629,null,null,{"$f":"IF(ISNUMBER($D$6),D640*$D$6,#REF!*D640)","v":0}]
[null,630,null,null,{"$f":"IF(ISNUMBER($D$6),D641*$D$6,#REF!*D641)","v":0}]
[null,631,null,null,{"$f":"IF(ISNUMBER($D$6),D642*$D$6,#REF!*D642)","v":0}]
[null,632,null,null,{"$f":"IF(ISNUMBER($D$6),D643*$D$6,#REF!*D643)","v":0}]
[null,633,null,null,{"$f":"IF(ISNUMBER($D$6),D644*$D$6,#REF!*D644)","v":0}]
[null,634,null,null,{"$f":"IF(ISNUMBER($D$6),D645*$D$6,#REF!*D645)","v":0}]
[null,635,null,null,{"$f":"IF(ISNUMBER($D$6),D646*$D$6,#REF!*D646)","v":0}]
[null,636,null,null,{"$f":"IF(ISNUMBER($D$6),D647*$D$6,#REF!*D647)","v":0}]
[null,637,null,null,{"$f":"IF(ISNUMBER($D$6),D648*$D$6,#REF!*D648)","v":0}]
[null,638,null,null,{"$f":"IF(ISNUMBER($D$6),D649*$D$6,#REF!*D649)","v":0}]
[null,639,null,null,{"$f":"IF(ISNUMBER($D$6),D650*$D$6,#REF!*D650)","v":0}]
[null,640,null,null,{"$f":"IF(ISNUMBER($D$6),D651*$D$6,#REF!*D651)","v":0}]
[null,641,null,null,{"$f":"IF(ISNUMBER($D$6),D652*$D$6,#REF!*D652)","v":0}]
[null,642,null,null,{"$f":"IF(ISNUMBER($D$6),D653*$D$6,#REF!*D653)","v":0}]
[null,{"$f":"+B653+1","v":643},null,null,{"$f":"IF(ISNUMBER($D$6),D654*$D$6,#REF!*D654)","v":0}]
[null,644,null,null,{"$f":"IF(ISNUMBER($D$6),D655*$D$6,#REF!*D655)","v":0}]
[null,645,null,null,{"$f":"IF(ISNUMBER($D$6),D656*$D$6,#REF!*D656)","v":0}]
[null,646,null,null,{"$f":"IF(ISNUMBER($D$6),D657*$D$6,#REF!*D657)","v":0}]
[null,647,null,null,{"$f":"IF(ISNUMBER($D$6),D658*$D$6,#REF!*D658)","v":0}]
[null,648,null,null,{"$f":"IF(ISNUMBER($D$6),D659*$D$6,#REF!*D659)","v":0}]
[null,649,null,null,{"$f":"IF(ISNUMBER($D$6),D660*$D$6,#REF!*D660)","v":0}]
[null,650,null,null,{"$f":"IF(ISNUMBER($D$6),D661*$D$6,#REF!*D661)","v":0}]
[null,651,null,null,{"$f":"IF(ISNUMBER($D$6),D662*$D$6,#REF!*D662)","v":0}]
[null,652,null,null,{"$f":"IF(ISNUMBER($D$6),D663*$D$6,#REF!*D663)","v":0}]
[null,653,null,null,{"$f":"IF(ISNUMBER($D$6),D664*$D$6,#REF!*D664)","v":0}]
[null,654,null,null,{"$f":"IF(ISNUMBER($D$6),D665*$D$6,#REF!*D665)","v":0}]
[null,655,null,null,{"$f":"IF(ISNUMBER($D$6),D666*$D$6,#REF!*D666)","v":0}]
[null,656,null,null,{"$f":"IF(ISNUMBER($D$6),D667*$D$6,#REF!*D667)","v":0}]
[null,657,null,null,{"$f":"IF(ISNUMBER($D$6),D668*$D$6,#REF!*D668)","v":0}]
[null,658,null,null,{"$f":"IF(ISNUMBER($D$6),D669*$D$6,#REF!*D669)","v":0}]
[null,659,null,null,{"$f":"IF(ISNUMBER($D$6),D670*$D$6,#REF!*D670)","v":0}]
[null,660,null,null,{"$f":"IF(ISNUMBER($D$6),D671*$D$6,#REF!*D671)","v":0}]
[null,661,null,null,{"$f":"IF(ISNUMBER($D$6),D672*$D$6,#REF!*D672)","v":0}]
[null,662,null,null,{"$f":"IF(ISNUMBER($D$6),D673*$D$6,#REF!*D673)","v":0}]
[null,663,null,null,{"$f":"IF(ISNUMBER($D$6),D674*$D$6,#REF!*D674)","v":0}]
[null,664,null,null,{"$f":"IF(ISNUMBER($D$6),D675*$D$6,#REF!*D675)","v":0}]
[null,665,null,null,{"$f":"IF(ISNUMBER($D$6),D676*$D$6,#REF!*D676)","v":0}]
[null,666,null,null,{"$f":"IF(ISNUMBER($D$6),D677*$D$6,#REF!*D677)","v":0}]
[null,667,null,null,{"$f":"IF(ISNUMBER($D$6),D678*$D$6,#REF!*D678)","v":0}]
[null,668,null,null,{"$f":"IF(ISNUMBER($D$6),D679*$D$6,#REF!*D679)","v":0}]
[null,669,null,null,{"$f":"IF(ISNUMBER($D$6),D680*$D$6,#REF!*D680)","v":0}]
[null,670,null,null,{"$f":"IF(ISNUMBER($D$6),D681*$D$6,#REF!*D681)","v":0}]
[null,671,null,null,{"$f":"IF(ISNUMBER($D$6),D682*$D$6,#REF!*D682)","v":0}]
[null,672,null,null,{"$f":"IF(ISNUMBER($D$6),D683*$D$6,#REF!*D683)","v":0}]
[null,673,null,null,{"$f":"IF(ISNUMBER($D$6),D684*$D$6,#REF!*D684)","v":0}]
[null,674,null,null,{"$f":"IF(ISNUMBER($D$6),D685*$D$6,#REF!*D685)","v":0}]
[null,675,null,null,{"$f":"IF(ISNUMBER($D$6),D686*$D$6,#REF!*D686)","v":0}]
[null,676,null,null,{"$f":"IF(ISNUMBER($D$6),D687*$D$6,#REF!*D687)","v":0}]
[null,677,null,null,{"$f":"IF(ISNUMBER($D$6),D688*$D$6,#REF!*D688)","v":0}]
[null,678,null,null,{"$f":"IF(ISNUMBER($D$6),D689*$D$6,#REF!*D689)","v":0}]
[null,679,null,null,{"$f":"IF(ISNUMBER($D$6),D690*$D$6,#REF!*D690)","v":0}]
[null,680,null,null,{"$f":"IF(ISNUMBER($D$6),D691*$D$6,#REF!*D691)","v":0}]
[null,681,null,null,{"$f":"IF(ISNUMBER($D$6),D692*$D$6,#REF!*D692)","v":0}]
[null,682,null,null,{"$f":"IF(ISNUMBER($D$6),D693*$D$6,#REF!*D693)","v":0}]
[null,683,null,null,{"$f":"IF(ISNUMBER($D$6),D694*$D$6,#REF!*D694)","v":0}]
[null,684,null,null,{"$f":"IF(ISNUMBER($D$6),D695*$D$6,#REF!*D695)","v":0}]
[null,685,null,null,{"$f":"IF(ISNUMBER($D$6),D696*$D$6,#REF!*D696)","v":0}]
[null,686,null,null,{"$f":"IF(ISNUMBER($D$6),D697*$D$6,#REF!*D697)","v":0}]
[null,687,null,null,{"$f":"IF(ISNUMBER($D$6),D698*$D$6,#REF!*D698)","v":0}]
[null,688,null,null,{"$f":"IF(ISNUMBER($D$6),D699*$D$6,#REF!*D699)","v":0}]
[null,689,null,null,{"$f":"IF(ISNUMBER($D$6),D700*$D$6,#REF!*D700)","v":0}]
[null,690,null,null,{"$f":"IF(ISNUMBER($D$6),D701*$D$6,#REF!*D701)","v":0}]
[null,691,null,null,{"$f":"IF(ISNUMBER($D$6),D702*$D$6,#REF!*D702)","v":0}]
[null,692,null,null,{"$f":"IF(ISNUMBER($D$6),D703*$D$6,#REF!*D703)","v":0}]
[null,693,null,null,{"$f":"IF(ISNUMBER($D$6),D704*$D$6,#REF!*D704)","v":0}]
[null,694,null,null,{"$f":"IF(ISNUMBER($D$6),D705*$D$6,#REF!*D705)","v":0}]
[null,695,null,null,{"$f":"IF(ISNUMBER($D$6),D706*$D$6,#REF!*D706)","v":0}]
[null,696,null,null,{"$f":"IF(ISNUMBER($D$6),D707*$D$6,#REF!*D707)","v":0}]
[null,697,null,null,{"$f":"IF(ISNUMBER($D$6),D708*$D$6,#REF!*D708)","v":0}]
[null,698,null,null,{"$f":"IF(ISNUMBER($D$6),D709*$D$6,#REF!*D709)","v":0}]
[null,699,null,null,{"$f":"IF(ISNUMBER($D$6),D710*$D$6,#REF!*D710)","v":0}]
[null,700,null,null,{"$f":"IF(ISNUMBER($D$6),D711*$D$6,#REF!*D711)","v":0}]
[null,701,null,null,{"$f":"IF(ISNUMBER($D$6),D712*$D$6,#REF!*D712)","v":0}]
[null,702,null,null,{"$f":"IF(ISNUMBER($D$6),D713*$D$6,#REF!*D713)","v":0}]
[null,703,null,null,{"$f":"IF(ISNUMBER($D$6),D714*$D$6,#REF!*D714)","v":0}]
[null,704,null,null,{"$f":"IF(ISNUMBER($D$6),D715*$D$6,#REF!*D715)","v":0}]
[null,705,null,null,{"$f":"IF(ISNUMBER($D$6),D716*$D$6,#REF!*D716)","v":0}]
[null,706,null,null,{"$f":"IF(ISNUMBER($D$6),D717*$D$6,#REF!*D717)","v":0}]
[null,{"$f":"+B717+1","v":707},null,null,{"$f":"IF(ISNUMBER($D$6),D718*$D$6,#REF!*D718)","v":0}]
[null,708,null,null,{"$f":"IF(ISNUMBER($D$6),D719*$D$6,#REF!*D719)","v":0}]
[null,709,null,null,{"$f":"IF(ISNUMBER($D$6),D720*$D$6,#REF!*D720)","v":0}]
[null,710,null,null,{"$f":"IF(ISNUMBER($D$6),D721*$D$6,#REF!*D721)","v":0}]
[null,711,null,null,{"$f":"IF(ISNUMBER($D$6),D722*$D$6,#REF!*D722)","v":0}]
[null,712,null,null,{"$f":"IF(ISNUMBER($D$6),D723*$D$6,#REF!*D723)","v":0}]
[null,713,null,null,{"$f":"IF(ISNUMBER($D$6),D724*$D$6,#REF!*D724)","v":0}]
[null,714,null,null,{"$f":"IF(ISNUMBER($D$6),D725*$D$6,#REF!*D725)","v":0}]
[null,715,null,null,{"$f":"IF(ISNUMBER($D$6),D726*$D$6,#REF!*D726)","v":0}]
[null,716,null,null,{"$f":"IF(ISNUMBER($D$6),D727*$D$6,#REF!*D727)","v":0}]
[null,717,null,null,{"$f":"IF(ISNUMBER($D$6),D728*$D$6,#REF!*D728)","v":0}]
[null,718,null,null,{"$f":"IF(ISNUMBER($D$6),D729*$D$6,#REF!*D729)","v":0}]
[null,719,null,null,{"$f":"IF(ISNUMBER($D$6),D730*$D$6,#REF!*D730)","v":0}]
[null,720,null,null,{"$f":"IF(ISNUMBER($D$6),D731*$D$6,#REF!*D731)","v":0}]
[null,721,null,null,{"$f":"IF(ISNUMBER($D$6),D732*$D$6,#REF!*D732)","v":0}]
[null,722,null,null,{"$f":"IF(ISNUMBER($D$6),D733*$D$6,#REF!*D733)","v":0}]
[null,723,null,null,{"$f":"IF(ISNUMBER($D$6),D734*$D$6,#REF!*D734)","v":0}]
[null,724,null,null,{"$f":"IF(ISNUMBER($D$6),D735*$D$6,#REF!*D735)","v":0}]
[null,725,null,null,{"$f":"IF(ISNUMBER($D$6),D736*$D$6,#REF!*D736)","v":0}]
[null,726,null,null,{"$f":"IF(ISNUMBER($D$6),D737*$D$6,#REF!*D737)","v":0}]
[null,727,null,null,{"$f":"IF(ISNUMBER($D$6),D738*$D$6,#REF!*D738)","v":0}]
[null,728,null,null,{"$f":"IF(ISNUMBER($D$6),D739*$D$6,#REF!*D739)","v":0}]
[null,729,null,null,{"$f":"IF(ISNUMBER($D$6),D740*$D$6,#REF!*D740)","v":0}]
[null,730,null,null,{"$f":"IF(ISNUMBER($D$6),D741*$D$6,#REF!*D741)","v":0}]
[null,731,null,null,{"$f":"IF(ISNUMBER($D$6),D742*$D$6,#REF!*D742)","v":0}]
[null,732,null,null,{"$f":"IF(ISNUMBER($D$6),D743*$D$6,#REF!*D743)","v":0}]
[null,733,null,null,{"$f":"IF(ISNUMBER($D$6),D744*$D$6,#REF!*D744)","v":0}]
[null,734,null,null,{"$f":"IF(ISNUMBER($D$6),D745*$D$6,#REF!*D745)","v":0}]
[null,735,null,null,{"$f":"IF(ISNUMBER($D$6),D746*$D$6,#REF!*D746)","v":0}]
[null,736,null,null,{"$f":"IF(ISNUMBER($D$6),D747*$D$6,#REF!*D747)","v":0}]
[null,737,null,null,{"$f":"IF(ISNUMBER($D$6),D748*$D$6,#REF!*D748)","v":0}]
[null,738,null,null,{"$f":"IF(ISNUMBER($D$6),D749*$D$6,#REF!*D749)","v":0}]
[null,739,null,null,{"$f":"IF(ISNUMBER($D$6),D750*$D$6,#REF!*D750)","v":0}]
[null,740,null,null,{"$f":"IF(ISNUMBER($D$6),D751*$D$6,#REF!*D751)","v":0}]
[null,741,null,null,{"$f":"IF(ISNUMBER($D$6),D752*$D$6,#REF!*D752)","v":0}]
[null,742,null,null,{"$f":"IF(ISNUMBER($D$6),D753*$D$6,#REF!*D753)","v":0}]
[null,743,null,null,{"$f":"IF(ISNUMBER($D$6),D754*$D$6,#REF!*D754)","v":0}]
[null,744,null,null,{"$f":"IF(ISNUMBER($D$6),D755*$D$6,#REF!*D755)","v":0}]
[null,745,null,null,{"$f":"IF(ISNUMBER($D$6),D756*$D$6,#REF!*D756)","v":0}]
[null,746,null,null,{"$f":"IF(ISNUMBER($D$6),D757*$D$6,#REF!*D757)","v":0}]
[null,747,null,null,{"$f":"IF(ISNUMBER($D$6),D758*$D$6,#REF!*D758)","v":0}]
[null,748,null,null,{"$f":"IF(ISNUMBER($D$6),D759*$D$6,#REF!*D759)","v":0}]
[null,749,null,null,{"$f":"IF(ISNUMBER($D$6),D760*$D$6,#REF!*D760)","v":0}]
[null,750,null,null,{"$f":"IF(ISNUMBER($D$6),D761*$D$6,#REF!*D761)","v":0}]
[null,751,null,null,{"$f":"IF(ISNUMBER($D$6),D762*$D$6,#REF!*D762)","v":0}]
[null,752,null,null,{"$f":"IF(ISNUMBER($D$6),D763*$D$6,#REF!*D763)","v":0}]
[null,753,null,null,{"$f":"IF(ISNUMBER($D$6),D764*$D$6,#REF!*D764)","v":0}]
[null,754,null,null,{"$f":"IF(ISNUMBER($D$6),D765*$D$6,#REF!*D765)","v":0}]
[null,755,null,null,{"$f":"IF(ISNUMBER($D$6),D766*$D$6,#REF!*D766)","v":0}]
[null,756,null,null,{"$f":"IF(ISNUMBER($D$6),D767*$D$6,#REF!*D767)","v":0}]
[null,{"$f":"+B767+1","v":757},null,null,{"$f":"IF(ISNUMBER($D$6),D768*$D$6,#REF!*D768)","v":0}]
[null,{"$f":"+B768+1","v":758},null,null,{"$f":"IF(ISNUMBER($D$6),D769*$D$6,#REF!*D769)","v":0}]
[null,759,null,null,{"$f":"IF(ISNUMBER($D$6),D770*$D$6,#REF!*D770)","v":0}]
[null,760,null,null,{"$f":"IF(ISNUMBER($D$6),D771*$D$6,#REF!*D771)","v":0}]
[null,761,null,null,{"$f":"IF(ISNUMBER($D$6),D772*$D$6,#REF!*D772)","v":0}]
[null,762,null,null,{"$f":"IF(ISNUMBER($D$6),D773*$D$6,#REF!*D773)","v":0}]
[null,763,null,null,{"$f":"IF(ISNUMBER($D$6),D774*$D$6,#REF!*D774)","v":0}]
[null,764,null,null,{"$f":"IF(ISNUMBER($D$6),D775*$D$6,#REF!*D775)","v":0}]
[null,765,null,null,{"$f":"IF(ISNUMBER($D$6),D776*$D$6,#REF!*D776)","v":0}]
[null,766,null,null,{"$f":"IF(ISNUMBER($D$6),D777*$D$6,#REF!*D777)","v":0}]
[null,767,null,null,{"$f":"IF(ISNUMBER($D$6),D778*$D$6,#REF!*D778)","v":0}]
[null,768,null,null,{"$f":"IF(ISNUMBER($D$6),D779*$D$6,#REF!*D779)","v":0}]
[null,769,null,null,{"$f":"IF(ISNUMBER($D$6),D780*$D$6,#REF!*D780)","v":0}]
[null,770,null,null,{"$f":"IF(ISNUMBER($D$6),D781*$D$6,#REF!*D781)","v":0}]
[null,771,null,null,{"$f":"IF(ISNUMBER($D$6),D782*$D$6,#REF!*D782)","v":0}]
[null,772,null,null,{"$f":"IF(ISNUMBER($D$6),D783*$D$6,#REF!*D783)","v":0}]
[null,773,null,null,{"$f":"IF(ISNUMBER($D$6),D784*$D$6,#REF!*D784)","v":0}]
[null,774,null,null,{"$f":"IF(ISNUMBER($D$6),D785*$D$6,#REF!*D785)","v":0}]
[null,775,null,null,{"$f":"IF(ISNUMBER($D$6),D786*$D$6,#REF!*D786)","v":0}]
[null,{"$f":"+B786+1","v":776},null,null,{"$f":"IF(ISNUMBER($D$6),D787*$D$6,#REF!*D787)","v":0}]
[null,{"$f":"+B787+1","v":777},null,null,{"$f":"IF(ISNUMBER($D$6),D788*$D$6,#REF!*D788)","v":0}]
[null,778,null,null,{"$f":"IF(ISNUMBER($D$6),D789*$D$6,#REF!*D789)","v":0}]
[null,779,null,null,{"$f":"IF(ISNUMBER($D$6),D790*$D$6,#REF!*D790)","v":0}]
[null,780,null,null,{"$f":"IF(ISNUMBER($D$6),D791*$D$6,#REF!*D791)","v":0}]
[null,781,null,null,{"$f":"IF(ISNUMBER($D$6),D792*$D$6,#REF!*D792)","v":0}]
[null,782,null,null,{"$f":"IF(ISNUMBER($D$6),D793*$D$6,#REF!*D793)","v":0}]
[null,783,null,null,{"$f":"IF(ISNUMBER($D$6),D794*$D$6,#REF!*D794)","v":0}]
[null,784,null,null,{"$f":"IF(ISNUMBER($D$6),D795*$D$6,#REF!*D795)","v":0}]
[null,785,null,null,{"$f":"IF(ISNUMBER($D$6),D796*$D$6,#REF!*D796)","v":0}]
[null,786,null,null,{"$f":"IF(ISNUMBER($D$6),D797*$D$6,#REF!*D797)","v":0}]
[null,787,null,null,{"$f":"IF(ISNUMBER($D$6),D798*$D$6,#REF!*D798)","v":0}]
[null,788,null,null,{"$f":"IF(ISNUMBER($D$6),D799*$D$6,#REF!*D799)","v":0}]
[null,789,null,null,{"$f":"IF(ISNUMBER($D$6),D800*$D$6,#REF!*D800)","v":0}]
[null,790,null,null,{"$f":"IF(ISNUMBER($D$6),D801*$D$6,#REF!*D801)","v":0}]
[null,791,null,null,{"$f":"IF(ISNUMBER($D$6),D802*$D$6,#REF!*D802)","v":0}]
[null,792,null,null,{"$f":"IF(ISNUMBER($D$6),D803*$D$6,#REF!*D803)","v":0}]
[null,793,null,null,{"$f":"IF(ISNUMBER($D$6),D804*$D$6,#REF!*D804)","v":0}]
[null,794,null,null,{"$f":"IF(ISNUMBER($D$6),D805*$D$6,#REF!*D805)","v":0}]
[null,795,null,null,{"$f":"IF(ISNUMBER($D$6),D806*$D$6,#REF!*D806)","v":0}]
[null,796,null,null,{"$f":"IF(ISNUMBER($D$6),D807*$D$6,#REF!*D807)","v":0}]
[null,797,null,null,{"$f":"IF(ISNUMBER($D$6),D808*$D$6,#REF!*D808)","v":0}]
[null,798,null,null,{"$f":"IF(ISNUMBER($D$6),D809*$D$6,#REF!*D809)","v":0}]
[null,799,null,null,{"$f":"IF(ISNUMBER($D$6),D810*$D$6,#REF!*D810)","v":0}]
[null,800,null,null,{"$f":"IF(ISNUMBER($D$6),D811*$D$6,#REF!*D811)","v":0}]
[null,801,null,null,{"$f":"IF(ISNUMBER($D$6),D812*$D$6,#REF!*D812)","v":0}]
[null,802,null,null,{"$f":"IF(ISNUMBER($D$6),D813*$D$6,#REF!*D813)","v":0}]
[null,803,null,null,{"$f":"IF(ISNUMBER($D$6),D814*$D$6,#REF!*D814)","v":0}]
[null,804,null,null,{"$f":"IF(ISNUMBER($D$6),D815*$D$6,#REF!*D815)","v":0}]
[null,805,null,null,{"$f":"IF(ISNUMBER($D$6),D816*$D$6,#REF!*D816)","v":0}]
[null,806,null,null,{"$f":"IF(ISNUMBER($D$6),D817*$D$6,#REF!*D817)","v":0}]
[null,807,null,null,{"$f":"IF(ISNUMBER($D$6),D818*$D$6,#REF!*D818)","v":0}]
[null,808,null,null,{"$f":"IF(ISNUMBER($D$6),D819*$D$6,#REF!*D819)","v":0}]
[null,809,null,null,{"$f":"IF(ISNUMBER($D$6),D820*$D$6,#REF!*D820)","v":0}]
[null,810,null,null,{"$f":"IF(ISNUMBER($D$6),D821*$D$6,#REF!*D821)","v":0}]
[null,811,null,null,{"$f":"IF(ISNUMBER($D$6),D822*$D$6,#REF!*D822)","v":0}]
[null,812,null,null,{"$f":"IF(ISNUMBER($D$6),D823*$D$6,#REF!*D823)","v":0}]
[null,813,null,null,{"$f":"IF(ISNUMBER($D$6),D824*$D$6,#REF!*D824)","v":0}]
[null,814,null,null,{"$f":"IF(ISNUMBER($D$6),D825*$D$6,#REF!*D825)","v":0}]
[null,815,null,null,{"$f":"IF(ISNUMBER($D$6),D826*$D$6,#REF!*D826)","v":0}]
[null,816,null,null,{"$f":"IF(ISNUMBER($D$6),D827*$D$6,#REF!*D827)","v":0}]
[null,817,null,null,{"$f":"IF(ISNUMBER($D$6),D828*$D$6,#REF!*D828)","v":0}]
[null,818,null,null,{"$f":"IF(ISNUMBER($D$6),D829*$D$6,#REF!*D829)","v":0}]
[null,819,null,null,{"$f":"IF(ISNUMBER($D$6),D830*$D$6,#REF!*D830)","v":0}]
[null,820,null,null,{"$f":"IF(ISNUMBER($D$6),D831*$D$6,#REF!*D831)","v":0}]
[null,821,null,null,{"$f":"IF(ISNUMBER($D$6),D832*$D$6,#REF!*D832)","v":0}]
[null,822,null,null,{"$f":"IF(ISNUMBER($D$6),D833*$D$6,#REF!*D833)","v":0}]
[null,823,null,null,{"$f":"IF(ISNUMBER($D$6),D834*$D$6,#REF!*D834)","v":0}]
[null,824,null,null,{"$f":"IF(ISNUMBER($D$6),D835*$D$6,#REF!*D835)","v":0}]
[null,825,null,null,{"$f":"IF(ISNUMBER($D$6),D836*$D$6,#REF!*D836)","v":0}]
[null,826,null,null,{"$f":"IF(ISNUMBER($D$6),D837*$D$6,#REF!*D837)","v":0}]
[null,827,null,null,{"$f":"IF(ISNUMBER($D$6),D838*$D$6,#REF!*D838)","v":0}]
[null,828,null,null,{"$f":"IF(ISNUMBER($D$6),D839*$D$6,#REF!*D839)","v":0}]
[null,829,null,null,{"$f":"IF(ISNUMBER($D$6),D840*$D$6,#REF!*D840)","v":0}]
[null,830,null,null,{"$f":"IF(ISNUMBER($D$6),D841*$D$6,#REF!*D841)","v":0}]
[null,831,null,null,{"$f":"IF(ISNUMBER($D$6),D842*$D$6,#REF!*D842)","v":0}]
[null,832,null,null,{"$f":"IF(ISNUMBER($D$6),D843*$D$6,#REF!*D843)","v":0}]
[null,833,null,null,{"$f":"IF(ISNUMBER($D$6),D844*$D$6,#REF!*D844)","v":0}]
[null,834,null,null,{"$f":"IF(ISNUMBER($D$6),D845*$D$6,#REF!*D845)","v":0}]
[null,835,null,null,{"$f":"IF(ISNUMBER($D$6),D846*$D$6,#REF!*D846)","v":0}]
[null,836,null,null,{"$f":"IF(ISNUMBER($D$6),D847*$D$6,#REF!*D847)","v":0}]
[null,837,null,null,{"$f":"IF(ISNUMBER($D$6),D848*$D$6,#REF!*D848)","v":0}]
[null,838,null,null,{"$f":"IF(ISNUMBER($D$6),D849*$D$6,#REF!*D849)","v":0}]
[null,839,null,null,{"$f":"IF(ISNUMBER($D$6),D850*$D$6,#REF!*D850)","v":0}]
[null,840,null,null,{"$f":"IF(ISNUMBER($D$6),D851*$D$6,#REF!*D851)","v":0}]
[null,{"$f":"+B851+1","v":841},null,null,{"$f":"IF(ISNUMBER($D$6),D852*$D$6,#REF!*D852)","v":0}]
[null,842,null,null,{"$f":"IF(ISNUMBER($D$6),D853*$D$6,#REF!*D853)","v":0}]
[null,843,null,null,{"$f":"IF(ISNUMBER($D$6),D854*$D$6,#REF!*D854)","v":0}]
[null,844,null,null,{"$f":"IF(ISNUMBER($D$6),D855*$D$6,#REF!*D855)","v":0}]
[null,845,null,null,{"$f":"IF(ISNUMBER($D$6),D856*$D$6,#REF!*D856)","v":0}]
[null,846,null,null,{"$f":"IF(ISNUMBER($D$6),D857*$D$6,#REF!*D857)","v":0}]
[null,847,null,null,{"$f":"IF(ISNUMBER($D$6),D858*$D$6,#REF!*D858)","v":0}]
[null,848,null,null,{"$f":"IF(ISNUMBER($D$6),D859*$D$6,#REF!*D859)","v":0}]
[null,849,null,null,{"$f":"IF(ISNUMBER($D$6),D860*$D$6,#REF!*D860)","v":0}]
[null,850,null,null,{"$f":"IF(ISNUMBER($D$6),D861*$D$6,#REF!*D861)","v":0}]
[null,851,null,null,{"$f":"IF(ISNUMBER($D$6),D862*$D$6,#REF!*D862)","v":0}]
[null,852,null,null,{"$f":"IF(ISNUMBER($D$6),D863*$D$6,#REF!*D863)","v":0}]
[null,853,null,null,{"$f":"IF(ISNUMBER($D$6),D864*$D$6,#REF!*D864)","v":0}]
[null,854,null,null,{"$f":"IF(ISNUMBER($D$6),D865*$D$6,#REF!*D865)","v":0}]
[null,855,null,null,{"$f":"IF(ISNUMBER($D$6),D866*$D$6,#REF!*D866)","v":0}]
[null,856,null,null,{"$f":"IF(ISNUMBER($D$6),D867*$D$6,#REF!*D867)","v":0}]
[null,857,null,null,{"$f":"IF(ISNUMBER($D$6),D868*$D$6,#REF!*D868)","v":0}]
[null,858,null,null,{"$f":"IF(ISNUMBER($D$6),D869*$D$6,#REF!*D869)","v":0}]
[null,859,null,null,{"$f":"IF(ISNUMBER($D$6),D870*$D$6,#REF!*D870)","v":0}]
[null,860,null,null,{"$f":"IF(ISNUMBER($D$6),D871*$D$6,#REF!*D871)","v":0}]
[null,861,null,null,{"$f":"IF(ISNUMBER($D$6),D872*$D$6,#REF!*D872)","v":0}]
[null,862,null,null,{"$f":"IF(ISNUMBER($D$6),D873*$D$6,#REF!*D873)","v":0}]
[null,863,null,null,{"$f":"IF(ISNUMBER($D$6),D874*$D$6,#REF!*D874)","v":0}]
[null,864,null,null,{"$f":"IF(ISNUMBER($D$6),D875*$D$6,#REF!*D875)","v":0}]
[null,865,null,null,{"$f":"IF(ISNUMBER($D$6),D876*$D$6,#REF!*D876)","v":0}]
[null,866,null,null,{"$f":"IF(ISNUMBER($D$6),D877*$D$6,#REF!*D877)","v":0}]
[null,867,null,null,{"$f":"IF(ISNUMBER($D$6),D878*$D$6,#REF!*D878)","v":0}]
[null,868,null,null,{"$f":"IF(ISNUMBER($D$6),D879*$D$6,#REF!*D879)","v":0}]
[null,869,null,null,{"$f":"IF(ISNUMBER($D$6),D880*$D$6,#REF!*D880)","v":0}]
[null,870,null,null,{"$f":"IF(ISNUMBER($D$6),D881*$D$6,#REF!*D881)","v":0}]
[null,871,null,null,{"$f":"IF(ISNUMBER($D$6),D882*$D$6,#REF!*D882)","v":0}]
[null,872,null,null,{"$f":"IF(ISNUMBER($D$6),D883*$D$6,#REF!*D883)","v":0}]
[null,873,null,null,{"$f":"IF(ISNUMBER($D$6),D884*$D$6,#REF!*D884)","v":0}]
[null,874,null,null,{"$f":"IF(ISNUMBER($D$6),D885*$D$6,#REF!*D885)","v":0}]
[null,875,null,null,{"$f":"IF(ISNUMBER($D$6),D886*$D$6,#REF!*D886)","v":0}]
[null,876,null,null,{"$f":"IF(ISNUMBER($D$6),D887*$D$6,#REF!*D887)","v":0}]
[null,877,null,null,{"$f":"IF(ISNUMBER($D$6),D888*$D$6,#REF!*D888)","v":0}]
[null,878,null,null,{"$f":"IF(ISNUMBER($D$6),D889*$D$6,#REF!*D889)","v":0}]
[null,879,null,null,{"$f":"IF(ISNUMBER($D$6),D890*$D$6,#REF!*D890)","v":0}]
[null,880,null,null,{"$f":"IF(ISNUMBER($D$6),D891*$D$6,#REF!*D891)","v":0}]
[null,881,null,null,{"$f":"IF(ISNUMBER($D$6),D892*$D$6,#REF!*D892)","v":0}]
[null,882,null,null,{"$f":"IF(ISNUMBER($D$6),D893*$D$6,#REF!*D893)","v":0}]
[null,883,null,null,{"$f":"IF(ISNUMBER($D$6),D894*$D$6,#REF!*D894)","v":0}]
[null,884,null,null,{"$f":"IF(ISNUMBER($D$6),D895*$D$6,#REF!*D895)","v":0}]
[null,885,null,null,{"$f":"IF(ISNUMBER($D$6),D896*$D$6,#REF!*D896)","v":0}]
[null,886,null,null,{"$f":"IF(ISNUMBER($D$6),D897*$D$6,#REF!*D897)","v":0}]
[null,887,null,null,{"$f":"IF(ISNUMBER($D$6),D898*$D$6,#REF!*D898)","v":0}]
[null,888,null,null,{"$f":"IF(ISNUMBER($D$6),D899*$D$6,#REF!*D899)","v":0}]
[null,889,null,null,{"$f":"IF(ISNUMBER($D$6),D900*$D$6,#REF!*D900)","v":0}]
[null,890,null,null,{"$f":"IF(ISNUMBER($D$6),D901*$D$6,#REF!*D901)","v":0}]
[null,891,null,null,{"$f":"IF(ISNUMBER($D$6),D902*$D$6,#REF!*D902)","v":0}]
[null,892,null,null,{"$f":"IF(ISNUMBER($D$6),D903*$D$6,#REF!*D903)","v":0}]
[null,893,null,null,{"$f":"IF(ISNUMBER($D$6),D904*$D$6,#REF!*D904)","v":0}]
[null,894,null,null,{"$f":"IF(ISNUMBER($D$6),D905*$D$6,#REF!*D905)","v":0}]
[null,895,null,null,{"$f":"IF(ISNUMBER($D$6),D906*$D$6,#REF!*D906)","v":0}]
[null,896,null,null,{"$f":"IF(ISNUMBER($D$6),D907*$D$6,#REF!*D907)","v":0}]
[null,897,null,null,{"$f":"IF(ISNUMBER($D$6),D908*$D$6,#REF!*D908)","v":0}]
[null,898,null,null,{"$f":"IF(ISNUMBER($D$6),D909*$D$6,#REF!*D909)","v":0}]
[null,899,null,null,{"$f":"IF(ISNUMBER($D$6),D910*$D$6,#REF!*D910)","v":0}]
[null,900,null,null,{"$f":"IF(ISNUMBER($D$6),D911*$D$6,#REF!*D911)","v":0}]
[null,901,null,null,{"$f":"IF(ISNUMBER($D$6),D912*$D$6,#REF!*D912)","v":0}]
[null,902,null,null,{"$f":"IF(ISNUMBER($D$6),D913*$D$6,#REF!*D913)","v":0}]
[null,903,null,null,{"$f":"IF(ISNUMBER($D$6),D914*$D$6,#REF!*D914)","v":0}]
[null,904,null,null,{"$f":"IF(ISNUMBER($D$6),D915*$D$6,#REF!*D915)","v":0}]
[null,{"$f":"+B915+1","v":905},null,null,{"$f":"IF(ISNUMBER($D$6),D916*$D$6,#REF!*D916)","v":0}]
[null,906,null,null,{"$f":"IF(ISNUMBER($D$6),D917*$D$6,#REF!*D917)","v":0}]
[null,907,null,null,{"$f":"IF(ISNUMBER($D$6),D918*$D$6,#REF!*D918)","v":0}]
[null,908,null,null,{"$f":"IF(ISNUMBER($D$6),D919*$D$6,#REF!*D919)","v":0}]
[null,909,null,null,{"$f":"IF(ISNUMBER($D$6),D920*$D$6,#REF!*D920)","v":0}]
[null,910,null,null,{"$f":"IF(ISNUMBER($D$6),D921*$D$6,#REF!*D921)","v":0}]
[null,911,null,null,{"$f":"IF(ISNUMBER($D$6),D922*$D$6,#REF!*D922)","v":0}]
[null,912,null,null,{"$f":"IF(ISNUMBER($D$6),D923*$D$6,#REF!*D923)","v":0}]
[null,913,null,null,{"$f":"IF(ISNUMBER($D$6),D924*$D$6,#REF!*D924)","v":0}]
[null,914,null,null,{"$f":"IF(ISNUMBER($D$6),D925*$D$6,#REF!*D925)","v":0}]
[null,915,null,null,{"$f":"IF(ISNUMBER($D$6),D926*$D$6,#REF!*D926)","v":0}]
[null,916,null,null,{"$f":"IF(ISNUMBER($D$6),D927*$D$6,#REF!*D927)","v":0}]
[null,917,null,null,{"$f":"IF(ISNUMBER($D$6),D928*$D$6,#REF!*D928)","v":0}]
[null,918,null,null,{"$f":"IF(ISNUMBER($D$6),D929*$D$6,#REF!*D929)","v":0}]
[null,919,null,null,{"$f":"IF(ISNUMBER($D$6),D930*$D$6,#REF!*D930)","v":0}]
[null,920,null,null,{"$f":"IF(ISNUMBER($D$6),D931*$D$6,#REF!*D931)","v":0}]
[null,921,null,null,{"$f":"IF(ISNUMBER($D$6),D932*$D$6,#REF!*D932)","v":0}]
[null,922,null,null,{"$f":"IF(ISNUMBER($D$6),D933*$D$6,#REF!*D933)","v":0}]
[null,923,null,null,{"$f":"IF(ISNUMBER($D$6),D934*$D$6,#REF!*D934)","v":0}]
[null,924,null,null,{"$f":"IF(ISNUMBER($D$6),D935*$D$6,#REF!*D935)","v":0}]
[null,925,null,null,{"$f":"IF(ISNUMBER($D$6),D936*$D$6,#REF!*D936)","v":0}]
[null,926,null,null,{"$f":"IF(ISNUMBER($D$6),D937*$D$6,#REF!*D937)","v":0}]
[null,927,null,null,{"$f":"IF(ISNUMBER($D$6),D938*$D$6,#REF!*D938)","v":0}]
[null,928,null,null,{"$f":"IF(ISNUMBER($D$6),D939*$D$6,#REF!*D939)","v":0}]
[null,929,null,null,{"$f":"IF(ISNUMBER($D$6),D940*$D$6,#REF!*D940)","v":0}]
[null,930,null,null,{"$f":"IF(ISNUMBER($D$6),D941*$D$6,#REF!*D941)","v":0}]
[null,931,null,null,{"$f":"IF(ISNUMBER($D$6),D942*$D$6,#REF!*D942)","v":0}]
[null,932,null,null,{"$f":"IF(ISNUMBER($D$6),D943*$D$6,#REF!*D943)","v":0}]
[null,933,null,null,{"$f":"IF(ISNUMBER($D$6),D944*$D$6,#REF!*D944)","v":0}]
[null,934,null,null,{"$f":"IF(ISNUMBER($D$6),D945*$D$6,#REF!*D945)","v":0}]
[null,935,null,null,{"$f":"IF(ISNUMBER($D$6),D946*$D$6,#REF!*D946)","v":0}]
[null,936,null,null,{"$f":"IF(ISNUMBER($D$6),D947*$D$6,#REF!*D947)","v":0}]
[null,937,null,null,{"$f":"IF(ISNUMBER($D$6),D948*$D$6,#REF!*D948)","v":0}]
[null,938,null,null,{"$f":"IF(ISNUMBER($D$6),D949*$D$6,#REF!*D949)","v":0}]
[null,939,null,null,{"$f":"IF(ISNUMBER($D$6),D950*$D$6,#REF!*D950)","v":0}]
[null,940,null,null,{"$f":"IF(ISNUMBER($D$6),D951*$D$6,#REF!*D951)","v":0}]
[null,941,null,null,{"$f":"IF(ISNUMBER($D$6),D952*$D$6,#REF!*D952)","v":0}]
[null,942,null,null,{"$f":"IF(ISNUMBER($D$6),D953*$D$6,#REF!*D953)","v":0}]
[null,943,null,null,{"$f":"IF(ISNUMBER($D$6),D954*$D$6,#REF!*D954)","v":0}]
[null,944,null,null,{"$f":"IF(ISNUMBER($D$6),D955*$D$6,#REF!*D955)","v":0}]
[null,945,null,null,{"$f":"IF(ISNUMBER($D$6),D956*$D$6,#REF!*D956)","v":0}]
[null,946,null,null,{"$f":"IF(ISNUMBER($D$6),D957*$D$6,#REF!*D957)","v":0}]
[null,947,null,null,{"$f":"IF(ISNUMBER($D$6),D958*$D$6,#REF!*D958)","v":0}]
[null,948,null,null,{"$f":"IF(ISNUMBER($D$6),D959*$D$6,#REF!*D959)","v":0}]
[null,949,null,null,{"$f":"IF(ISNUMBER($D$6),D960*$D$6,#REF!*D960)","v":0}]
[null,950,null,null,{"$f":"IF(ISNUMBER($D$6),D961*$D$6,#REF!*D961)","v":0}]
[null,951,null,null,{"$f":"IF(ISNUMBER($D$6),D962*$D$6,#REF!*D962)","v":0}]
[null,952,null,null,{"$f":"IF(ISNUMBER($D$6),D963*$D$6,#REF!*D963)","v":0}]
[null,953,null,null,{"$f":"IF(ISNUMBER($D$6),D964*$D$6,#REF!*D964)","v":0}]
[null,954,null,null,{"$f":"IF(ISNUMBER($D$6),D965*$D$6,#REF!*D965)","v":0}]
[null,955,null,null,{"$f":"IF(ISNUMBER($D$6),D966*$D$6,#REF!*D966)","v":0}]
[null,956,null,null,{"$f":"IF(ISNUMBER($D$6),D967*$D$6,#REF!*D967)","v":0}]
[null,957,null,null,{"$f":"IF(ISNUMBER($D$6),D968*$D$6,#REF!*D968)","v":0}]
[null,958,null,null,{"$f":"IF(ISNUMBER($D$6),D969*$D$6,#REF!*D969)","v":0}]
[null,959,null,null,{"$f":"IF(ISNUMBER($D$6),D970*$D$6,#REF!*D970)","v":0}]
[null,960,null,null,{"$f":"IF(ISNUMBER($D$6),D971*$D$6,#REF!*D971)","v":0}]
[null,961,null,null,{"$f":"IF(ISNUMBER($D$6),D972*$D$6,#REF!*D972)","v":0}]
[null,962,null,null,{"$f":"IF(ISNUMBER($D$6),D973*$D$6,#REF!*D973)","v":0}]
[null,963,null,null,{"$f":"IF(ISNUMBER($D$6),D974*$D$6,#REF!*D974)","v":0}]
[null,964,null,null,{"$f":"IF(ISNUMBER($D$6),D975*$D$6,#REF!*D975)","v":0}]
[null,965,null,null,{"$f":"IF(ISNUMBER($D$6),D976*$D$6,#REF!*D976)","v":0}]
[null,966,null,null,{"$f":"IF(ISNUMBER($D$6),D977*$D$6,#REF!*D977)","v":0}]
[null,967,null,null,{"$f":"IF(ISNUMBER($D$6),D978*$D$6,#REF!*D978)","v":0}]
[null,968,null,null,{"$f":"IF(ISNUMBER($D$6),D979*$D$6,#REF!*D979)","v":0}]
[null,{"$f":"+B979+1","v":969},null,null,{"$f":"IF(ISNUMBER($D$6),D980*$D$6,#REF!*D980)","v":0}]
[null,970,null,null,{"$f":"IF(ISNUMBER($D$6),D981*$D$6,#REF!*D981)","v":0}]
[null,971,null,null,{"$f":"IF(ISNUMBER($D$6),D982*$D$6,#REF!*D982)","v":0}]
[null,972,null,null,{"$f":"IF(ISNUMBER($D$6),D983*$D$6,#REF!*D983)","v":0}]
[null,973,null,null,{"$f":"IF(ISNUMBER($D$6),D984*$D$6,#REF!*D984)","v":0}]
[null,974,null,null,{"$f":"IF(ISNUMBER($D$6),D985*$D$6,#REF!*D985)","v":0}]
[null,975,null,null,{"$f":"IF(ISNUMBER($D$6),D986*$D$6,#REF!*D986)","v":0}]
[null,976,null,null,{"$f":"IF(ISNUMBER($D$6),D987*$D$6,#REF!*D987)","v":0}]
[null,977,null,null,{"$f":"IF(ISNUMBER($D$6),D988*$D$6,#REF!*D988)","v":0}]
[null,978,null,null,{"$f":"IF(ISNUMBER($D$6),D989*$D$6,#REF!*D989)","v":0}]
[null,979,null,null,{"$f":"IF(ISNUMBER($D$6),D990*$D$6,#REF!*D990)","v":0}]
[null,980,null,null,{"$f":"IF(ISNUMBER($D$6),D991*$D$6,#REF!*D991)","v":0}]
[null,981,null,null,{"$f":"IF(ISNUMBER($D$6),D992*$D$6,#REF!*D992)","v":0}]
[null,982,null,null,{"$f":"IF(ISNUMBER($D$6),D993*$D$6,#REF!*D993)","v":0}]
[null,983,null,null,{"$f":"IF(ISNUMBER($D$6),D994*$D$6,#REF!*D994)","v":0}]
[null,984,null,null,{"$f":"IF(ISNUMBER($D$6),D995*$D$6,#REF!*D995)","v":0}]
[null,985,null,null,{"$f":"IF(ISNUMBER($D$6),D996*$D$6,#REF!*D996)","v":0}]
[null,986,null,null,{"$f":"IF(ISNUMBER($D$6),D997*$D$6,#REF!*D997)","v":0}]
[null,987,null,null,{"$f":"IF(ISNUMBER($D$6),D998*$D$6,#REF!*D998)","v":0}]
[null,988,null,null,{"$f":"IF(ISNUMBER($D$6),D999*$D$6,#REF!*D999)","v":0}]
[null,989,null,null,{"$f":"IF(ISNUMBER($D$6),D1000*$D$6,#REF!*D1000)","v":0}]
[null,990,null,null,{"$f":"IF(ISNUMBER($D$6),D1001*$D$6,#REF!*D1001)","v":0}]
[null,991,null,null,{"$f":"IF(ISNUMBER($D$6),D1002*$D$6,#REF!*D1002)","v":0}]
[null,992,null,null,{"$f":"IF(ISNUMBER($D$6),D1003*$D$6,#REF!*D1003)","v":0}]
[null,993,null,null,{"$f":"IF(ISNUMBER($D$6),D1004*$D$6,#REF!*D1004)","v":0}]
[null,994,null,null,{"$f":"IF(ISNUMBER($D$6),D1005*$D$6,#REF!*D1005)","v":0}]
[null,995,null,null,{"$f":"IF(ISNUMBER($D$6),D1006*$D$6,#REF!*D1006)","v":0}]
[null,996,null,null,{"$f":"IF(ISNUMBER($D$6),D1007*$D$6,#REF!*D1007)","v":0}]
[null,997,null,null,{"$f":"IF(ISNUMBER($D$6),D1008*$D$6,#REF!*D1008)","v":0}]
[null,998,null,null,{"$f":"IF(ISNUMBER($D$6),D1009*$D$6,#REF!*D1009)","v":0}]
[null,999,null,null,{"$f":"IF(ISNUMBER($D$6),D1010*$D$6,#REF!*D1010)","v":0}]
[null,1000,null,null,{"$f":"IF(ISNUMBER($D$6),D1011*$D$6,#REF!*D1011)","v":0}]

{"sheet":"Pontos de Monitorização7","index":10,"n_rows":1011,"n_cols":5,"rows_kept":1011,"cut":false,"hidden":true,"merged":[[1,1,2,4],[4,1,4,2],[5,1,5,2],[7,1,7,2]]}
[]
[null,"SISTEMAS DE QUANTIFICAÇÃO, MONITORIZAÇÃO CONTÍNUA E GESTÃO DE ENERGIA"]
[]
[]
[null,"Identifique a fonte de energia:",null,{"$f":"+Economias!E91","v":0},"(t)"]
[null,"Fator de conversão:",null,{"$f":"+Economias!E94","v":0},{"$f":"\"tep/\"&$E$5&\"\"","v":"tep/(t)"}]
[]
[null,"Indique o número total de pontos a monitorizar:"]
[]
[]
[null,"número do ponto de monitorização","Identificação do ponto de monitorização",{"$f":"IF(D5=\"Energia elétrica\",\"Utilização anual de \"&$D$5&\" (kWh/ano)\",\"Utilização anual de \"&$D$5&\" (t/ano)\")","v":"Utilização anual de 0 (t/ano)"},"Consumo energético referente ao ano de referência (tep/ano)"]
[null,1,null,null,{"$f":"IF(ISNUMBER($D$6),D12*$D$6,#REF!*D12)","v":0}]
[null,{"$f":"+B12+1","v":2},null,null,{"$f":"IF(ISNUMBER($D$6),D13*$D$6,#REF!*D13)","v":0}]
[null,{"$f":"+B13+1","v":3},null,null,{"$f":"IF(ISNUMBER($D$6),D14*$D$6,#REF!*D14)","v":0}]
[null,4,null,null,{"$f":"IF(ISNUMBER($D$6),D15*$D$6,#REF!*D15)","v":0}]
[null,5,null,null,{"$f":"IF(ISNUMBER($D$6),D16*$D$6,#REF!*D16)","v":0}]
[null,6,null,null,{"$f":"IF(ISNUMBER($D$6),D17*$D$6,#REF!*D17)","v":0}]
[null,7,null,null,{"$f":"IF(ISNUMBER($D$6),D18*$D$6,#REF!*D18)","v":0}]
[null,8,null,null,{"$f":"IF(ISNUMBER($D$6),D19*$D$6,#REF!*D19)","v":0}]
[null,9,null,null,{"$f":"IF(ISNUMBER($D$6),D20*$D$6,#REF!*D20)","v":0}]
[null,10,null,null,{"$f":"IF(ISNUMBER($D$6),D21*$D$6,#REF!*D21)","v":0}]
[null,11,null,null,{"$f":"IF(ISNUMBER($D$6),D22*$D$6,#REF!*D22)","v":0}]
[null,12,null,null,{"$f":"IF(ISNUMBER($D$6),D23*$D$6,#REF!*D23)","v":0}]
[null,13,null,null,{"$f":"IF(ISNUMBER($D$6),D24*$D$6,#REF!*D24)","v":0}]
[null,14,null,null,{"$f":"IF(ISNUMBER($D$6),D25*$D$6,#REF!*D25)","v":0}]
[null,15,null,null,{"$f":"IF(ISNUMBER($D$6),D26*$D$6,#REF!*D26)","v":0}]
[null,16,null,null,{"$f":"IF(ISNUMBER($D$6),D27*$D$6,#REF!*D27)","v":0}]
[null,17,null,null,{"$f":"IF(ISNUMBER($D$6),D28*$D$6,#REF!*D28)","v":0}]
[null,18,null,null,{"$f":"IF(ISNUMBER($D$6),D29*$D$6,#REF!*D29)","v":0}]
[null,19,null,null,{"$f":"IF(ISNUMBER($D$6),D30*$D$6,#REF!*D30)","v":0}]
[null,20,null,null,{"$f":"IF(ISNUMBER($D$6),D31*$D$6,#REF!*D31)","v":0}]
[null,21,null,null,{"$f":"IF(ISNUMBER($D$6),D32*$D$6,#REF!*D32)","v":0}]
[null,22,null,null,{"$f":"IF(ISNUMBER($D$6),D33*$D$6,#REF!*D33)","v":0}]
[null,23,null,null,{"$f":"IF(ISNUMBER($D$6),D34*$D$6,#REF!*D34)","v":0}]
[null,24,null,null,{"$f":"IF(ISNUMBER($D$6),D35*$D$6,#REF!*D35)","v":0}]
[null,25,null,null,{"$f":"IF(ISNUMBER($D$6),D36*$D$6,#REF!*D36)","v":0}]
[null,26,null,null,{"$f":"IF(ISNUMBER($D$6),D37*$D$6,#REF!*D37)","v":0}]
[null,27,null,null,{"$f":"IF(ISNUMBER($D$6),D38*$D$6,#REF!*D38)","v":0}]
[null,28,null,null,{"$f":"IF(ISNUMBER($D$6),D39*$D$6,#REF!*D39)","v":0}]
[null,29,null,null,{"$f":"IF(ISNUMBER($D$6),D40*$D$6,#REF!*D40)","v":0}]
[null,30,null,null,{"$f":"IF(ISNUMBER($D$6),D41*$D$6,#REF!*D41)","v":0}]
[null,31,null,null,{"$f":"IF(ISNUMBER($D$6),D42*$D$6,#REF!*D42)","v":0}]
[null,32,null,null,{"$f":"IF(ISNUMBER($D$6),D43*$D$6,#REF!*D43)","v":0}]
[null,33,null,null,{"$f":"IF(ISNUMBER($D$6),D44*$D$6,#REF!*D44)","v":0}]
[null,34,null,null,{"$f":"IF(ISNUMBER($D$6),D45*$D$6,#REF!*D45)","v":0}]
[null,35,null,null,{"$f":"IF(ISNUMBER($D$6),D46*$D$6,#REF!*D46)","v":0}]
[null,36,null,null,{"$f":"IF(ISNUMBER($D$6),D47*$D$6,#REF!*D47)","v":0}]
[null,37,null,null,{"$f":"IF(ISNUMBER($D$6),D48*$D$6,#REF!*D48)","v":0}]
[null,38,null,null,{"$f":"IF(ISNUMBER($D$6),D49*$D$6,#REF!*D49)","v":0}]
[null,39,null,null,{"$f":"IF(ISNUMBER($D$6),D50*$D$6,#REF!*D50)","v":0}]
[null,40,null,null,{"$f":"IF(ISNUMBER($D$6),D51*$D$6,#REF!*D51)","v":0}]
[null,41,null,null,{"$f":"IF(ISNUMBER($D$6),D52*$D$6,#REF!*D52)","v":0}]
[null,42,null,null,{"$f":"IF(ISNUMBER($D$6),D53*$D$6,#REF!*D53)","v":0}]
[null,43,null,null,{"$f":"IF(ISNUMBER($D$6),D54*$D$6,#REF!*D54)","v":0}]
[null,44,null,null,{"$f":"IF(ISNUMBER($D$6),D55*$D$6,#REF!*D55)","v":0}]
[null,45,null,null,{"$f":"IF(ISNUMBER($D$6),D56*$D$6,#REF!*D56)","v":0}]
[null,46,null,null,{"$f":"IF(ISNUMBER($D$6),D57*$D$6,#REF!*D57)","v":0}]
[null,47,null,null,{"$f":"IF(ISNUMBER($D$6),D58*$D$6,#REF!*D58)","v":0}]
[null,48,null,null,{"$f":"IF(ISNUMBER($D$6),D59*$D$6,#REF!*D59)","v":0}]
[null,49,null,null,{"$f":"IF(ISNUMBER($D$6),D60*$D$6,#REF!*D60)","v":0}]
[null,50,null,null,{"$f":"IF(ISNUMBER($D$6),D61*$D$6,#REF!*D61)","v":0}]
[null,51,null,null,{"$f":"IF(ISNUMBER($D$6),D62*$D$6,#REF!*D62)","v":0}]
[null,52,null,null,{"$f":"IF(ISNUMBER($D$6),D63*$D$6,#REF!*D63)","v":0}]
[null,53,null,null,{"$f":"IF(ISNUMBER($D$6),D64*$D$6,#REF!*D64)","v":0}]
[null,54,null,null,{"$f":"IF(ISNUMBER($D$6),D65*$D$6,#REF!*D65)","v":0}]
[null,55,null,null,{"$f":"IF(ISNUMBER($D$6),D66*$D$6,#REF!*D66)","v":0}]
[null,56,null,null,{"$f":"IF(ISNUMBER($D$6),D67*$D$6,#REF!*D67)","v":0}]
[null,57,null,null,{"$f":"IF(ISNUMBER($D$6),D68*$D$6,#REF!*D68)","v":0}]
[null,58,null,null,{"$f":"IF(ISNUMBER($D$6),D69*$D$6,#REF!*D69)","v":0}]
[null,59,null,null,{"$f":"IF(ISNUMBER($D$6),D70*$D$6,#REF!*D70)","v":0}]
[null,60,null,null,{"$f":"IF(ISNUMBER($D$6),D71*$D$6,#REF!*D71)","v":0}]
[null,61,null,null,{"$f":"IF(ISNUMBER($D$6),D72*$D$6,#REF!*D72)","v":0}]
[null,62,null,null,{"$f":"IF(ISNUMBER($D$6),D73*$D$6,#REF!*D73)","v":0}]
[null,63,null,null,{"$f":"IF(ISNUMBER($D$6),D74*$D$6,#REF!*D74)","v":0}]
[null,64,null,null,{"$f":"IF(ISNUMBER($D$6),D75*$D$6,#REF!*D75)","v":0}]
[null,65,null,null,{"$f":"IF(ISNUMBER($D$6),D76*$D$6,#REF!*D76)","v":0}]
[null,66,null,null,{"$f":"IF(ISNUMBER($D$6),D77*$D$6,#REF!*D77)","v":0}]
[null,{"$f":"+B77+1","v":67},null,null,{"$f":"IF(ISNUMBER($D$6),D78*$D$6,#REF!*D78)","v":0}]
[null,68,null,null,{"$f":"IF(ISNUMBER($D$6),D79*$D$6,#REF!*D79)","v":0}]
[null,69,null,null,{"$f":"IF(ISNUMBER($D$6),D80*$D$6,#REF!*D80)","v":0}]
[null,70,null,null,{"$f":"IF(ISNUMBER($D$6),D81*$D$6,#REF!*D81)","v":0}]
[null,71,null,null,{"$f":"IF(ISNUMBER($D$6),D82*$D$6,#REF!*D82)","v":0}]
[null,72,null,null,{"$f":"IF(ISNUMBER($D$6),D83*$D$6,#REF!*D83)","v":0}]
[null,73,null,null,{"$f":"IF(ISNUMBER($D$6),D84*$D$6,#REF!*D84)","v":0}]
[null,74,null,null,{"$f":"IF(ISNUMBER($D$6),D85*$D$6,#REF!*D85)","v":0}]
[null,75,null,null,{"$f":"IF(ISNUMBER($D$6),D86*$D$6,#REF!*D86)","v":0}]
[null,76,null,null,{"$f":"IF(ISNUMBER($D$6),D87*$D$6,#REF!*D87)","v":0}]
[null,77,null,null,{"$f":"IF(ISNUMBER($D$6),D88*$D$6,#REF!*D88)","v":0}]
[null,78,null,null,{"$f":"IF(ISNUMBER($D$6),D89*$D$6,#REF!*D89)","v":0}]
[null,79,null,null,{"$f":"IF(ISNUMBER($D$6),D90*$D$6,#REF!*D90)","v":0}]
[null,80,null,null,{"$f":"IF(ISNUMBER($D$6),D91*$D$6,#REF!*D91)","v":0}]
[null,81,null,null,{"$f":"IF(ISNUMBER($D$6),D92*$D$6,#REF!*D92)","v":0}]
[null,82,null,null,{"$f":"IF(ISNUMBER($D$6),D93*$D$6,#REF!*D93)","v":0}]
[null,83,null,null,{"$f":"IF(ISNUMBER($D$6),D94*$D$6,#REF!*D94)","v":0}]
[null,84,null,null,{"$f":"IF(ISNUMBER($D$6),D95*$D$6,#REF!*D95)","v":0}]
[null,85,null,null,{"$f":"IF(ISNUMBER($D$6),D96*$D$6,#REF!*D96)","v":0}]
[null,86,null,null,{"$f":"IF(ISNUMBER($D$6),D97*$D$6,#REF!*D97)","v":0}]
[null,87,null,null,{"$f":"IF(ISNUMBER($D$6),D98*$D$6,#REF!*D98)","v":0}]
[null,88,null,null,{"$f":"IF(ISNUMBER($D$6),D99*$D$6,#REF!*D99)","v":0}]
[null,89,null,null,{"$f":"IF(ISNUMBER($D$6),D100*$D$6,#REF!*D100)","v":0}]
[null,90,null,null,{"$f":"IF(ISNUMBER($D$6),D101*$D$6,#REF!*D101)","v":0}]
[null,91,null,null,{"$f":"IF(ISNUMBER($D$6),D102*$D$6,#REF!*D102)","v":0}]
[null,92,null,null,{"$f":"IF(ISNUMBER($D$6),D103*$D$6,#REF!*D103)","v":0}]
[null,93,null,null,{"$f":"IF(ISNUMBER($D$6),D104*$D$6,#REF!*D104)","v":0}]
[null,94,null,null,{"$f":"IF(ISNUMBER($D$6),D105*$D$6,#REF!*D105)","v":0}]
[null,95,null,null,{"$f":"IF(ISNUMBER($D$6),D106*$D$6,#REF!*D106)","v":0}]
[null,96,null,null,{"$f":"IF(ISNUMBER($D$6),D107*$D$6,#REF!*D107)","v":0}]
[null,97,null,null,{"$f":"IF(ISNUMBER($D$6),D108*$D$6,#REF!*D108)","v":0}]
[null,98,null,null,{"$f":"IF(ISNUMBER($D$6),D109*$D$6,#REF!*D109)","v":0}]
[null,99,null,null,{"$f":"IF(ISNUMBER($D$6),D110*$D$6,#REF!*D110)","v":0}]
[null,100,null,null,{"$f":"IF(ISNUMBER($D$6),D111*$D$6,#REF!*D111)","v":0}]
[null,101,null,null,{"$f":"IF(ISNUMBER($D$6),D112*$D$6,#REF!*D112)","v":0}]
[null,102,null,null,{"$f":"IF(ISNUMBER($D$6),D113*$D$6,#REF!*D113)","v":0}]
[null,103,null,null,{"$f":"IF(ISNUMBER($D$6),D114*$D$6,#REF!*D114)","v":0}]
[null,104,null,null,{"$f":"IF(ISNUMBER($D$6),D115*$D$6,#REF!*D115)","v":0}]
[null,105,null,null,{"$f":"IF(ISNUMBER($D$6),D116*$D$6,#REF!*D116)","v":0}]
[null,106,null,null,{"$f":"IF(ISNUMBER($D$6),D117*$D$6,#REF!*D117)","v":0}]
[null,107,null,null,{"$f":"IF(ISNUMBER($D$6),D118*$D$6,#REF!*D118)","v":0}]
[null,108,null,null,{"$f":"IF(ISNUMBER($D$6),D119*$D$6,#REF!*D119)","v":0}]
[null,109,null,null,{"$f":"IF(ISNUMBER($D$6),D120*$D$6,#REF!*D120)","v":0}]
[null,110,null,null,{"$f":"IF(ISNUMBER($D$6),D121*$D$6,#REF!*D121)","v":0}]
[null,111,null,null,{"$f":"IF(ISNUMBER($D$6),D122*$D$6,#REF!*D122)","v":0}]
[null,112,null,null,{"$f":"IF(ISNUMBER($D$6),D123*$D$6,#REF!*D123)","v":0}]
[null,113,null,null,{"$f":"IF(ISNUMBER($D$6),D124*$D$6,#REF!*D124)","v":0}]
[null,114,null,null,{"$f":"IF(ISNUMBER($D$6),D125*$D$6,#REF!*D125)","v":0}]
[null,115,null,null,{"$f":"IF(ISNUMBER($D$6),D126*$D$6,#REF!*D126)","v":0}]
[null,116,null,null,{"$f":"IF(ISNUMBER($D$6),D127*$D$6,#REF!*D127)","v":0}]
[null,117,null,null,{"$f":"IF(ISNUMBER($D$6),D128*$D$6,#REF!*D128)","v":0}]
[null,118,null,null,{"$f":"IF(ISNUMBER($D$6),D129*$D$6,#REF!*D129)","v":0}]
[null,119,null,null,{"$f":"IF(ISNUMBER($D$6),D130*$D$6,#REF!*D130)","v":0}]
[null,120,null,null,{"$f":"IF(ISNUMBER($D$6),D131*$D$6,#REF!*D131)","v":0}]
[null,121,null,null,{"$f":"IF(ISNUMBER($D$6),D132*$D$6,#REF!*D132)","v":0}]
[null,122,null,null,{"$f":"IF(ISNUMBER($D$6),D133*$D$6,#REF!*D133)","v":0}]
[null,123,null,null,{"$f":"IF(ISNUMBER($D$6),D134*$D$6,#REF!*D134)","v":0}]
[null,124,null,null,{"$f":"IF(ISNUMBER($D$6),D135*$D$6,#REF!*D135)","v":0}]
[null,125,null,null,{"$f":"IF(ISNUMBER($D$6),D136*$D$6,#REF!*D136)","v":0}]
[null,126,null,null,{"$f":"IF(ISNUMBER($D$6),D137*$D$6,#REF!*D137)","v":0}]
[null,127,null,null,{"$f":"IF(ISNUMBER($D$6),D138*$D$6,#REF!*D138)","v":0}]
[null,128,null,null,{"$f":"IF(ISNUMBER($D$6),D139*$D$6,#REF!*D139)","v":0}]
[null,129,null,null,{"$f":"IF(ISNUMBER($D$6),D140*$D$6,#REF!*D140)","v":0}]
[null,130,null,null,{"$f":"IF(ISNUMBER($D$6),D141*$D$6,#REF!*D141)","v":0}]
[null,{"$f":"+B141+1","v":131},null,null,{"$f":"IF(ISNUMBER($D$6),D142*$D$6,#REF!*D142)","v":0}]
[null,132,null,null,{"$f":"IF(ISNUMBER($D$6),D143*$D$6,#REF!*D143)","v":0}]
[null,133,null,null,{"$f":"IF(ISNUMBER($D$6),D144*$D$6,#REF!*D144)","v":0}]
[null,134,null,null,{"$f":"IF(ISNUMBER($D$6),D145*$D$6,#REF!*D145)","v":0}]
[null,135,null,null,{"$f":"IF(ISNUMBER($D$6),D146*$D$6,#REF!*D146)","v":0}]
[null,136,null,null,{"$f":"IF(ISNUMBER($D$6),D147*$D$6,#REF!*D147)","v":0}]
[null,137,null,null,{"$f":"IF(ISNUMBER($D$6),D148*$D$6,#REF!*D148)","v":0}]
[null,138,null,null,{"$f":"IF(ISNUMBER($D$6),D149*$D$6,#REF!*D149)","v":0}]
[null,139,null,null,{"$f":"IF(ISNUMBER($D$6),D150*$D$6,#REF!*D150)","v":0}]
[null,140,null,null,{"$f":"IF(ISNUMBER($D$6),D151*$D$6,#REF!*D151)","v":0}]
[null,141,null,null,{"$f":"IF(ISNUMBER($D$6),D152*$D$6,#REF!*D152)","v":0}]
[null,142,null,null,{"$f":"IF(ISNUMBER($D$6),D153*$D$6,#REF!*D153)","v":0}]
[null,143,null,null,{"$f":"IF(ISNUMBER($D$6),D154*$D$6,#REF!*D154)","v":0}]
[null,144,null,null,{"$f":"IF(ISNUMBER($D$6),D155*$D$6,#REF!*D155)","v":0}]
[null,145,null,null,{"$f":"IF(ISNUMBER($D$6),D156*$D$6,#REF!*D156)","v":0}]
[null,146,null,null,{"$f":"IF(ISNUMBER($D$6),D157*$D$6,#REF!*D157)","v":0}]
[null,147,null,null,{"$f":"IF(ISNUMBER($D$6),D158*$D$6,#REF!*D158)","v":0}]
[null,148,null,null,{"$f":"IF(ISNUMBER($D$6),D159*$D$6,#REF!*D159)","v":0}]
[null,149,null,null,{"$f":"IF(ISNUMBER($D$6),D160*$D$6,#REF!*D160)","v":0}]
[null,150,null,null,{"$f":"IF(ISNUMBER($D$6),D161*$D$6,#REF!*D161)","v":0}]
[null,151,null,null,{"$f":"IF(ISNUMBER($D$6),D162*$D$6,#REF!*D162)","v":0}]
[null,152,null,null,{"$f":"IF(ISNUMBER($D$6),D163*$D$6,#REF!*D163)","v":0}]
[null,153,null,null,{"$f":"IF(ISNUMBER($D$6),D164*$D$6,#REF!*D164)","v":0}]
[null,154,null,null,{"$f":"IF(ISNUMBER($D$6),D165*$D$6,#REF!*D165)","v":0}]
[null,155,null,null,{"$f":"IF(ISNUMBER($D$6),D166*$D$6,#REF!*D166)","v":0}]
[null,156,null,null,{"$f":"IF(ISNUMBER($D$6),D167*$D$6,#REF!*D167)","v":0}]
[null,157,null,null,{"$f":"IF(ISNUMBER($D$6),D168*$D$6,#REF!*D168)","v":0}]
[null,158,null,null,{"$f":"IF(ISNUMBER($D$6),D169*$D$6,#REF!*D169)","v":0}]
[null,159,null,null,{"$f":"IF(ISNUMBER($D$6),D170*$D$6,#REF!*D170)","v":0}]
[null,160,null,null,{"$f":"IF(ISNUMBER($D$6),D171*$D$6,#REF!*D171)","v":0}]
[null,161,null,null,{"$f":"IF(ISNUMBER($D$6),D172*$D$6,#REF!*D172)","v":0}]
[null,162,null,null,{"$f":"IF(ISNUMBER($D$6),D173*$D$6,#REF!*D173)","v":0}]
[null,163,null,null,{"$f":"IF(ISNUMBER($D$6),D174*$D$6,#REF!*D174)","v":0}]
[null,164,null,null,{"$f":"IF(ISNUMBER($D$6),D175*$D$6,#REF!*D175)","v":0}]
[null,165,null,null,{"$f":"IF(ISNUMBER($D$6),D176*$D$6,#REF!*D176)","v":0}]
[null,166,null,null,{"$f":"IF(ISNUMBER($D$6),D177*$D$6,#REF!*D177)","v":0}]
[null,167,null,null,{"$f":"IF(ISNUMBER($D$6),D178*$D$6,#REF!*D178)","v":0}]
[null,168,null,null,{"$f":"IF(ISNUMBER($D$6),D179*$D$6,#REF!*D179)","v":0}]
[null,169,null,null,{"$f":"IF(ISNUMBER($D$6),D180*$D$6,#REF!*D180)","v":0}]
[null,170,null,null,{"$f":"IF(ISNUMBER($D$6),D181*$D$6,#REF!*D181)","v":0}]
[null,171,null,null,{"$f":"IF(ISNUMBER($D$6),D182*$D$6,#REF!*D182)","v":0}]
[null,172,null,null,{"$f":"IF(ISNUMBER($D$6),D183*$D$6,#REF!*D183)","v":0}]
[null,173,null,null,{"$f":"IF(ISNUMBER($D$6),D184*$D$6,#REF!*D184)","v":0}]
[null,174,null,null,{"$f":"IF(ISNUMBER($D$6),D185*$D$6,#REF!*D185)","v":0}]
[null,175,null,null,{"$f":"IF(ISNUMBER($D$6),D186*$D$6,#REF!*D186)","v":0}]
[null,176,null,null,{"$f":"IF(ISNUMBER($D$6),D187*$D$6,#REF!*D187)","v":0}]
[null,177,null,null,{"$f":"IF(ISNUMBER($D$6),D188*$D$6,#REF!*D188)","v":0}]
[null,178,null,null,{"$f":"IF(ISNUMBER($D$6),D189*$D$6,#REF!*D189)","v":0}]
[null,179,null,null,{"$f":"IF(ISNUMBER($D$6),D190*$D$6,#REF!*D190)","v":0}]
[null,180,null,null,{"$f":"IF(ISNUMBER($D$6),D191*$D$6,#REF!*D191)","v":0}]
[null,181,null,null,{"$f":"IF(ISNUMBER($D$6),D192*$D$6,#REF!*D192)","v":0}]
[null,182,null,null,{"$f":"IF(ISNUMBER($D$6),D193*$D$6,#REF!*D193)","v":0}]
[null,183,null,null,{"$f":"IF(ISNUMBER($D$6),D194*$D$6,#REF!*D194)","v":0}]
[null,184,null,null,{"$f":"IF(ISNUMBER($D$6),D195*$D$6,#REF!*D195)","v":0}]
[null,185,null,null,{"$f":"IF(ISNUMBER($D$6),D196*$D$6,#REF!*D196)","v":0}]
[null,186,null,null,{"$f":"IF(ISNUMBER($D$6),D197*$D$6,#REF!*D197)","v":0}]
[null,187,null,null,{"$f":"IF(ISNUMBER($D$6),D198*$D$6,#REF!*D198)","v":0}]
[null,188,null,null,{"$f":"IF(ISNUMBER($D$6),D199*$D$6,#REF!*D199)","v":0}]
[null,189,null,null,{"$f":"IF(ISNUMBER($D$6),D200*$D$6,#REF!*D200)","v":0}]
[null,190,null,null,{"$f":"IF(ISNUMBER($D$6),D201*$D$6,#REF!*D201)","v":0}]
[null,191,null,null,{"$f":"IF(ISNUMBER($D$6),D202*$D$6,#REF!*D202)","v":0}]
[null,192,null,null,{"$f":"IF(ISNUMBER($D$6),D203*$D$6,#REF!*D203)","v":0}]
[null,193,null,null,{"$f":"IF(ISNUMBER($D$6),D204*$D$6,#REF!*D204)","v":0}]
[null,194,null,null,{"$f":"IF(ISNUMBER($D$6),D205*$D$6,#REF!*D205)","v":0}]
[null,{"$f":"+B205+1","v":195},null,null,{"$f":"IF(ISNUMBER($D$6),D206*$D$6,#REF!*D206)","v":0}]
[null,196,null,null,{"$f":"IF(ISNUMBER($D$6),D207*$D$6,#REF!*D207)","v":0}]
[null,197,null,null,{"$f":"IF(ISNUMBER($D$6),D208*$D$6,#REF!*D208)","v":0}]
[null,198,null,null,{"$f":"IF(ISNUMBER($D$6),D209*$D$6,#REF!*D209)","v":0}]
[null,199,null,null,{"$f":"IF(ISNUMBER($D$6),D210*$D$6,#REF!*D210)","v":0}]
[null,200,null,null,{"$f":"IF(ISNUMBER($D$6),D211*$D$6,#REF!*D211)","v":0}]
[null,201,null,null,{"$f":"IF(ISNUMBER($D$6),D212*$D$6,#REF!*D212)","v":0}]
[null,202,null,null,{"$f":"IF(ISNUMBER($D$6),D213*$D$6,#REF!*D213)","v":0}]
[null,203,null,null,{"$f":"IF(ISNUMBER($D$6),D214*$D$6,#REF!*D214)","v":0}]
[null,204,null,null,{"$f":"IF(ISNUMBER($D$6),D215*$D$6,#REF!*D215)","v":0}]
[null,205,null,null,{"$f":"IF(ISNUMBER($D$6),D216*$D$6,#REF!*D216)","v":0}]
[null,206,null,null,{"$f":"IF(ISNUMBER($D$6),D217*$D$6,#REF!*D217)","v":0}]
[null,207,null,null,{"$f":"IF(ISNUMBER($D$6),D218*$D$6,#REF!*D218)","v":0}]
[null,208,null,null,{"$f":"IF(ISNUMBER($D$6),D219*$D$6,#REF!*D219)","v":0}]
[null,209,null,null,{"$f":"IF(ISNUMBER($D$6),D220*$D$6,#REF!*D220)","v":0}]
[null,210,null,null,{"$f":"IF(ISNUMBER($D$6),D221*$D$6,#REF!*D221)","v":0}]
[null,211,null,null,{"$f":"IF(ISNUMBER($D$6),D222*$D$6,#REF!*D222)","v":0}]
[null,212,null,null,{"$f":"IF(ISNUMBER($D$6),D223*$D$6,#REF!*D223)","v":0}]
[null,213,null,null,{"$f":"IF(ISNUMBER($D$6),D224*$D$6,#REF!*D224)","v":0}]
[null,214,null,null,{"$f":"IF(ISNUMBER($D$6),D225*$D$6,#REF!*D225)","v":0}]
[null,215,null,null,{"$f":"IF(ISNUMBER($D$6),D226*$D$6,#REF!*D226)","v":0}]
[null,216,null,null,{"$f":"IF(ISNUMBER($D$6),D227*$D$6,#REF!*D227)","v":0}]
[null,217,null,null,{"$f":"IF(ISNUMBER($D$6),D228*$D$6,#REF!*D228)","v":0}]
[null,218,null,null,{"$f":"IF(ISNUMBER($D$6),D229*$D$6,#REF!*D229)","v":0}]
[null,219,null,null,{"$f":"IF(ISNUMBER($D$6),D230*$D$6,#REF!*D230)","v":0}]
[null,220,null,null,{"$f":"IF(ISNUMBER($D$6),D231*$D$6,#REF!*D231)","v":0}]
[null,221,null,null,{"$f":"IF(ISNUMBER($D$6),D232*$D$6,#REF!*D232)","v":0}]
[null,222,null,null,{"$f":"IF(ISNUMBER($D$6),D233*$D$6,#REF!*D233)","v":0}]
[null,223,null,null,{"$f":"IF(ISNUMBER($D$6),D234*$D$6,#REF!*D234)","v":0}]
[null,224,null,null,{"$f":"IF(ISNUMBER($D$6),D235*$D$6,#REF!*D235)","v":0}]
[null,225,null,null,{"$f":"IF(ISNUMBER($D$6),D236*$D$6,#REF!*D236)","v":0}]
[null,226,null,null,{"$f":"IF(ISNUMBER($D$6),D237*$D$6,#REF!*D237)","v":0}]
[null,227,null,null,{"$f":"IF(ISNUMBER($D$6),D238*$D$6,#REF!*D238)","v":0}]
[null,228,null,null,{"$f":"IF(ISNUMBER($D$6),D239*$D$6,#REF!*D239)","v":0}]
[null,229,null,null,{"$f":"IF(ISNUMBER($D$6),D240*$D$6,#REF!*D240)","v":0}]
[null,230,null,null,{"$f":"IF(ISNUMBER($D$6),D241*$D$6,#REF!*D241)","v":0}]
[null,231,null,null,{"$f":"IF(ISNUMBER($D$6),D242*$D$6,#REF!*D242)","v":0}]
[null,232,null,null,{"$f":"IF(ISNUMBER($D$6),D243*$D$6,#REF!*D243)","v":0}]
[null,233,null,null,{"$f":"IF(ISNUMBER($D$6),D244*$D$6,#REF!*D244)","v":0}]
[null,234,null,null,{"$f":"IF(ISNUMBER($D$6),D245*$D$6,#REF!*D245)","v":0}]
[null,235,null,null,{"$f":"IF(ISNUMBER($D$6),D246*$D$6,#REF!*D246)","v":0}]
[null,236,null,null,{"$f":"IF(ISNUMBER($D$6),D247*$D$6,#REF!*D247)","v":0}]
[null,237,null,null,{"$f":"IF(ISNUMBER($D$6),D248*$D$6,#REF!*D248)","v":0}]
[null,238,null,null,{"$f":"IF(ISNUMBER($D$6),D249*$D$6,#REF!*D249)","v":0}]
[null,239,null,null,{"$f":"IF(ISNUMBER($D$6),D250*$D$6,#REF!*D250)","v":0}]
[null,240,null,null,{"$f":"IF(ISNUMBER($D$6),D251*$D$6,#REF!*D251)","v":0}]
[null,241,null,null,{"$f":"IF(ISNUMBER($D$6),D252*$D$6,#REF!*D252)","v":0}]
[null,242,null,null,{"$f":"IF(ISNUMBER($D$6),D253*$D$6,#REF!*D253)","v":0}]
[null,243,null,null,{"$f":"IF(ISNUMBER($D$6),D254*$D$6,#REF!*D254)","v":0}]
[null,244,null,null,{"$f":"IF(ISNUMBER($D$6),D255*$D$6,#REF!*D255)","v":0}]
[null,245,null,null,{"$f":"IF(ISNUMBER($D$6),D256*$D$6,#REF!*D256)","v":0}]
[null,246,null,null,{"$f":"IF(ISNUMBER($D$6),D257*$D$6,#REF!*D257)","v":0}]
[null,247,null,null,{"$f":"IF(ISNUMBER($D$6),D258*$D$6,#REF!*D258)","v":0}]
[null,248,null,null,{"$f":"IF(ISNUMBER($D$6),D259*$D$6,#REF!*D259)","v":0}]
[null,249,null,null,{"$f":"IF(ISNUMBER($D$6),D260*$D$6,#REF!*D260)","v":0}]
[null,250,null,null,{"$f":"IF(ISNUMBER($D$6),D261*$D$6,#REF!*D261)","v":0}]
[null,251,null,null,{"$f":"IF(ISNUMBER($D$6),D262*$D$6,#REF!*D262)","v":0}]
[null,252,null,null,{"$f":"IF(ISNUMBER($D$6),D263*$D$6,#REF!*D263)","v":0}]
[null,253,null,null,{"$f":"IF(ISNUMBER($D$6),D264*$D$6,#REF!*D264)","v":0}]
[null,254,null,null,{"$f":"IF(ISNUMBER($D$6),D265*$D$6,#REF!*D265)","v":0}]
[null,255,null,null,{"$f":"IF(ISNUMBER($D$6),D266*$D$6,#REF!*D266)","v":0}]
[null,256,null,null,{"$f":"IF(ISNUMBER($D$6),D267*$D$6,#REF!*D267)","v":0}]
[null,257,null,null,{"$f":"IF(ISNUMBER($D$6),D268*$D$6,#REF!*D268)","v":0}]
[null,258,null,null,{"$f":"IF(ISNUMBER($D$6),D269*$D$6,#REF!*D269)","v":0}]
[null,{"$f":"+B269+1","v":259},null,null,{"$f":"IF(ISNUMBER($D$6),D270*$D$6,#REF!*D270)","v":0}]
[null,260,null,null,{"$f":"IF(ISNUMBER($D$6),D271*$D$6,#REF!*D271)","v":0}]
[null,261,null,null,{"$f":"IF(ISNUMBER($D$6),D272*$D$6,#REF!*D272)","v":0}]
[null,262,null,null,{"$f":"IF(ISNUMBER($D$6),D273*$D$6,#REF!*D273)","v":0}]
[null,263,null,null,{"$f":"IF(ISNUMBER($D$6),D274*$D$6,#REF!*D274)","v":0}]
[null,264,null,null,{"$f":"IF(ISNUMBER($D$6),D275*$D$6,#REF!*D275)","v":0}]
[null,265,null,null,{"$f":"IF(ISNUMBER($D$6),D276*$D$6,#REF!*D276)","v":0}]
[null,266,null,null,{"$f":"IF(ISNUMBER($D$6),D277*$D$6,#REF!*D277)","v":0}]
[null,267,null,null,{"$f":"IF(ISNUMBER($D$6),D278*$D$6,#REF!*D278)","v":0}]
[null,268,null,null,{"$f":"IF(ISNUMBER($D$6),D279*$D$6,#REF!*D279)","v":0}]
[null,269,null,null,{"$f":"IF(ISNUMBER($D$6),D280*$D$6,#REF!*D280)","v":0}]
[null,270,null,null,{"$f":"IF(ISNUMBER($D$6),D281*$D$6,#REF!*D281)","v":0}]
[null,271,null,null,{"$f":"IF(ISNUMBER($D$6),D282*$D$6,#REF!*D282)","v":0}]
[null,272,null,null,{"$f":"IF(ISNUMBER($D$6),D283*$D$6,#REF!*D283)","v":0}]
[null,273,null,null,{"$f":"IF(ISNUMBER($D$6),D284*$D$6,#REF!*D284)","v":0}]
[null,274,null,null,{"$f":"IF(ISNUMBER($D$6),D285*$D$6,#REF!*D285)","v":0}]
[null,275,null,null,{"$f":"IF(ISNUMBER($D$6),D286*$D$6,#REF!*D286)","v":0}]
[null,276,null,null,{"$f":"IF(ISNUMBER($D$6),D287*$D$6,#REF!*D287)","v":0}]
[null,277,null,null,{"$f":"IF(ISNUMBER($D$6),D288*$D$6,#REF!*D288)","v":0}]
[null,278,null,null,{"$f":"IF(ISNUMBER($D$6),D289*$D$6,#REF!*D289)","v":0}]
[null,279,null,null,{"$f":"IF(ISNUMBER($D$6),D290*$D$6,#REF!*D290)","v":0}]
[null,280,null,null,{"$f":"IF(ISNUMBER($D$6),D291*$D$6,#REF!*D291)","v":0}]
[null,281,null,null,{"$f":"IF(ISNUMBER($D$6),D292*$D$6,#REF!*D292)","v":0}]
[null,282,null,null,{"$f":"IF(ISNUMBER($D$6),D293*$D$6,#REF!*D293)","v":0}]
[null,283,null,null,{"$f":"IF(ISNUMBER($D$6),D294*$D$6,#REF!*D294)","v":0}]
[null,284,null,null,{"$f":"IF(ISNUMBER($D$6),D295*$D$6,#REF!*D295)","v":0}]
[null,285,null,null,{"$f":"IF(ISNUMBER($D$6),D296*$D$6,#REF!*D296)","v":0}]
[null,286,null,null,{"$f":"IF(ISNUMBER($D$6),D297*$D$6,#REF!*D297)","v":0}]
[null,287,null,null,{"$f":"IF(ISNUMBER($D$6),D298*$D$6,#REF!*D298)","v":0}]
[null,288,null,null,{"$f":"IF(ISNUMBER($D$6),D299*$D$6,#REF!*D299)","v":0}]
[null,289,null,null,{"$f":"IF(ISNUMBER($D$6),D300*$D$6,#REF!*D300)","v":0}]
[null,290,null,null,{"$f":"IF(ISNUMBER($D$6),D301*$D$6,#REF!*D301)","v":0}]
[null,291,null,null,{"$f":"IF(ISNUMBER($D$6),D302*$D$6,#REF!*D302)","v":0}]
[null,292,null,null,{"$f":"IF(ISNUMBER($D$6),D303*$D$6,#REF!*D303)","v":0}]
[null,293,null,null,{"$f":"IF(ISNUMBER($D$6),D304*$D$6,#REF!*D304)","v":0}]
[null,294,null,null,{"$f":"IF(ISNUMBER($D$6),D305*$D$6,#REF!*D305)","v":0}]
[null,295,null,null,{"$f":"IF(ISNUMBER($D$6),D306*$D$6,#REF!*D306)","v":0}]
[null,296,null,null,{"$f":"IF(ISNUMBER($D$6),D307*$D$6,#REF!*D307)","v":0}]
[null,297,null,null,{"$f":"IF(ISNUMBER($D$6),D308*$D$6,#REF!*D308)","v":0}]
[null,298,null,null,{"$f":"IF(ISNUMBER($D$6),D309*$D$6,#REF!*D309)","v":0}]
[null,299,null,null,{"$f":"IF(ISNUMBER($D$6),D310*$D$6,#REF!*D310)","v":0}]
[null,300,null,null,{"$f":"IF(ISNUMBER($D$6),D311*$D$6,#REF!*D311)","v":0}]
[null,301,null,null,{"$f":"IF(ISNUMBER($D$6),D312*$D$6,#REF!*D312)","v":0}]
[null,302,null,null,{"$f":"IF(ISNUMBER($D$6),D313*$D$6,#REF!*D313)","v":0}]
[null,303,null,null,{"$f":"IF(ISNUMBER($D$6),D314*$D$6,#REF!*D314)","v":0}]
[null,304,null,null,{"$f":"IF(ISNUMBER($D$6),D315*$D$6,#REF!*D315)","v":0}]
[null,305,null,null,{"$f":"IF(ISNUMBER($D$6),D316*$D$6,#REF!*D316)","v":0}]
[null,306,null,null,{"$f":"IF(ISNUMBER($D$6),D317*$D$6,#REF!*D317)","v":0}]
[null,307,null,null,{"$f":"IF(ISNUMBER($D$6),D318*$D$6,#REF!*D318)","v":0}]
[null,308,null,null,{"$f":"IF(ISNUMBER($D$6),D319*$D$6,#REF!*D319)","v":0}]
[null,309,null,null,{"$f":"IF(ISNUMBER($D$6),D320*$D$6,#REF!*D320)","v":0}]
[null,310,null,null,{"$f":"IF(ISNUMBER($D$6),D321*$D$6,#REF!*D321)","v":0}]
[null,311,null,null,{"$f":"IF(ISNUMBER($D$6),D322*$D$6,#REF!*D322)","v":0}]
[null,312,null,null,{"$f":"IF(ISNUMBER($D$6),D323*$D$6,#REF!*D323)","v":0}]
[null,313,null,null,{"$f":"IF(ISNUMBER($D$6),D324*$D$6,#REF!*D324)","v":0}]
[null,314,null,null,{"$f":"IF(ISNUMBER($D$6),D325*$D$6,#REF!*D325)","v":0}]
[null,315,null,null,{"$f":"IF(ISNUMBER($D$6),D326*$D$6,#REF!*D326)","v":0}]
[null,316,null,null,{"$f":"IF(ISNUMBER($D$6),D327*$D$6,#REF!*D327)","v":0}]
[null,317,null,null,{"$f":"IF(ISNUMBER($D$6),D328*$D$6,#REF!*D328)","v":0}]
[null,318,null,null,{"$f":"IF(ISNUMBER($D$6),D329*$D$6,#REF!*D329)","v":0}]
[null,319,null,null,{"$f":"IF(ISNUMBER($D$6),D330*$D$6,#REF!*D330)","v":0}]
[null,320,null,null,{"$f":"IF(ISNUMBER($D$6),D331*$D$6,#REF!*D331)","v":0}]
[null,321,null,null,{"$f":"IF(ISNUMBER($D$6),D332*$D$6,#REF!*D332)","v":0}]
[null,322,null,null,{"$f":"IF(ISNUMBER($D$6),D333*$D$6,#REF!*D333)","v":0}]
[null,{"$f":"+B333+1","v":323},null,null,{"$f":"IF(ISNUMBER($D$6),D334*$D$6,#REF!*D334)","v":0}]
[null,324,null,null,{"$f":"IF(ISNUMBER($D$6),D335*$D$6,#REF!*D335)","v":0}]
[null,325,null,null,{"$f":"IF(ISNUMBER($D$6),D336*$D$6,#REF!*D336)","v":0}]
[null,326,null,null,{"$f":"IF(ISNUMBER($D$6),D337*$D$6,#REF!*D337)","v":0}]
[null,327,null,null,{"$f":"IF(ISNUMBER($D$6),D338*$D$6,#REF!*D338)","v":0}]
[null,328,null,null,{"$f":"IF(ISNUMBER($D$6),D339*$D$6,#REF!*D339)","v":0}]
[null,329,null,null,{"$f":"IF(ISNUMBER($D$6),D340*$D$6,#REF!*D340)","v":0}]
[null,330,null,null,{"$f":"IF(ISNUMBER($D$6),D341*$D$6,#REF!*D341)","v":0}]
[null,331,null,null,{"$f":"IF(ISNUMBER($D$6),D342*$D$6,#REF!*D342)","v":0}]
[null,332,null,null,{"$f":"IF(ISNUMBER($D$6),D343*$D$6,#REF!*D343)","v":0}]
[null,333,null,null,{"$f":"IF(ISNUMBER($D$6),D344*$D$6,#REF!*D344)","v":0}]
[null,334,null,null,{"$f":"IF(ISNUMBER($D$6),D345*$D$6,#REF!*D345)","v":0}]
[null,335,null,null,{"$f":"IF(ISNUMBER($D$6),D346*$D$6,#REF!*D346)","v":0}]
[null,336,null,null,{"$f":"IF(ISNUMBER($D$6),D347*$D$6,#REF!*D347)","v":0}]
[null,337,null,null,{"$f":"IF(ISNUMBER($D$6),D348*$D$6,#REF!*D348)","v":0}]
[null,338,null,null,{"$f":"IF(ISNUMBER($D$6),D349*$D$6,#REF!*D349)","v":0}]
[null,339,null,null,{"$f":"IF(ISNUMBER($D$6),D350*$D$6,#REF!*D350)","v":0}]
[null,340,null,null,{"$f":"IF(ISNUMBER($D$6),D351*$D$6,#REF!*D351)","v":0}]
[null,341,null,null,{"$f":"IF(ISNUMBER($D$6),D352*$D$6,#REF!*D352)","v":0}]
[null,342,null,null,{"$f":"IF(ISNUMBER($D$6),D353*$D$6,#REF!*D353)","v":0}]
[null,343,null,null,{"$f":"IF(ISNUMBER($D$6),D354*$D$6,#REF!*D354)","v":0}]
[null,344,null,null,{"$f":"IF(ISNUMBER($D$6),D355*$D$6,#REF!*D355)","v":0}]
[null,345,null,null,{"$f":"IF(ISNUMBER($D$6),D356*$D$6,#REF!*D356)","v":0}]
[null,346,null,null,{"$f":"IF(ISNUMBER($D$6),D357*$D$6,#REF!*D357)","v":0}]
[null,347,null,null,{"$f":"IF(ISNUMBER($D$6),D358*$D$6,#REF!*D358)","v":0}]
[null,348,null,null,{"$f":"IF(ISNUMBER($D$6),D359*$D$6,#REF!*D359)","v":0}]
[null,349,null,null,{"$f":"IF(ISNUMBER($D$6),D360*$D$6,#REF!*D360)","v":0}]
[null,350,null,null,{"$f":"IF(ISNUMBER($D$6),D361*$D$6,#REF!*D361)","v":0}]
[null,351,null,null,{"$f":"IF(ISNUMBER($D$6),D362*$D$6,#REF!*D362)","v":0}]
[null,352,null,null,{"$f":"IF(ISNUMBER($D$6),D363*$D$6,#REF!*D363)","v":0}]
[null,353,null,null,{"$f":"IF(ISNUMBER($D$6),D364*$D$6,#REF!*D364)","v":0}]
[null,354,null,null,{"$f":"IF(ISNUMBER($D$6),D365*$D$6,#REF!*D365)","v":0}]
[null,355,null,null,{"$f":"IF(ISNUMBER($D$6),D366*$D$6,#REF!*D366)","v":0}]
[null,356,null,null,{"$f":"IF(ISNUMBER($D$6),D367*$D$6,#REF!*D367)","v":0}]
[null,357,null,null,{"$f":"IF(ISNUMBER($D$6),D368*$D$6,#REF!*D368)","v":0}]
[null,358,null,null,{"$f":"IF(ISNUMBER($D$6),D369*$D$6,#REF!*D369)","v":0}]
[null,359,null,null,{"$f":"IF(ISNUMBER($D$6),D370*$D$6,#REF!*D370)","v":0}]
[null,360,null,null,{"$f":"IF(ISNUMBER($D$6),D371*$D$6,#REF!*D371)","v":0}]
[null,361,null,null,{"$f":"IF(ISNUMBER($D$6),D372*$D$6,#REF!*D372)","v":0}]
[null,362,null,null,{"$f":"IF(ISNUMBER($D$6),D373*$D$6,#REF!*D373)","v":0}]
[null,363,null,null,{"$f":"IF(ISNUMBER($D$6),D374*$D$6,#REF!*D374)","v":0}]
[null,364,null,null,{"$f":"IF(ISNUMBER($D$6),D375*$D$6,#REF!*D375)","v":0}]
[null,365,null,null,{"$f":"IF(ISNUMBER($D$6),D376*$D$6,#REF!*D376)","v":0}]
[null,366,null,null,{"$f":"IF(ISNUMBER($D$6),D377*$D$6,#REF!*D377)","v":0}]
[null,367,null,null,{"$f":"IF(ISNUMBER($D$6),D378*$D$6,#REF!*D378)","v":0}]
[null,368,null,null,{"$f":"IF(ISNUMBER($D$6),D379*$D$6,#REF!*D379)","v":0}]
[null,369,null,null,{"$f":"IF(ISNUMBER($D$6),D380*$D$6,#REF!*D380)","v":0}]
[null,370,null,null,{"$f":"IF(ISNUMBER($D$6),D381*$D$6,#REF!*D381)","v":0}]
[null,371,null,null,{"$f":"IF(ISNUMBER($D$6),D382*$D$6,#REF!*D382)","v":0}]
[null,372,null,null,{"$f":"IF(ISNUMBER($D$6),D383*$D$6,#REF!*D383)","v":0}]
[null,373,null,null,{"$f":"IF(ISNUMBER($D$6),D384*$D$6,#REF!*D384)","v":0}]
[null,374,null,null,{"$f":"IF(ISNUMBER($D$6),D385*$D$6,#REF!*D385)","v":0}]
[null,375,null,null,{"$f":"IF(ISNUMBER($D$6),D386*$D$6,#REF!*D386)","v":0}]
[null,376,null,null,{"$f":"IF(ISNUMBER($D$6),D387*$D$6,#REF!*D387)","v":0}]
[null,377,null,null,{"$f":"IF(ISNUMBER($D$6),D388*$D$6,#REF!*D388)","v":0}]
[null,378,null,null,{"$f":"IF(ISNUMBER($D$6),D389*$D$6,#REF!*D389)","v":0}]
[null,379,null,null,{"$f":"IF(ISNUMBER($D$6),D390*$D$6,#REF!*D390)","v":0}]
[null,380,null,null,{"$f":"IF(ISNUMBER($D$6),D391*$D$6,#REF!*D391)","v":0}]
[null,381,null,null,{"$f":"IF(ISNUMBER($D$6),D392*$D$6,#REF!*D392)","v":0}]
[null,382,null,null,{"$f":"IF(ISNUMBER($D$6),D393*$D$6,#REF!*D393)","v":0}]
[null,383,null,null,{"$f":"IF(ISNUMBER($D$6),D394*$D$6,#REF!*D394)","v":0}]
[null,384,null,null,{"$f":"IF(ISNUMBER($D$6),D395*$D$6,#REF!*D395)","v":0}]
[null,385,null,null,{"$f":"IF(ISNUMBER($D$6),D396*$D$6,#REF!*D396)","v":0}]
[null,386,null,null,{"$f":"IF(ISNUMBER($D$6),D397*$D$6,#REF!*D397)","v":0}]
[null,{"$f":"+B397+1","v":387},null,null,{"$f":"IF(ISNUMBER($D$6),D398*$D$6,#REF!*D398)","v":0}]
[null,388,null,null,{"$f":"IF(ISNUMBER($D$6),D399*$D$6,#REF!*D399)","v":0}]
[null,389,null,null,{"$f":"IF(ISNUMBER($D$6),D400*$D$6,#REF!*D400)","v":0}]
[null,390,null,null,{"$f":"IF(ISNUMBER($D$6),D401*$D$6,#REF!*D401)","v":0}]
[null,391,null,null,{"$f":"IF(ISNUMBER($D$6),D402*$D$6,#REF!*D402)","v":0}]
[null,392,null,null,{"$f":"IF(ISNUMBER($D$6),D403*$D$6,#REF!*D403)","v":0}]
[null,393,null,null,{"$f":"IF(ISNUMBER($D$6),D404*$D$6,#REF!*D404)","v":0}]
[null,394,null,null,{"$f":"IF(ISNUMBER($D$6),D405*$D$6,#REF!*D405)","v":0}]
[null,395,null,null,{"$f":"IF(ISNUMBER($D$6),D406*$D$6,#REF!*D406)","v":0}]
[null,396,null,null,{"$f":"IF(ISNUMBER($D$6),D407*$D$6,#REF!*D407)","v":0}]
[null,397,null,null,{"$f":"IF(ISNUMBER($D$6),D408*$D$6,#REF!*D408)","v":0}]
[null,398,null,null,{"$f":"IF(ISNUMBER($D$6),D409*$D$6,#REF!*D409)","v":0}]
[null,399,null,null,{"$f":"IF(ISNUMBER($D$6),D410*$D$6,#REF!*D410)","v":0}]
[null,400,null,null,{"$f":"IF(ISNUMBER($D$6),D411*$D$6,#REF!*D411)","v":0}]
[null,401,null,null,{"$f":"IF(ISNUMBER($D$6),D412*$D$6,#REF!*D412)","v":0}]
[null,402,null,null,{"$f":"IF(ISNUMBER($D$6),D413*$D$6,#REF!*D413)","v":0}]
[null,403,null,null,{"$f":"IF(ISNUMBER($D$6),D414*$D$6,#REF!*D414)","v":0}]
[null,404,null,null,{"$f":"IF(ISNUMBER($D$6),D415*$D$6,#REF!*D415)","v":0}]
[null,405,null,null,{"$f":"IF(ISNUMBER($D$6),D416*$D$6,#REF!*D416)","v":0}]
[null,406,null,null,{"$f":"IF(ISNUMBER($D$6),D417*$D$6,#REF!*D417)","v":0}]
[null,407,null,null,{"$f":"IF(ISNUMBER($D$6),D418*$D$6,#REF!*D418)","v":0}]
[null,408,null,null,{"$f":"IF(ISNUMBER($D$6),D419*$D$6,#REF!*D419)","v":0}]
[null,409,null,null,{"$f":"IF(ISNUMBER($D$6),D420*$D$6,#REF!*D420)","v":0}]
[null,410,null,null,{"$f":"IF(ISNUMBER($D$6),D421*$D$6,#REF!*D421)","v":0}]
[null,411,null,null,{"$f":"IF(ISNUMBER($D$6),D422*$D$6,#REF!*D422)","v":0}]
[null,412,null,null,{"$f":"IF(ISNUMBER($D$6),D423*$D$6,#REF!*D423)","v":0}]
[null,413,null,null,{"$f":"IF(ISNUMBER($D$6),D424*$D$6,#REF!*D424)","v":0}]
[null,414,null,null,{"$f":"IF(ISNUMBER($D$6),D425*$D$6,#REF!*D425)","v":0}]
[null,415,null,null,{"$f":"IF(ISNUMBER($D$6),D426*$D$6,#REF!*D426)","v":0}]
[null,416,null,null,{"$f":"IF(ISNUMBER($D$6),D427*$D$6,#REF!*D427)","v":0}]
[null,417,null,null,{"$f":"IF(ISNUMBER($D$6),D428*$D$6,#REF!*D428)","v":0}]
[null,418,null,null,{"$f":"IF(ISNUMBER($D$6),D429*$D$6,#REF!*D429)","v":0}]
[null,419,null,null,{"$f":"IF(ISNUMBER($D$6),D430*$D$6,#REF!*D430)","v":0}]
[null,420,null,null,{"$f":"IF(ISNUMBER($D$6),D431*$D$6,#REF!*D431)","v":0}]
[null,421,null,null,{"$f":"IF(ISNUMBER($D$6),D432*$D$6,#REF!*D432)","v":0}]
[null,422,null,null,{"$f":"IF(ISNUMBER($D$6),D433*$D$6,#REF!*D433)","v":0}]
[null,423,null,null,{"$f":"IF(ISNUMBER($D$6),D434*$D$6,#REF!*D434)","v":0}]
[null,424,null,null,{"$f":"IF(ISNUMBER($D$6),D435*$D$6,#REF!*D435)","v":0}]
[null,425,null,null,{"$f":"IF(ISNUMBER($D$6),D436*$D$6,#REF!*D436)","v":0}]
[null,426,null,null,{"$f":"IF(ISNUMBER($D$6),D437*$D$6,#REF!*D437)","v":0}]
[null,427,null,null,{"$f":"IF(ISNUMBER($D$6),D438*$D$6,#REF!*D438)","v":0}]
[null,428,null,null,{"$f":"IF(ISNUMBER($D$6),D439*$D$6,#REF!*D439)","v":0}]
[null,429,null,null,{"$f":"IF(ISNUMBER($D$6),D440*$D$6,#REF!*D440)","v":0}]
[null,430,null,null,{"$f":"IF(ISNUMBER($D$6),D441*$D$6,#REF!*D441)","v":0}]
[null,431,null,null,{"$f":"IF(ISNUMBER($D$6),D442*$D$6,#REF!*D442)","v":0}]
[null,432,null,null,{"$f":"IF(ISNUMBER($D$6),D443*$D$6,#REF!*D443)","v":0}]
[null,433,null,null,{"$f":"IF(ISNUMBER($D$6),D444*$D$6,#REF!*D444)","v":0}]
[null,434,null,null,{"$f":"IF(ISNUMBER($D$6),D445*$D$6,#REF!*D445)","v":0}]
[null,435,null,null,{"$f":"IF(ISNUMBER($D$6),D446*$D$6,#REF!*D446)","v":0}]
[null,436,null,null,{"$f":"IF(ISNUMBER($D$6),D447*$D$6,#REF!*D447)","v":0}]
[null,437,null,null,{"$f":"IF(ISNUMBER($D$6),D448*$D$6,#REF!*D448)","v":0}]
[null,438,null,null,{"$f":"IF(ISNUMBER($D$6),D449*$D$6,#REF!*D449)","v":0}]
[null,439,null,null,{"$f":"IF(ISNUMBER($D$6),D450*$D$6,#REF!*D450)","v":0}]
[null,440,null,null,{"$f":"IF(ISNUMBER($D$6),D451*$D$6,#REF!*D451)","v":0}]
[null,441,null,null,{"$f":"IF(ISNUMBER($D$6),D452*$D$6,#REF!*D452)","v":0}]
[null,442,null,null,{"$f":"IF(ISNUMBER($D$6),D453*$D$6,#REF!*D453)","v":0}]
[null,443,null,null,{"$f":"IF(ISNUMBER($D$6),D454*$D$6,#REF!*D454)","v":0}]
[null,444,null,null,{"$f":"IF(ISNUMBER($D$6),D455*$D$6,#REF!*D455)","v":0}]
[null,445,null,null,{"$f":"IF(ISNUMBER($D$6),D456*$D$6,#REF!*D456)","v":0}]
[null,446,null,null,{"$f":"IF(ISNUMBER($D$6),D457*$D$6,#REF!*D457)","v":0}]
[null,447,null,null,{"$f":"IF(ISNUMBER($D$6),D458*$D$6,#REF!*D458)","v":0}]
[null,448,null,null,{"$f":"IF(ISNUMBER($D$6),D459*$D$6,#REF!*D459)","v":0}]
[null,449,null,null,{"$f":"IF(ISNUMBER($D$6),D460*$D$6,#REF!*D460)","v":0}]
[null,450,null,null,{"$f":"IF(ISNUMBER($D$6),D461*$D$6,#REF!*D461)","v":0}]
[null,{"$f":"+B461+1","v":451},null,null,{"$f":"IF(ISNUMBER($D$6),D462*$D$6,#REF!*D462)","v":0}]
[null,452,null,null,{"$f":"IF(ISNUMBER($D$6),D463*$D$6,#REF!*D463)","v":0}]
[null,453,null,null,{"$f":"IF(ISNUMBER($D$6),D464*$D$6,#REF!*D464)","v":0}]
[null,454,null,null,{"$f":"IF(ISNUMBER($D$6),D465*$D$6,#REF!*D465)","v":0}]
[null,455,null,null,{"$f":"IF(ISNUMBER($D$6),D466*$D$6,#REF!*D466)","v":0}]
[null,456,null,null,{"$f":"IF(ISNUMBER($D$6),D467*$D$6,#REF!*D467)","v":0}]
[null,457,null,null,{"$f":"IF(ISNUMBER($D$6),D468*$D$6,#REF!*D468)","v":0}]
[null,458,null,null,{"$f":"IF(ISNUMBER($D$6),D469*$D$6,#REF!*D469)","v":0}]
[null,459,null,null,{"$f":"IF(ISNUMBER($D$6),D470*$D$6,#REF!*D470)","v":0}]
[null,460,null,null,{"$f":"IF(ISNUMBER($D$6),D471*$D$6,#REF!*D471)","v":0}]
[null,461,null,null,{"$f":"IF(ISNUMBER($D$6),D472*$D$6,#REF!*D472)","v":0}]
[null,462,null,null,{"$f":"IF(ISNUMBER($D$6),D473*$D$6,#REF!*D473)","v":0}]
[null,463,null,null,{"$f":"IF(ISNUMBER($D$6),D474*$D$6,#REF!*D474)","v":0}]
[null,464,null,null,{"$f":"IF(ISNUMBER($D$6),D475*$D$6,#REF!*D475)","v":0}]
[null,465,null,null,{"$f":"IF(ISNUMBER($D$6),D476*$D$6,#REF!*D476)","v":0}]
[null,466,null,null,{"$f":"IF(ISNUMBER($D$6),D477*$D$6,#REF!*D477)","v":0}]
[null,467,null,null,{"$f":"IF(ISNUMBER($D$6),D478*$D$6,#REF!*D478)","v":0}]
[null,468,null,null,{"$f":"IF(ISNUMBER($D$6),D479*$D$6,#REF!*D479)","v":0}]
[null,469,null,null,{"$f":"IF(ISNUMBER($D$6),D480*$D$6,#REF!*D480)","v":0}]
[null,470,null,null,{"$f":"IF(ISNUMBER($D$6),D481*$D$6,#REF!*D481)","v":0}]
[null,471,null,null,{"$f":"IF(ISNUMBER($D$6),D482*$D$6,#REF!*D482)","v":0}]
[null,472,null,null,{"$f":"IF(ISNUMBER($D$6),D483*$D$6,#REF!*D483)","v":0}]
[null,473,null,null,{"$f":"IF(ISNUMBER($D$6),D484*$D$6,#REF!*D484)","v":0}]
[null,474,null,null,{"$f":"IF(ISNUMBER($D$6),D485*$D$6,#REF!*D485)","v":0}]
[null,475,null,null,{"$f":"IF(ISNUMBER($D$6),D486*$D$6,#REF!*D486)","v":0}]
[null,476,null,null,{"$f":"IF(ISNUMBER($D$6),D487*$D$6,#REF!*D487)","v":0}]
[null,477,null,null,{"$f":"IF(ISNUMBER($D$6),D488*$D$6,#REF!*D488)","v":0}]
[null,478,null,null,{"$f":"IF(ISNUMBER($D$6),D489*$D$6,#REF!*D489)","v":0}]
[null,479,null,null,{"$f":"IF(ISNUMBER($D$6),D490*$D$6,#REF!*D490)","v":0}]
[null,480,null,null,{"$f":"IF(ISNUMBER($D$6),D491*$D$6,#REF!*D491)","v":0}]
[null,481,null,null,{"$f":"IF(ISNUMBER($D$6),D492*$D$6,#REF!*D492)","v":0}]
[null,482,null,null,{"$f":"IF(ISNUMBER($D$6),D493*$D$6,#REF!*D493)","v":0}]
[null,483,null,null,{"$f":"IF(ISNUMBER($D$6),D494*$D$6,#REF!*D494)","v":0}]
[null,484,null,null,{"$f":"IF(ISNUMBER($D$6),D495*$D$6,#REF!*D495)","v":0}]
[null,485,null,null,{"$f":"IF(ISNUMBER($D$6),D496*$D$6,#REF!*D496)","v":0}]
[null,486,null,null,{"$f":"IF(ISNUMBER($D$6),D497*$D$6,#REF!*D497)","v":0}]
[null,487,null,null,{"$f":"IF(ISNUMBER($D$6),D498*$D$6,#REF!*D498)","v":0}]
[null,488,null,null,{"$f":"IF(ISNUMBER($D$6),D499*$D$6,#REF!*D499)","v":0}]
[null,489,null,null,{"$f":"IF(ISNUMBER($D$6),D500*$D$6,#REF!*D500)","v":0}]
[null,490,null,null,{"$f":"IF(ISNUMBER($D$6),D501*$D$6,#REF!*D501)","v":0}]
[null,491,null,null,{"$f":"IF(ISNUMBER($D$6),D502*$D$6,#REF!*D502)","v":0}]
[null,492,null,null,{"$f":"IF(ISNUMBER($D$6),D503*$D$6,#REF!*D503)","v":0}]
[null,493,null,null,{"$f":"IF(ISNUMBER($D$6),D504*$D$6,#REF!*D504)","v":0}]
[null,494,null,null,{"$f":"IF(ISNUMBER($D$6),D505*$D$6,#REF!*D505)","v":0}]
[null,495,null,null,{"$f":"IF(ISNUMBER($D$6),D506*$D$6,#REF!*D506)","v":0}]
[null,496,null,null,{"$f":"IF(ISNUMBER($D$6),D507*$D$6,#REF!*D507)","v":0}]
[null,497,null,null,{"$f":"IF(ISNUMBER($D$6),D508*$D$6,#REF!*D508)","v":0}]
[null,498,null,null,{"$f":"IF(ISNUMBER($D$6),D509*$D$6,#REF!*D509)","v":0}]
[null,499,null,null,{"$f":"IF(ISNUMBER($D$6),D510*$D$6,#REF!*D510)","v":0}]
[null,500,null,null,{"$f":"IF(ISNUMBER($D$6),D511*$D$6,#REF!*D511)","v":0}]
[null,501,null,null,{"$f":"IF(ISNUMBER($D$6),D512*$D$6,#REF!*D512)","v":0}]
[null,502,null,null,{"$f":"IF(ISNUMBER($D$6),D513*$D$6,#REF!*D513)","v":0}]
[null,503,null,null,{"$f":"IF(ISNUMBER($D$6),D514*$D$6,#REF!*D514)","v":0}]
[null,504,null,null,{"$f":"IF(ISNUMBER($D$6),D515*$D$6,#REF!*D515)","v":0}]
[null,505,null,null,{"$f":"IF(ISNUMBER($D$6),D516*$D$6,#REF!*D516)","v":0}]
[null,506,null,null,{"$f":"IF(ISNUMBER($D$6),D517*$D$6,#REF!*D517)","v":0}]
[null,507,null,null,{"$f":"IF(ISNUMBER($D$6),D518*$D$6,#REF!*D518)","v":0}]
[null,508,null,null,{"$f":"IF(ISNUMBER($D$6),D519*$D$6,#REF!*D519)","v":0}]
[null,509,null,null,{"$f":"IF(ISNUMBER($D$6),D520*$D$6,#REF!*D520)","v":0}]
[null,510,null,null,{"$f":"IF(ISNUMBER($D$6),D521*$D$6,#REF!*D521)","v":0}]
[null,511,null,null,{"$f":"IF(ISNUMBER($D$6),D522*$D$6,#REF!*D522)","v":0}]
[null,512,null,null,{"$f":"IF(ISNUMBER($D$6),D523*$D$6,#REF!*D523)","v":0}]
[null,513,null,null,{"$f":"IF(ISNUMBER($D$6),D524*$D$6,#REF!*D524)","v":0}]
[null,514,null,null,{"$f":"IF(ISNUMBER($D$6),D525*$D$6,#REF!*D525)","v":0}]
[null,{"$f":"+B525+1","v":515},null,null,{"$f":"IF(ISNUMBER($D$6),D526*$D$6,#REF!*D526)","v":0}]
[null,516,null,null,{"$f":"IF(ISNUMBER($D$6),D527*$D$6,#REF!*D527)","v":0}]
[null,517,null,null,{"$f":"IF(ISNUMBER($D$6),D528*$D$6,#REF!*D528)","v":0}]
[null,518,null,null,{"$f":"IF(ISNUMBER($D$6),D529*$D$6,#REF!*D529)","v":0}]
[null,519,null,null,{"$f":"IF(ISNUMBER($D$6),D530*$D$6,#REF!*D530)","v":0}]
[null,520,null,null,{"$f":"IF(ISNUMBER($D$6),D531*$D$6,#REF!*D531)","v":0}]
[null,521,null,null,{"$f":"IF(ISNUMBER($D$6),D532*$D$6,#REF!*D532)","v":0}]
[null,522,null,null,{"$f":"IF(ISNUMBER($D$6),D533*$D$6,#REF!*D533)","v":0}]
[null,523,null,null,{"$f":"IF(ISNUMBER($D$6),D534*$D$6,#REF!*D534)","v":0}]
[null,524,null,null,{"$f":"IF(ISNUMBER($D$6),D535*$D$6,#REF!*D535)","v":0}]
[null,525,null,null,{"$f":"IF(ISNUMBER($D$6),D536*$D$6,#REF!*D536)","v":0}]
[null,526,null,null,{"$f":"IF(ISNUMBER($D$6),D537*$D$6,#REF!*D537)","v":0}]
[null,527,null,null,{"$f":"IF(ISNUMBER($D$6),D538*$D$6,#REF!*D538)","v":0}]
[null,528,null,null,{"$f":"IF(ISNUMBER($D$6),D539*$D$6,#REF!*D539)","v":0}]
[null,529,null,null,{"$f":"IF(ISNUMBER($D$6),D540*$D$6,#REF!*D540)","v":0}]
[null,530,null,null,{"$f":"IF(ISNUMBER($D$6),D541*$D$6,#REF!*D541)","v":0}]
[null,531,null,null,{"$f":"IF(ISNUMBER($D$6),D542*$D$6,#REF!*D542)","v":0}]
[null,532,null,null,{"$f":"IF(ISNUMBER($D$6),D543*$D$6,#REF!*D543)","v":0}]
[null,533,null,null,{"$f":"IF(ISNUMBER($D$6),D544*$D$6,#REF!*D544)","v":0}]
[null,534,null,null,{"$f":"IF(ISNUMBER($D$6),D545*$D$6,#REF!*D545)","v":0}]
[null,535,null,null,{"$f":"IF(ISNUMBER($D$6),D546*$D$6,#REF!*D546)","v":0}]
[null,536,null,null,{"$f":"IF(ISNUMBER($D$6),D547*$D$6,#REF!*D547)","v":0}]
[null,537,null,null,{"$f":"IF(ISNUMBER($D$6),D548*$D$6,#REF!*D548)","v":0}]
[null,538,null,null,{"$f":"IF(ISNUMBER($D$6),D549*$D$6,#REF!*D549)","v":0}]
[null,539,null,null,{"$f":"IF(ISNUMBER($D$6),D550*$D$6,#REF!*D550)","v":0}]
[null,540,null,null,{"$f":"IF(ISNUMBER($D$6),D551*$D$6,#REF!*D551)","v":0}]
[null,541,null,null,{"$f":"IF(ISNUMBER($D$6),D552*$D$6,#REF!*D552)","v":0}]
[null,542,null,null,{"$f":"IF(ISNUMBER($D$6),D553*$D$6,#REF!*D553)","v":0}]
[null,543,null,null,{"$f":"IF(ISNUMBER($D$6),D554*$D$6,#REF!*D554)","v":0}]
[null,544,null,null,{"$f":"IF(ISNUMBER($D$6),D555*$D$6,#REF!*D555)","v":0}]
[null,545,null,null,{"$f":"IF(ISNUMBER($D$6),D556*$D$6,#REF!*D556)","v":0}]
[null,546,null,null,{"$f":"IF(ISNUMBER($D$6),D557*$D$6,#REF!*D557)","v":0}]
[null,547,null,null,{"$f":"IF(ISNUMBER($D$6),D558*$D$6,#REF!*D558)","v":0}]
[null,548,null,null,{"$f":"IF(ISNUMBER($D$6),D559*$D$6,#REF!*D559)","v":0}]
[null,549,null,null,{"$f":"IF(ISNUMBER($D$6),D560*$D$6,#REF!*D560)","v":0}]
[null,550,null,null,{"$f":"IF(ISNUMBER($D$6),D561*$D$6,#REF!*D561)","v":0}]
[null,551,null,null,{"$f":"IF(ISNUMBER($D$6),D562*$D$6,#REF!*D562)","v":0}]
[null,552,null,null,{"$f":"IF(ISNUMBER($D$6),D563*$D$6,#REF!*D563)","v":0}]
[null,553,null,null,{"$f":"IF(ISNUMBER($D$6),D564*$D$6,#REF!*D564)","v":0}]
[null,554,null,null,{"$f":"IF(ISNUMBER($D$6),D565*$D$6,#REF!*D565)","v":0}]
[null,555,null,null,{"$f":"IF(ISNUMBER($D$6),D566*$D$6,#REF!*D566)","v":0}]
[null,556,null,null,{"$f":"IF(ISNUMBER($D$6),D567*$D$6,#REF!*D567)","v":0}]
[null,557,null,null,{"$f":"IF(ISNUMBER($D$6),D568*$D$6,#REF!*D568)","v":0}]
[null,558,null,null,{"$f":"IF(ISNUMBER($D$6),D569*$D$6,#REF!*D569)","v":0}]
[null,559,null,null,{"$f":"IF(ISNUMBER($D$6),D570*$D$6,#REF!*D570)","v":0}]
[null,560,null,null,{"$f":"IF(ISNUMBER($D$6),D571*$D$6,#REF!*D571)","v":0}]
[null,561,null,null,{"$f":"IF(ISNUMBER($D$6),D572*$D$6,#REF!*D572)","v":0}]
[null,562,null,null,{"$f":"IF(ISNUMBER($D$6),D573*$D$6,#REF!*D573)","v":0}]
[null,563,null,null,{"$f":"IF(ISNUMBER($D$6),D574*$D$6,#REF!*D574)","v":0}]
[null,564,null,null,{"$f":"IF(ISNUMBER($D$6),D575*$D$6,#REF!*D575)","v":0}]
[null,565,null,null,{"$f":"IF(ISNUMBER($D$6),D576*$D$6,#REF!*D576)","v":0}]
[null,566,null,null,{"$f":"IF(ISNUMBER($D$6),D577*$D$6,#REF!*D577)","v":0}]
[null,567,null,null,{"$f":"IF(ISNUMBER($D$6),D578*$D$6,#REF!*D578)","v":0}]
[null,568,null,null,{"$f":"IF(ISNUMBER($D$6),D579*$D$6,#REF!*D579)","v":0}]
[null,569,null,null,{"$f":"IF(ISNUMBER($D$6),D580*$D$6,#REF!*D580)","v":0}]
[null,570,null,null,{"$f":"IF(ISNUMBER($D$6),D581*$D$6,#REF!*D581)","v":0}]
[null,571,null,null,{"$f":"IF(ISNUMBER($D$6),D582*$D$6,#REF!*D582)","v":0}]
[null,572,null,null,{"$f":"IF(ISNUMBER($D$6),D583*$D$6,#REF!*D583)","v":0}]
[null,573,null,null,{"$f":"IF(ISNUMBER($D$6),D584*$D$6,#REF!*D584)","v":0}]
[null,574,null,null,{"$f":"IF(ISNUMBER($D$6),D585*$D$6,#REF!*D585)","v":0}]
[null,575,null,null,{"$f":"IF(ISNUMBER($D$6),D586*$D$6,#REF!*D586)","v":0}]
[null,576,null,null,{"$f":"IF(ISNUMBER($D$6),D587*$D$6,#REF!*D587)","v":0}]
[null,577,null,null,{"$f":"IF(ISNUMBER($D$6),D588*$D$6,#REF!*D588)","v":0}]
[null,578,null,null,{"$f":"IF(ISNUMBER($D$6),D589*$D$6,#REF!*D589)","v":0}]
[null,{"$f":"+B589+1","v":579},null,null,{"$f":"IF(ISNUMBER($D$6),D590*$D$6,#REF!*D590)","v":0}]
[null,580,null,null,{"$f":"IF(ISNUMBER($D$6),D591*$D$6,#REF!*D591)","v":0}]
[null,581,null,null,{"$f":"IF(ISNUMBER($D$6),D592*$D$6,#REF!*D592)","v":0}]
[null,582,null,null,{"$f":"IF(ISNUMBER($D$6),D593*$D$6,#REF!*D593)","v":0}]
[null,583,null,null,{"$f":"IF(ISNUMBER($D$6),D594*$D$6,#REF!*D594)","v":0}]
[null,584,null,null,{"$f":"IF(ISNUMBER($D$6),D595*$D$6,#REF!*D595)","v":0}]
[null,585,null,null,{"$f":"IF(ISNUMBER($D$6),D596*$D$6,#REF!*D596)","v":0}]
[null,586,null,null,{"$f":"IF(ISNUMBER($D$6),D597*$D$6,#REF!*D597)","v":0}]
[null,587,null,null,{"$f":"IF(ISNUMBER($D$6),D598*$D$6,#REF!*D598)","v":0}]
[null,588,null,null,{"$f":"IF(ISNUMBER($D$6),D599*$D$6,#REF!*D599)","v":0}]
[null,589,null,null,{"$f":"IF(ISNUMBER($D$6),D600*$D$6,#REF!*D600)","v":0}]
[null,590,null,null,{"$f":"IF(ISNUMBER($D$6),D601*$D$6,#REF!*D601)","v":0}]
[null,591,null,null,{"$f":"IF(ISNUMBER($D$6),D602*$D$6,#REF!*D602)","v":0}]
[null,592,null,null,{"$f":"IF(ISNUMBER($D$6),D603*$D$6,#REF!*D603)","v":0}]
[null,593,null,null,{"$f":"IF(ISNUMBER($D$6),D604*$D$6,#REF!*D604)","v":0}]
[null,594,null,null,{"$f":"IF(ISNUMBER($D$6),D605*$D$6,#REF!*D605)","v":0}]
[null,595,null,null,{"$f":"IF(ISNUMBER($D$6),D606*$D$6,#REF!*D606)","v":0}]
[null,596,null,null,{"$f":"IF(ISNUMBER($D$6),D607*$D$6,#REF!*D607)","v":0}]
[null,597,null,null,{"$f":"IF(ISNUMBER($D$6),D608*$D$6,#REF!*D608)","v":0}]
[null,598,null,null,{"$f":"IF(ISNUMBER($D$6),D609*$D$6,#REF!*D609)","v":0}]
[null,599,null,null,{"$f":"IF(ISNUMBER($D$6),D610*$D$6,#REF!*D610)","v":0}]
[null,600,null,null,{"$f":"IF(ISNUMBER($D$6),D611*$D$6,#REF!*D611)","v":0}]
[null,601,null,null,{"$f":"IF(ISNUMBER($D$6),D612*$D$6,#REF!*D612)","v":0}]
[null,602,null,null,{"$f":"IF(ISNUMBER($D$6),D613*$D$6,#REF!*D613)","v":0}]
[null,603,null,null,{"$f":"IF(ISNUMBER($D$6),D614*$D$6,#REF!*D614)","v":0}]
[null,604,null,null,{"$f":"IF(ISNUMBER($D$6),D615*$D$6,#REF!*D615)","v":0}]
[null,605,null,null,{"$f":"IF(ISNUMBER($D$6),D616*$D$6,#REF!*D616)","v":0}]
[null,606,null,null,{"$f":"IF(ISNUMBER($D$6),D617*$D$6,#REF!*D617)","v":0}]
[null,607,null,null,{"$f":"IF(ISNUMBER($D$6),D618*$D$6,#REF!*D618)","v":0}]
[null,608,null,null,{"$f":"IF(ISNUMBER($D$6),D619*$D$6,#REF!*D619)","v":0}]
[null,609,null,null,{"$f":"IF(ISNUMBER($D$6),D620*$D$6,#REF!*D620)","v":0}]
[null,610,null,null,{"$f":"IF(ISNUMBER($D$6),D621*$D$6,#REF!*D621)","v":0}]
[null,611,null,null,{"$f":"IF(ISNUMBER($D$6),D622*$D$6,#REF!*D622)","v":0}]
[null,612,null,null,{"$f":"IF(ISNUMBER($D$6),D623*$D$6,#REF!*D623)","v":0}]
[null,613,null,null,{"$f":"IF(ISNUMBER($D$6),D624*$D$6,#REF!*D624)","v":0}]
[null,614,null,null,{"$f":"IF(ISNUMBER($D$6),D625*$D$6,#REF!*D625)","v":0}]
[null,615,null,null,{"$f":"IF(ISNUMBER($D$6),D626*$D$6,#REF!*D626)","v":0}]
[null,616,null,null,{"$f":"IF(ISNUMBER($D$6),D627*$D$6,#REF!*D627)","v":0}]
[null,617,null,null,{"$f":"IF(ISNUMBER($D$6),D628*$D$6,#REF!*D628)","v":0}]
[null,618,null,null,{"$f":"IF(ISNUMBER($D$6),D629*$D$6,#REF!*D629)","v":0}]
[null,619,null,null,{"$f":"IF(ISNUMBER($D$6),D630*$D$6,#REF!*D630)","v":0}]
[null,620,null,null,{"$f":"IF(ISNUMBER($D$6),D631*$D$6,#REF!*D631)","v":0}]
[null,621,null,null,{"$f":"IF(ISNUMBER($D$6),D632*$D$6,#REF!*D632)","v":0}]
[null,622,null,null,{"$f":"IF(ISNUMBER($D$6),D633*$D$6,#REF!*D633)","v":0}]
[null,623,null,null,{"$f":"IF(ISNUMBER($D$6),D634*$D$6,#REF!*D634)","v":0}]
[null,624,null,null,{"$f":"IF(ISNUMBER($D$6),D635*$D$6,#REF!*D635)","v":0}]
[null,625,null,null,{"$f":"IF(ISNUMBER($D$6),D636*$D$6,#REF!*D636)","v":0}]
[null,626,null,null,{"$f":"IF(ISNUMBER($D$6),D637*$D$6,#REF!*D637)","v":0}]
[null,627,null,null,{"$f":"IF(ISNUMBER($D$6),D638*$D$6,#REF!*D638)","v":0}]
[null,628,null,null,{"$f":"IF(ISNUMBER($D$6),D639*$D$6,#REF!*D639)","v":0}]
[null,629,null,null,{"$f":"IF(ISNUMBER($D$6),D640*$D$6,#REF!*D640)","v":0}]
[null,630,null,null,{"$f":"IF(ISNUMBER($D$6),D641*$D$6,#REF!*D641)","v":0}]
[null,631,null,null,{"$f":"IF(ISNUMBER($D$6),D642*$D$6,#REF!*D642)","v":0}]
[null,632,null,null,{"$f":"IF(ISNUMBER($D$6),D643*$D$6,#REF!*D643)","v":0}]
[null,633,null,null,{"$f":"IF(ISNUMBER($D$6),D644*$D$6,#REF!*D644)","v":0}]
[null,634,null,null,{"$f":"IF(ISNUMBER($D$6),D645*$D$6,#REF!*D645)","v":0}]
[null,635,null,null,{"$f":"IF(ISNUMBER($D$6),D646*$D$6,#REF!*D646)","v":0}]
[null,636,null,null,{"$f":"IF(ISNUMBER($D$6),D647*$D$6,#REF!*D647)","v":0}]
[null,637,null,null,{"$f":"IF(ISNUMBER($D$6),D648*$D$6,#REF!*D648)","v":0}]
[null,638,null,null,{"$f":"IF(ISNUMBER($D$6),D649*$D$6,#REF!*D649)","v":0}]
[null,639,null,null,{"$f":"IF(ISNUMBER($D$6),D650*$D$6,#REF!*D650)","v":0}]
[null,640,null,null,{"$f":"IF(ISNUMBER($D$6),D651*$D$6,#REF!*D651)","v":0}]
[null,641,null,null,{"$f":"IF(ISNUMBER($D$6),D652*$D$6,#REF!*D652)","v":0}]
[null,642,null,null,{"$f":"IF(ISNUMBER($D$6),D653*$D$6,#REF!*D653)","v":0}]
[null,{"$f":"+B653+1","v":643},null,null,{"$f":"IF(ISNUMBER($D$6),D654*$D$6,#REF!*D654)","v":0}]
[null,644,null,null,{"$f":"IF(ISNUMBER($D$6),D655*$D$6,#REF!*D655)","v":0}]
[null,645,null,null,{"$f":"IF(ISNUMBER($D$6),D656*$D$6,#REF!*D656)","v":0}]
[null,646,null,null,{"$f":"IF(ISNUMBER($D$6),D657*$D$6,#REF!*D657)","v":0}]
[null,647,null,null,{"$f":"IF(ISNUMBER($D$6),D658*$D$6,#REF!*D658)","v":0}]
[null,648,null,null,{"$f":"IF(ISNUMBER($D$6),D659*$D$6,#REF!*D659)","v":0}]
[null,649,null,null,{"$f":"IF(ISNUMBER($D$6),D660*$D$6,#REF!*D660)","v":0}]
[null,650,null,null,{"$f":"IF(ISNUMBER($D$6),D661*$D$6,#REF!*D661)","v":0}]
[null,651,null,null,{"$f":"IF(ISNUMBER($D$6),D662*$D$6,#REF!*D662)","v":0}]
[null,652,null,null,{"$f":"IF(ISNUMBER($D$6),D663*$D$6,#REF!*D663)","v":0}]
[null,653,null,null,{"$f":"IF(ISNUMBER($D$6),D664*$D$6,#REF!*D664)","v":0}]
[null,654,null,null,{"$f":"IF(ISNUMBER($D$6),D665*$D$6,#REF!*D665)","v":0}]
[null,655,null,null,{"$f":"IF(ISNUMBER($D$6),D666*$D$6,#REF!*D666)","v":0}]
[null,656,null,null,{"$f":"IF(ISNUMBER($D$6),D667*$D$6,#REF!*D667)","v":0}]
[null,657,null,null,{"$f":"IF(ISNUMBER($D$6),D668*$D$6,#REF!*D668)","v":0}]
[null,658,null,null,{"$f":"IF(ISNUMBER($D$6),D669*$D$6,#REF!*D669)","v":0}]
[null,659,null,null,{"$f":"IF(ISNUMBER($D$6),D670*$D$6,#REF!*D670)","v":0}]
[null,660,null,null,{"$f":"IF(ISNUMBER($D$6),D671*$D$6,#REF!*D671)","v":0}]
[null,661,null,null,{"$f":"IF(ISNUMBER($D$6),D672*$D$6,#REF!*D672)","v":0}]
[null,662,null,null,{"$f":"IF(ISNUMBER($D$6),D673*$D$6,#REF!*D673)","v":0}]
[null,663,null,null,{"$f":"IF(ISNUMBER($D$6),D674*$D$6,#REF!*D674)","v":0}]
[null,664,null,null,{"$f":"IF(ISNUMBER($D$6),D675*$D$6,#REF!*D675)","v":0}]
[null,665,null,null,{"$f":"IF(ISNUMBER($D$6),D676*$D$6,#REF!*D676)","v":0}]
[null,666,null,null,{"$f":"IF(ISNUMBER($D$6),D677*$D$6,#REF!*D677)","v":0}]
[null,667,null,null,{"$f":"IF(ISNUMBER($D$6),D678*$D$6,#REF!*D678)","v":0}]
[null,668,null,null,{"$f":"IF(ISNUMBER($D$6),D679*$D$6,#REF!*D679)","v":0}]
[null,669,null,null,{"$f":"IF(ISNUMBER($D$6),D680*$D$6,#REF!*D680)","v":0}]
[null,670,null,null,{"$f":"IF(ISNUMBER($D$6),D681*$D$6,#REF!*D681)","v":0}]
[null,671,null,null,{"$f":"IF(ISNUMBER($D$6),D682*$D$6,#REF!*D682)","v":0}]
[null,672,null,null,{"$f":"IF(ISNUMBER($D$6),D683*$D$6,#REF!*D683)","v":0}]
[null,673,null,null,{"$f":"IF(ISNUMBER($D$6),D684*$D$6,#REF!*D684)","v":0}]
[null,674,null,null,{"$f":"IF(ISNUMBER($D$6),D685*$D$6,#REF!*D685)","v":0}]
[null,675,null,null,{"$f":"IF(ISNUMBER($D$6),D686*$D$6,#REF!*D686)","v":0}]
[null,676,null,null,{"$f":"IF(ISNUMBER($D$6),D687*$D$6,#REF!*D687)","v":0}]
[null,677,null,null,{"$f":"IF(ISNUMBER($D$6),D688*$D$6,#REF!*D688)","v":0}]
[null,678,null,null,{"$f":"IF(ISNUMBER($D$6),D689*$D$6,#REF!*D689)","v":0}]
[null,679,null,null,{"$f":"IF(ISNUMBER($D$6),D690*$D$6,#REF!*D690)","v":0}]
[null,680,null,null,{"$f":"IF(ISNUMBER($D$6),D691*$D$6,#REF!*D691)","v":0}]
[null,681,null,null,{"$f":"IF(ISNUMBER($D$6),D692*$D$6,#REF!*D692)","v":0}]
[null,682,null,null,{"$f":"IF(ISNUMBER($D$6),D693*$D$6,#REF!*D693)","v":0}]
[null,683,null,null,{"$f":"IF(ISNUMBER($D$6),D694*$D$6,#REF!*D694)","v":0}]
[null,684,null,null,{"$f":"IF(ISNUMBER($D$6),D695*$D$6,#REF!*D695)","v":0}]
[null,685,null,null,{"$f":"IF(ISNUMBER($D$6),D696*$D$6,#REF!*D696)","v":0}]
[null,686,null,null,{"$f":"IF(ISNUMBER($D$6),D697*$D$6,#REF!*D697)","v":0}]
[null,687,null,null,{"$f":"IF(ISNUMBER($D$6),D698*$D$6,#REF!*D698)","v":0}]
[null,688,null,null,{"$f":"IF(ISNUMBER($D$6),D699*$D$6,#REF!*D699)","v":0}]
[null,689,null,null,{"$f":"IF(ISNUMBER($D$6),D700*$D$6,#REF!*D700)","v":0}]
[null,690,null,null,{"$f":"IF(ISNUMBER($D$6),D701*$D$6,#REF!*D701)","v":0}]
[null,691,null,null,{"$f":"IF(ISNUMBER($D$6),D702*$D$6,#REF!*D702)","v":0}]
[null,692,null,null,{"$f":"IF(ISNUMBER($D$6),D703*$D$6,#REF!*D703)","v":0}]
[null,693,null,null,{"$f":"IF(ISNUMBER($D$6),D704*$D$6,#REF!*D704)","v":0}]
[null,694,null,null,{"$f":"IF(ISNUMBER($D$6),D705*$D$6,#REF!*D705)","v":0}]
[null,695,null,null,{"$f":"IF(ISNUMBER($D$6),D706*$D$6,#REF!*D706)","v":0}]
[null,696,null,null,{"$f":"IF(ISNUMBER($D$6),D707*$D$6,#REF!*D707)","v":0}]
[null,697,null,null,{"$f":"IF(ISNUMBER($D$6),D708*$D$6,#REF!*D708)","v":0}]
[null,698,null,null,{"$f":"IF(ISNUMBER($D$6),D709*$D$6,#REF!*D709)","v":0}]
[null,699,null,null,{"$f":"IF(ISNUMBER($D$6),D710*$D$6,#REF!*D710)","v":0}]
[null,700,null,null,{"$f":"IF(ISNUMBER($D$6),D711*$D$6,#REF!*D711)","v":0}]
[null,701,null,null,{"$f":"IF(ISNUMBER($D$6),D712*$D$6,#REF!*D712)","v":0}]
[null,702,null,null,{"$f":"IF(ISNUMBER($D$6),D713*$D$6,#REF!*D713)","v":0}]
[null,703,null,null,{"$f":"IF(ISNUMBER($D$6),D714*$D$6,#REF!*D714)","v":0}]
[null,704,null,null,{"$f":"IF(ISNUMBER($D$6),D715*$D$6,#REF!*D715)","v":0}]
[null,705,null,null,{"$f":"IF(ISNUMBER($D$6),D716*$D$6,#REF!*D716)","v":0}]
[null,706,null,null,{"$f":"IF(ISNUMBER($D$6),D717*$D$6,#REF!*D717)","v":0}]
[null,{"$f":"+B717+1","v":707},null,null,{"$f":"IF(ISNUMBER($D$6),D718*$D$6,#REF!*D718)","v":0}]
[null,708,null,null,{"$f":"IF(ISNUMBER($D$6),D719*$D$6,#REF!*D719)","v":0}]
[null,709,null,null,{"$f":"IF(ISNUMBER($D$6),D720*$D$6,#REF!*D720)","v":0}]
[null,710,null,null,{"$f":"IF(ISNUMBER($D$6),D721*$D$6,#REF!*D721)","v":0}]
[null,711,null,null,{"$f":"IF(ISNUMBER($D$6),D722*$D$6,#REF!*D722)","v":0}]
[null,712,null,null,{"$f":"IF(ISNUMBER($D$6),D723*$D$6,#REF!*D723)","v":0}]
[null,713,null,null,{"$f":"IF(ISNUMBER($D$6),D724*$D$6,#REF!*D724)","v":0}]
[null,714,null,null,{"$f":"IF(ISNUMBER($D$6),D725*$D$6,#REF!*D725)","v":0}]
[null,715,null,null,{"$f":"IF(ISNUMBER($D$6),D726*$D$6,#REF!*D726)","v":0}]
[null,716,null,null,{"$f":"IF(ISNUMBER($D$6),D727*$D$6,#REF!*D727)","v":0}]
[null,717,null,null,{"$f":"IF(ISNUMBER($D$6),D728*$D$6,#REF!*D728)","v":0}]
[null,718,null,null,{"$f":"IF(ISNUMBER($D$6),D729*$D$6,#REF!*D729)","v":0}]
[null,719,null,null,{"$f":"IF(ISNUMBER($D$6),D730*$D$6,#REF!*D730)","v":0}]
[null,720,null,null,{"$f":"IF(ISNUMBER($D$6),D731*$D$6,#REF!*D731)","v":0}]
[null,721,null,null,{"$f":"IF(ISNUMBER($D$6),D732*$D$6,#REF!*D732)","v":0}]
[null,722,null,null,{"$f":"IF(ISNUMBER($D$6),D733*$D$6,#REF!*D733)","v":0}]
[null,723,null,null,{"$f":"IF(ISNUMBER($D$6),D734*$D$6,#REF!*D734)","v":0}]
[null,724,null,null,{"$f":"IF(ISNUMBER($D$6),D735*$D$6,#REF!*D735)","v":0}]
[null,725,null,null,{"$f":"IF(ISNUMBER($D$6),D736*$D$6,#REF!*D736)","v":0}]
[null,726,null,null,{"$f":"IF(ISNUMBER($D$6),D737*$D$6,#REF!*D737)","v":0}]
[null,727,null,null,{"$f":"IF(ISNUMBER($D$6),D738*$D$6,#REF!*D738)","v":0}]
[null,728,null,null,{"$f":"IF(ISNUMBER($D$6),D739*$D$6,#REF!*D739)","v":0}]
[null,729,null,null,{"$f":"IF(ISNUMBER($D$6),D740*$D$6,#REF!*D740)","v":0}]
[null,730,null,null,{"$f":"IF(ISNUMBER($D$6),D741*$D$6,#REF!*D741)","v":0}]
[null,731,null,null,{"$f":"IF(ISNUMBER($D$6),D742*$D$6,#REF!*D742)","v":0}]
[null,732,null,null,{"$f":"IF(ISNUMBER($D$6),D743*$D$6,#REF!*D743)","v":0}]
[null,733,null,null,{"$f":"IF(ISNUMBER($D$6),D744*$D$6,#REF!*D744)","v":0}]
[null,734,null,null,{"$f":"IF(ISNUMBER($D$6),D745*$D$6,#REF!*D745)","v":0}]
[null,735,null,null,{"$f":"IF(ISNUMBER($D$6),D746*$D$6,#REF!*D746)","v":0}]
[null,736,null,null,{"$f":"IF(ISNUMBER($D$6),D747*$D$6,#REF!*D747)","v":0}]
[null,737,null,null,{"$f":"IF(ISNUMBER($D$6),D748*$D$6,#REF!*D748)","v":0}]
[null,738,null,null,{"$f":"IF(ISNUMBER($D$6),D749*$D$6,#REF!*D749)","v":0}]
[null,739,null,null,{"$f":"IF(ISNUMBER($D$6),D750*$D$6,#REF!*D750)","v":0}]
[null,740,null,null,{"$f":"IF(ISNUMBER($D$6),D751*$D$6,#REF!*D751)","v":0}]
[null,741,null,null,{"$f":"IF(ISNUMBER($D$6),D752*$D$6,#REF!*D752)","v":0}]
[null,742,null,null,{"$f":"IF(ISNUMBER($D$6),D753*$D$6,#REF!*D753)","v":0}]
[null,743,null,null,{"$f":"IF(ISNUMBER($D$6),D754*$D$6,#REF!*D754)","v":0}]
[null,744,null,null,{"$f":"IF(ISNUMBER($D$6),D755*$D$6,#REF!*D755)","v":0}]
[null,745,null,null,{"$f":"IF(ISNUMBER($D$6),D756*$D$6,#REF!*D756)","v":0}]
[null,746,null,null,{"$f":"IF(ISNUMBER($D$6),D757*$D$6,#REF!*D757)","v":0}]
[null,747,null,null,{"$f":"IF(ISNUMBER($D$6),D758*$D$6,#REF!*D758)","v":0}]
[null,748,null,null,{"$f":"IF(ISNUMBER($D$6),D759*$D$6,#REF!*D759)","v":0}]
[null,749,null,null,{"$f":"IF(ISNUMBER($D$6),D760*$D$6,#REF!*D760)","v":0}]
[null,750,null,null,{"$f":"IF(ISNUMBER($D$6),D761*$D$6,#REF!*D761)","v":0}]
[null,751,null,null,{"$f":"IF(ISNUMBER($D$6),D762*$D$6,#REF!*D762)","v":0}]
[null,752,null,null,{"$f":"IF(ISNUMBER($D$6),D763*$D$6,#REF!*D763)","v":0}]
[null,753,null,null,{"$f":"IF(ISNUMBER($D$6),D764*$D$6,#REF!*D764)","v":0}]
[null,754,null,null,{"$f":"IF(ISNUMBER($D$6),D765*$D$6,#REF!*D765)","v":0}]
[null,755,null,null,{"$f":"IF(ISNUMBER($D$6),D766*$D$6,#REF!*D766)","v":0}]
[null,756,null,null,{"$f":"IF(ISNUMBER($D$6),D767*$D$6,#REF!*D767)","v":0}]
[null,{"$f":"+B767+1","v":757},null,null,{"$f":"IF(ISNUMBER($D$6),D768*$D$6,#REF!*D768)","v":0}]
[null,{"$f":"+B768+1","v":758},null,null,{"$f":"IF(ISNUMBER($D$6),D769*$D$6,#REF!*D769)","v":0}]
[null,759,null,null,{"$f":"IF(ISNUMBER($D$6),D770*$D$6,#REF!*D770)","v":0}]
[null,760,null,null,{"$f":"IF(ISNUMBER($D$6),D771*$D$6,#REF!*D771)","v":0}]
[null,761,null,null,{"$f":"IF(ISNUMBER($D$6),D772*$D$6,#REF!*D772)","v":0}]
[null,762,null,null,{"$f":"IF(ISNUMBER($D$6),D773*$D$6,#REF!*D773)","v":0}]
[null,763,null,null,{"$f":"IF(ISNUMBER($D$6),D774*$D$6,#REF!*D774)","v":0}]
[null,764,null,null,{"$f":"IF(ISNUMBER($D$6),D775*$D$6,#REF!*D775)","v":0}]
[null,765,null,null,{"$f":"IF(ISNUMBER($D$6),D776*$D$6,#REF!*D776)","v":0}]
[null,766,null,null,{"$f":"IF(ISNUMBER($D$6),D777*$D$6,#REF!*D777)","v":0}]
[null,767,null,null,{"$f":"IF(ISNUMBER($D$6),D778*$D$6,#REF!*D778)","v":0}]
[null,768,null,null,{"$f":"IF(ISNUMBER($D$6),D779*$D$6,#REF!*D779)","v":0}]
[null,769,null,null,{"$f":"IF(ISNUMBER($D$6),D780*$D$6,#REF!*D780)","v":0}]
[null,770,null,null,{"$f":"IF(ISNUMBER($D$6),D781*$D$6,#REF!*D781)","v":0}]
[null,771,null,null,{"$f":"IF(ISNUMBER($D$6),D782*$D$6,#REF!*D782)","v":0}]
[null,772,null,null,{"$f":"IF(ISNUMBER($D$6),D783*$D$6,#REF!*D783)","v":0}]
[null,773,null,null,{"$f":"IF(ISNUMBER($D$6),D784*$D$6,#REF!*D784)","v":0}]
[null,774,null,null,{"$f":"IF(ISNUMBER($D$6),D785*$D$6,#REF!*D785)","v":0}]
[null,775,null,null,{"$f":"IF(ISNUMBER($D$6),D786*$D$6,#REF!*D786)","v":0}]
[null,{"$f":"+B786+1","v":776},null,null,{"$f":"IF(ISNUMBER($D$6),D787*$D$6,#REF!*D787)","v":0}]
[null,{"$f":"+B787+1","v":777},null,null,{"$f":"IF(ISNUMBER($D$6),D788*$D$6,#REF!*D788)","v":0}]
[null,778,null,null,{"$f":"IF(ISNUMBER($D$6),D789*$D$6,#REF!*D789)","v":0}]
[null,779,null,null,{"$f":"IF(ISNUMBER($D$6),D790*$D$6,#REF!*D790)","v":0}]
[null,780,null,null,{"$f":"IF(ISNUMBER($D$6),D791*$D$6,#REF!*D791)","v":0}]
[null,781,null,null,{"$f":"IF(ISNUMBER($D$6),D792*$D$6,#REF!*D792)","v":0}]
[null,782,null,null,{"$f":"IF(ISNUMBER($D$6),D793*$D$6,#REF!*D793)","v":0}]
[null,783,null,null,{"$f":"IF(ISNUMBER($D$6),D794*$D$6,#REF!*D794)","v":0}]
[null,784,null,null,{"$f":"IF(ISNUMBER($D$6),D795*$D$6,#REF!*D795)","v":0}]
[null,785,null,null,{"$f":"IF(ISNUMBER($D$6),D796*$D$6,#REF!*D796)","v":0}]
[null,786,null,null,{"$f":"IF(ISNUMBER($D$6),D797*$D$6,#REF!*D797)","v":0}]
[null,787,null,null,{"$f":"IF(ISNUMBER($D$6),D798*$D$6,#REF!*D798)","v":0}]
[null,788,null,null,{"$f":"IF(ISNUMBER($D$6),D799*$D$6,#REF!*D799)","v":0}]
[null,789,null,null,{"$f":"IF(ISNUMBER($D$6),D800*$D$6,#REF!*D800)","v":0}]
[null,790,null,null,{"$f":"IF(ISNUMBER($D$6),D801*$D$6,#REF!*D801)","v":0}]
[null,791,null,null,{"$f":"IF(ISNUMBER($D$6),D802*$D$6,#REF!*D802)","v":0}]
[null,792,null,null,{"$f":"IF(ISNUMBER($D$6),D803*$D$6,#REF!*D803)","v":0}]
[null,793,null,null,{"$f":"IF(ISNUMBER($D$6),D804*$D$6,#REF!*D804)","v":0}]
[null,794,null,null,{"$f":"IF(ISNUMBER($D$6),D805*$D$6,#REF!*D805)","v":0}]
[null,795,null,null,{"$f":"IF(ISNUMBER($D$6),D806*$D$6,#REF!*D806)","v":0}]
[null,796,null,null,{"$f":"IF(ISNUMBER($D$6),D807*$D$6,#REF!*D807)","v":0}]
[null,797,null,null,{"$f":"IF(ISNUMBER($D$6),D808*$D$6,#REF!*D808)","v":0}]
[null,798,null,null,{"$f":"IF(ISNUMBER($D$6),D809*$D$6,#REF!*D809)","v":0}]
[null,799,null,null,{"$f":"IF(ISNUMBER($D$6),D810*$D$6,#REF!*D810)","v":0}]
[null,800,null,null,{"$f":"IF(ISNUMBER($D$6),D811*$D$6,#REF!*D811)","v":0}]
[null,801,null,null,{"$f":"IF(ISNUMBER($D$6),D812*$D$6,#REF!*D812)","v":0}]
[null,802,null,null,{"$f":"IF(ISNUMBER($D$6),D813*$D$6,#REF!*D813)","v":0}]
[null,803,null,null,{"$f":"IF(ISNUMBER($D$6),D814*$D$6,#REF!*D814)","v":0}]
[null,804,null,null,{"$f":"IF(ISNUMBER($D$6),D815*$D$6,#REF!*D815)","v":0}]
[null,805,null,null,{"$f":"IF(ISNUMBER($D$6),D816*$D$6,#REF!*D816)","v":0}]
[null,806,null,null,{"$f":"IF(ISNUMBER($D$6),D817*$D$6,#REF!*D817)","v":0}]
[null,807,null,null,{"$f":"IF(ISNUMBER($D$6),D818*$D$6,#REF!*D818)","v":0}]
[null,808,null,null,{"$f":"IF(ISNUMBER($D$6),D819*$D$6,#REF!*D819)","v":0}]
[null,809,null,null,{"$f":"IF(ISNUMBER($D$6),D820*$D$6,#REF!*D820)","v":0}]
[null,810,null,null,{"$f":"IF(ISNUMBER($D$6),D821*$D$6,#REF!*D821)","v":0}]
[null,811,null,null,{"$f":"IF(ISNUMBER($D$6),D822*$D$6,#REF!*D822)","v":0}]
[null,812,null,null,{"$f":"IF(ISNUMBER($D$6),D823*$D$6,#REF!*D823)","v":0}]
[null,813,null,null,{"$f":"IF(ISNUMBER($D$6),D824*$D$6,#REF!*D824)","v":0}]
[null,814,null,null,{"$f":"IF(ISNUMBER($D$6),D825*$D$6,#REF!*D825)","v":0}]
[null,815,null,null,{"$f":"IF(ISNUMBER($D$6),D826*$D$6,#REF!*D826)","v":0}]
[null,816,null,null,{"$f":"IF(ISNUMBER($D$6),D827*$D$6,#REF!*D827)","v":0}]
[null,817,null,null,{"$f":"IF(ISNUMBER($D$6),D828*$D$6,#REF!*D828)","v":0}]
[null,818,null,null,{"$f":"IF(ISNUMBER($D$6),D829*$D$6,#REF!*D829)","v":0}]
[null,819,null,null,{"$f":"IF(ISNUMBER($D$6),D830*$D$6,#REF!*D830)","v":0}]
[null,820,null,null,{"$f":"IF(ISNUMBER($D$6),D831*$D$6,#REF!*D831)","v":0}]
[null,821,null,null,{"$f":"IF(ISNUMBER($D$6),D832*$D$6,#REF!*D832)","v":0}]
[null,822,null,null,{"$f":"IF(ISNUMBER($D$6),D833*$D$6,#REF!*D833)","v":0}]
[null,823,null,null,{"$f":"IF(ISNUMBER($D$6),D834*$D$6,#REF!*D834)","v":0}]
[null,824,null,null,{"$f":"IF(ISNUMBER($D$6),D835*$D$6,#REF!*D835)","v":0}]
[null,825,null,null,{"$f":"IF(ISNUMBER($D$6),D836*$D$6,#REF!*D836)","v":0}]
[null,826,null,null,{"$f":"IF(ISNUMBER($D$6),D837*$D$6,#REF!*D837)","v":0}]
[null,827,null,null,{"$f":"IF(ISNUMBER($D$6),D838*$D$6,#REF!*D838)","v":0}]
[null,828,null,null,{"$f":"IF(ISNUMBER($D$6),D839*$D$6,#REF!*D839)","v":0}]
[null,829,null,null,{"$f":"IF(ISNUMBER($D$6),D840*$D$6,#REF!*D840)","v":0}]
[null,830,null,null,{"$f":"IF(ISNUMBER($D$6),D841*$D$6,#REF!*D841)","v":0}]
[null,831,null,null,{"$f":"IF(ISNUMBER($D$6),D842*$D$6,#REF!*D842)","v":0}]
[null,832,null,null,{"$f":"IF(ISNUMBER($D$6),D843*$D$6,#REF!*D843)","v":0}]
[null,833,null,null,{"$f":"IF(ISNUMBER($D$6),D844*$D$6,#REF!*D844)","v":0}]
[null,834,null,null,{"$f":"IF(ISNUMBER($D$6),D845*$D$6,#REF!*D845)","v":0}]
[null,835,null,null,{"$f":"IF(ISNUMBER($D$6),D846*$D$6,#REF!*D846)","v":0}]
[null,836,null,null,{"$f":"IF(ISNUMBER($D$6),D847*$D$6,#REF!*D847)","v":0}]
[null,837,null,null,{"$f":"IF(ISNUMBER($D$6),D848*$D$6,#REF!*D848)","v":0}]
[null,838,null,null,{"$f":"IF(ISNUMBER($D$6),D849*$D$6,#REF!*D849)","v":0}]
[null,839,null,null,{"$f":"IF(ISNUMBER($D$6),D850*$D$6,#REF!*D850)","v":0}]
[null,840,null,null,{"$f":"IF(ISNUMBER($D$6),D851*$D$6,#REF!*D851)","v":0}]
[null,{"$f":"+B851+1","v":841},null,null,{"$f":"IF(ISNUMBER($D$6),D852*$D$6,#REF!*D852)","v":0}]
[null,842,null,null,{"$f":"IF(ISNUMBER($D$6),D853*$D$6,#REF!*D853)","v":0}]
[null,843,null,null,{"$f":"IF(ISNUMBER($D$6),D854*$D$6,#REF!*D854)","v":0}]
[null,844,null,null,{"$f":"IF(ISNUMBER($D$6),D855*$D$6,#REF!*D855)","v":0}]
[null,845,null,null,{"$f":"IF(ISNUMBER($D$6),D856*$D$6,#REF!*D856)","v":0}]
[null,846,null,null,{"$f":"IF(ISNUMBER($D$6),D857*$D$6,#REF!*D857)","v":0}]
[null,847,null,null,{"$f":"IF(ISNUMBER($D$6),D858*$D$6,#REF!*D858)","v":0}]
[null,848,null,null,{"$f":"IF(ISNUMBER($D$6),D859*$D$6,#REF!*D859)","v":0}]
[null,849,null,null,{"$f":"IF(ISNUMBER($D$6),D860*$D$6,#REF!*D860)","v":0}]
[null,850,null,null,{"$f":"IF(ISNUMBER($D$6),D861*$D$6,#REF!*D861)","v":0}]
[null,851,null,null,{"$f":"IF(ISNUMBER($D$6),D862*$D$6,#REF!*D862)","v":0}]
[null,852,null,null,{"$f":"IF(ISNUMBER($D$6),D863*$D$6,#REF!*D863)","v":0}]
[null,853,null,null,{"$f":"IF(ISNUMBER($D$6),D864*$D$6,#REF!*D864)","v":0}]
[null,854,null,null,{"$f":"IF(ISNUMBER($D$6),D865*$D$6,#REF!*D865)","v":0}]
[null,855,null,null,{"$f":"IF(ISNUMBER($D$6),D866*$D$6,#REF!*D866)","v":0}]
[null,856,null,null,{"$f":"IF(ISNUMBER($D$6),D867*$D$6,#REF!*D867)","v":0}]
[null,857,null,null,{"$f":"IF(ISNUMBER($D$6),D868*$D$6,#REF!*D868)","v":0}]
[null,858,null,null,{"$f":"IF(ISNUMBER($D$6),D869*$D$6,#REF!*D869)","v":0}]
[null,859,null,null,{"$f":"IF(ISNUMBER($D$6),D870*$D$6,#REF!*D870)","v":0}]
[null,860,null,null,{"$f":"IF(ISNUMBER($D$6),D871*$D$6,#REF!*D871)","v":0}]
[null,861,null,null,{"$f":"IF(ISNUMBER($D$6),D872*$D$6,#REF!*D872)","v":0}]
[null,862,null,null,{"$f":"IF(ISNUMBER($D$6),D873*$D$6,#REF!*D873)","v":0}]
[null,863,null,null,{"$f":"IF(ISNUMBER($D$6),D874*$D$6,#REF!*D874)","v":0}]
[null,864,null,null,{"$f":"IF(ISNUMBER($D$6),D875*$D$6,#REF!*D875)","v":0}]
[null,865,null,null,{"$f":"IF(ISNUMBER($D$6),D876*$D$6,#REF!*D876)","v":0}]
[null,866,null,null,{"$f":"IF(ISNUMBER($D$6),D877*$D$6,#REF!*D877)","v":0}]
[null,867,null,null,{"$f":"IF(ISNUMBER($D$6),D878*$D$6,#REF!*D878)","v":0}]
[null,868,null,null,{"$f":"IF(ISNUMBER($D$6),D879*$D$6,#REF!*D879)","v":0}]
[null,869,null,null,{"$f":"IF(ISNUMBER($D$6),D880*$D$6,#REF!*D880)","v":0}]
[null,870,null,null,{"$f":"IF(ISNUMBER($D$6),D881*$D$6,#REF!*D881)","v":0}]
[null,871,null,null,{"$f":"IF(ISNUMBER($D$6),D882*$D$6,#REF!*D882)","v":0}]
[null,872,null,null,{"$f":"IF(ISNUMBER($D$6),D883*$D$6,#REF!*D883)","v":0}]
[null,873,null,null,{"$f":"IF(ISNUMBER($D$6),D884*$D$6,#REF!*D884)","v":0}]
[null,874,null,null,{"$f":"IF(ISNUMBER($D$6),D885*$D$6,#REF!*D885)","v":0}]
[null,875,null,null,{"$f":"IF(ISNUMBER($D$6),D886*$D$6,#REF!*D886)","v":0}]
[null,876,null,null,{"$f":"IF(ISNUMBER($D$6),D887*$D$6,#REF!*D887)","v":0}]
[null,877,null,null,{"$f":"IF(ISNUMBER($D$6),D888*$D$6,#REF!*D888)","v":0}]
[null,878,null,null,{"$f":"IF(ISNUMBER($D$6),D889*$D$6,#REF!*D889)","v":0}]
[null,879,null,null,{"$f":"IF(ISNUMBER($D$6),D890*$D$6,#REF!*D890)","v":0}]
[null,880,null,null,{"$f":"IF(ISNUMBER($D$6),D891*$D$6,#REF!*D891)","v":0}]
[null,881,null,null,{"$f":"IF(ISNUMBER($D$6),D892*$D$6,#REF!*D892)","v":0}]
[null,882,null,null,{"$f":"IF(ISNUMBER($D$6),D893*$D$6,#REF!*D893)","v":0}]
[null,883,null,null,{"$f":"IF(ISNUMBER($D$6),D894*$D$6,#REF!*D894)","v":0}]
[null,884,null,null,{"$f":"IF(ISNUMBER($D$6),D895*$D$6,#REF!*D895)","v":0}]
[null,885,null,null,{"$f":"IF(ISNUMBER($D$6),D896*$D$6,#REF!*D896)","v":0}]
[null,886,null,null,{"$f":"IF(ISNUMBER($D$6),D897*$D$6,#REF!*D897)","v":0}]
[null,887,null,null,{"$f":"IF(ISNUMBER($D$6),D898*$D$6,#REF!*D898)","v":0}]
[null,888,null,null,{"$f":"IF(ISNUMBER($D$6),D899*$D$6,#REF!*D899)","v":0}]
[null,889,null,null,{"$f":"IF(ISNUMBER($D$6),D900*$D$6,#REF!*D900)","v":0}]
[null,890,null,null,{"$f":"IF(ISNUMBER($D$6),D901*$D$6,#REF!*D901)","v":0}]
[null,891,null,null,{"$f":"IF(ISNUMBER($D$6),D902*$D$6,#REF!*D902)","v":0}]
[null,892,null,null,{"$f":"IF(ISNUMBER($D$6),D903*$D$6,#REF!*D903)","v":0}]
[null,893,null,null,{"$f":"IF(ISNUMBER($D$6),D904*$D$6,#REF!*D904)","v":0}]
[null,894,null,null,{"$f":"IF(ISNUMBER($D$6),D905*$D$6,#REF!*D905)","v":0}]
[null,895,null,null,{"$f":"IF(ISNUMBER($D$6),D906*$D$6,#REF!*D906)","v":0}]
[null,896,null,null,{"$f":"IF(ISNUMBER($D$6),D907*$D$6,#REF!*D907)","v":0}]
[null,897,null,null,{"$f":"IF(ISNUMBER($D$6),D908*$D$6,#REF!*D908)","v":0}]
[null,898,null,null,{"$f":"IF(ISNUMBER($D$6),D909*$D$6,#REF!*D909)","v":0}]
[null,899,null,null,{"$f":"IF(ISNUMBER($D$6),D910*$D$6,#REF!*D910)","v":0}]
[null,900,null,null,{"$f":"IF(ISNUMBER($D$6),D911*$D$6,#REF!*D911)","v":0}]
[null,901,null,null,{"$f":"IF(ISNUMBER($D$6),D912*$D$6,#REF!*D912)","v":0}]
[null,902,null,null,{"$f":"IF(ISNUMBER($D$6),D913*$D$6,#REF!*D913)","v":0}]
[null,903,null,null,{"$f":"IF(ISNUMBER($D$6),D914*$D$6,#REF!*D914)","v":0}]
[null,904,null,null,{"$f":"IF(ISNUMBER($D$6),D915*$D$6,#REF!*D915)","v":0}]
[null,{"$f":"+B915+1","v":905},null,null,{"$f":"IF(ISNUMBER($D$6),D916*$D$6,#REF!*D916)","v":0}]
[null,906,null,null,{"$f":"IF(ISNUMBER($D$6),D917*$D$6,#REF!*D917)","v":0}]
[null,907,null,null,{"$f":"IF(ISNUMBER($D$6),D918*$D$6,#REF!*D918)","v":0}]
[null,908,null,null,{"$f":"IF(ISNUMBER($D$6),D919*$D$6,#REF!*D919)","v":0}]
[null,909,null,null,{"$f":"IF(ISNUMBER($D$6),D920*$D$6,#REF!*D920)","v":0}]
[null,910,null,null,{"$f":"IF(ISNUMBER($D$6),D921*$D$6,#REF!*D921)","v":0}]
[null,911,null,null,{"$f":"IF(ISNUMBER($D$6),D922*$D$6,#REF!*D922)","v":0}]
[null,912,null,null,{"$f":"IF(ISNUMBER($D$6),D923*$D$6,#REF!*D923)","v":0}]
[null,913,null,null,{"$f":"IF(ISNUMBER($D$6),D924*$D$6,#REF!*D924)","v":0}]
[null,914,null,null,{"$f":"IF(ISNUMBER($D$6),D925*$D$6,#REF!*D925)","v":0}]
[null,915,null,null,{"$f":"IF(ISNUMBER($D$6),D926*$D$6,#REF!*D926)","v":0}]
[null,916,null,null,{"$f":"IF(ISNUMBER($D$6),D927*$D$6,#REF!*D927)","v":0}]
[null,917,null,null,{"$f":"IF(ISNUMBER($D$6),D928*$D$6,#REF!*D928)","v":0}]
[null,918,null,null,{"$f":"IF(ISNUMBER($D$6),D929*$D$6,#REF!*D929)","v":0}]
[null,919,null,null,{"$f":"IF(ISNUMBER($D$6),D930*$D$6,#REF!*D930)","v":0}]
[null,920,null,null,{"$f":"IF(ISNUMBER($D$6),D931*$D$6,#REF!*D931)","v":0}]
[null,921,null,null,{"$f":"IF(ISNUMBER($D$6),D932*$D$6,#REF!*D932)","v":0}]
[null,922,null,null,{"$f":"IF(ISNUMBER($D$6),D933*$D$6,#REF!*D933)","v":0}]
[null,923,null,null,{"$f":"IF(ISNUMBER($D$6),D934*$D$6,#REF!*D934)","v":0}]
[null,924,null,null,{"$f":"IF(ISNUMBER($D$6),D935*$D$6,#REF!*D935)","v":0}]
[null,925,null,null,{"$f":"IF(ISNUMBER($D$6),D936*$D$6,#REF!*D936)","v":0}]
[null,926,null,null,{"$f":"IF(ISNUMBER($D$6),D937*$D$6,#REF!*D937)","v":0}]
[null,927,null,null,{"$f":"IF(ISNUMBER($D$6),D938*$D$6,#REF!*D938)","v":0}]
[null,928,null,null,{"$f":"IF(ISNUMBER($D$6),D939*$D$6,#REF!*D939)","v":0}]
[null,929,null,null,{"$f":"IF(ISNUMBER($D$6),D940*$D$6,#REF!*D940)","v":0}]
[null,930,null,null,{"$f":"IF(ISNUMBER($D$6),D941*$D$6,#REF!*D941)","v":0}]
[null,931,null,null,{"$f":"IF(ISNUMBER($D$6),D942*$D$6,#REF!*D942)","v":0}]
[null,932,null,null,{"$f":"IF(ISNUMBER($D$6),D943*$D$6,#REF!*D943)","v":0}]
[null,933,null,null,{"$f":"IF(ISNUMBER($D$6),D944*$D$6,#REF!*D944)","v":0}]
[null,934,null,null,{"$f":"IF(ISNUMBER($D$6),D945*$D$6,#REF!*D945)","v":0}]
[null,935,null,null,{"$f":"IF(ISNUMBER($D$6),D946*$D$6,#REF!*D946)","v":0}]
[null,936,null,null,{"$f":"IF(ISNUMBER($D$6),D947*$D$6,#REF!*D947)","v":0}]
[null,937,null,null,{"$f":"IF(ISNUMBER($D$6),D948*$D$6,#REF!*D948)","v":0}]
[null,938,null,null,{"$f":"IF(ISNUMBER($D$6),D949*$D$6,#REF!*D949)","v":0}]
[null,939,null,null,{"$f":"IF(ISNUMBER($D$6),D950*$D$6,#REF!*D950)","v":0}]
[null,940,null,null,{"$f":"IF(ISNUMBER($D$6),D951*$D$6,#REF!*D951)","v":0}]
[null,941,null,null,{"$f":"IF(ISNUMBER($D$6),D952*$D$6,#REF!*D952)","v":0}]
[null,942,null,null,{"$f":"IF(ISNUMBER($D$6),D953*$D$6,#REF!*D953)","v":0}]
[null,943,null,null,{"$f":"IF(ISNUMBER($D$6),D954*$D$6,#REF!*D954)","v":0}]
[null,944,null,null,{"$f":"IF(ISNUMBER($D$6),D955*$D$6,#REF!*D955)","v":0}]
[null,945,null,null,{"$f":"IF(ISNUMBER($D$6),D956*$D$6,#REF!*D956)","v":0}]
[null,946,null,null,{"$f":"IF(ISNUMBER($D$6),D957*$D$6,#REF!*D957)","v":0}]
[null,947,null,null,{"$f":"IF(ISNUMBER($D$6),D958*$D$6,#REF!*D958)","v":0}]
[null,948,null,null,{"$f":"IF(ISNUMBER($D$6),D959*$D$6,#REF!*D959)","v":0}]
[null,949,null,null,{"$f":"IF(ISNUMBER($D$6),D960*$D$6,#REF!*D960)","v":0}]
[null,950,null,null,{"$f":"IF(ISNUMBER($D$6),D961*$D$6,#REF!*D961)","v":0}]
[null,951,null,null,{"$f":"IF(ISNUMBER($D$6),D962*$D$6,#REF!*D962)","v":0}]
[null,952,null,null,{"$f":"IF(ISNUMBER($D$6),D963*$D$6,#REF!*D963)","v":0}]
[null,953,null,null,{"$f":"IF(ISNUMBER($D$6),D964*$D$6,#REF!*D964)","v":0}]
[null,954,null,null,{"$f":"IF(ISNUMBER($D$6),D965*$D$6,#REF!*D965)","v":0}]
[null,955,null,null,{"$f":"IF(ISNUMBER($D$6),D966*$D$6,#REF!*D966)","v":0}]
[null,956,null,null,{"$f":"IF(ISNUMBER($D$6),D967*$D$6,#REF!*D967)","v":0}]
[null,957,null,null,{"$f":"IF(ISNUMBER($D$6),D968*$D$6,#REF!*D968)","v":0}]
[null,958,null,null,{"$f":"IF(ISNUMBER($D$6),D969*$D$6,#REF!*D969)","v":0}]
[null,959,null,null,{"$f":"IF(ISNUMBER($D$6),D970*$D$6,#REF!*D970)","v":0}]
[null,960,null,null,{"$f":"IF(ISNUMBER($D$6),D971*$D$6,#REF!*D971)","v":0}]
[null,961,null,null,{"$f":"IF(ISNUMBER($D$6),D972*$D$6,#REF!*D972)","v":0}]
[null,962,null,null,{"$f":"IF(ISNUMBER($D$6),D973*$D$6,#REF!*D973)","v":0}]
[null,963,null,null,{"$f":"IF(ISNUMBER($D$6),D974*$D$6,#REF!*D974)","v":0}]
[null,964,null,null,{"$f":"IF(ISNUMBER($D$6),D975*$D$6,#REF!*D975)","v":0}]
[null,965,null,null,{"$f":"IF(ISNUMBER($D$6),D976*$D$6,#REF!*D976)","v":0}]
[null,966,null,null,{"$f":"IF(ISNUMBER($D$6),D977*$D$6,#REF!*D977)","v":0}]
[null,967,null,null,{"$f":"IF(ISNUMBER($D$6),D978*$D$6,#REF!*D978)","v":0}]
[null,968,null,null,{"$f":"IF(ISNUMBER($D$6),D979*$D$6,#REF!*D979)","v":0}]
[null,{"$f":"+B979+1","v":969},null,null,{"$f":"IF(ISNUMBER($D$6),D980*$D$6,#REF!*D980)","v":0}]
[null,970,null,null,{"$f":"IF(ISNUMBER($D$6),D981*$D$6,#REF!*D981)","v":0}]
[null,971,null,null,{"$f":"IF(ISNUMBER($D$6),D982*$D$6,#REF!*D982)","v":0}]
[null,972,null,null,{"$f":"IF(ISNUMBER($D$6),D983*$D$6,#REF!*D983)","v":0}]
[null,973,null,null,{"$f":"IF(ISNUMBER($D$6),D984*$D$6,#REF!*D984)","v":0}]
[null,974,null,null,{"$f":"IF(ISNUMBER($D$6),D985*$D$6,#REF!*D985)","v":0}]
[null,975,null,null,{"$f":"IF(ISNUMBER($D$6),D986*$D$6,#REF!*D986)","v":0}]
[null,976,null,null,{"$f":"IF(ISNUMBER($D$6),D987*$D$6,#REF!*D987)","v":0}]
[null,977,null,null,{"$f":"IF(ISNUMBER($D$6),D988*$D$6,#REF!*D988)","v":0}]
[null,978,null,null,{"$f":"IF(ISNUMBER($D$6),D989*$D$6,#REF!*D989)","v":0}]
[null,979,null,null,{"$f":"IF(ISNUMBER($D$6),D990*$D$6,#REF!*D990)","v":0}]
[null,980,null,null,{"$f":"IF(ISNUMBER($D$6),D991*$D$6,#REF!*D991)","v":0}]
[null,981,null,null,{"$f":"IF(ISNUMBER($D$6),D992*$D$6,#REF!*D992)","v":0}]
[null,982,null,null,{"$f":"IF(ISNUMBER($D$6),D993*$D$6,#REF!*D993)","v":0}]
[null,983,null,null,{"$f":"IF(ISNUMBER($D$6),D994*$D$6,#REF!*D994)","v":0}]
[null,984,null,null,{"$f":"IF(ISNUMBER($D$6),D995*$D$6,#REF!*D995)","v":0}]
[null,985,null,null,{"$f":"IF(ISNUMBER($D$6),D996*$D$6,#REF!*D996)","v":0}]
[null,986,null,null,{"$f":"IF(ISNUMBER($D$6),D997*$D$6,#REF!*D997)","v":0}]
[null,987,null,null,{"$f":"IF(ISNUMBER($D$6),D998*$D$6,#REF!*D998)","v":0}]
[null,988,null,null,{"$f":"IF(ISNUMBER($D$6),D999*$D$6,#REF!*D999)","v":0}]
[null,989,null,null,{"$f":"IF(ISNUMBER($D$6),D1000*$D$6,#REF!*D1000)","v":0}]
[null,990,null,null,{"$f":"IF(ISNUMBER($D$6),D1001*$D$6,#REF!*D1001)","v":0}]
[null,991,null,null,{"$f":"IF(ISNUMBER($D$6),D1002*$D$6,#REF!*D1002)","v":0}]
[null,992,null,null,{"$f":"IF(ISNUMBER($D$6),D1003*$D$6,#REF!*D1003)","v":0}]
[null,993,null,null,{"$f":"IF(ISNUMBER($D$6),D1004*$D$6,#REF!*D1004)","v":0}]
[null,994,null,null,{"$f":"IF(ISNUMBER($D$6),D1005*$D$6,#REF!*D1005)","v":0}]
[null,995,null,null,{"$f":"IF(ISNUMBER($D$6),D1006*$D$6,#REF!*D1006)","v":0}]
[null,996,null,null,{"$f":"IF(ISNUMBER($D$6),D1007*$D$6,#REF!*D1007)","v":0}]
[null,997,null,null,{"$f":"IF(ISNUMBER($D$6),D1008*$D$6,#REF!*D1008)","v":0}]
[null,998,null,null,{"$f":"IF(ISNUMBER($D$6),D1009*$D$6,#REF!*D1009)","v":0}]
[null,999,null,null,{"$f":"IF(ISNUMBER($D$6),D1010*$D$6,#REF!*D1010)","v":0}]
[null,1000,null,null,{"$f":"IF(ISNUMBER($D$6),D1011*$D$6,#REF!*D1011)","v":0}]